{"text_format":"3","workbook":"xlsx","n_sheets":16,"sheets":["21MBA221","21MBA221- Attainment","21MBA421","21MBA421-Attainment","21MBA521","21MBA521-Attainment","21MBA621","21MBA621-Attainment","21MBA321","21MBA321-Attainment","21MBA222","21MBA222-Attainment","21MBA121","21MBA121-Attainment","Final Attainment Level","CO Attainment for all Subjects"],"not_rendered":{"images":4,"defined_names":2},"read":"whole","date_system":"1900"}

{"sheet":"21MBA221","index":0,"n_rows":207,"n_cols":13,"rows_kept":207,"merged":[[0,0,0,12],[1,0,1,12],[2,0,2,12],[3,0,3,12],[4,0,4,12],[5,0,5,1],[5,8,5,10],[6,0,6,3],[7,3,7,8],[8,3,8,8],[9,2,9,10],[10,0,10,1],[10,2,10,6],[10,7,10,9],[11,0,11,1],[12,0,12,1],[13,0,13,1],[195,0,195,1],[196,0,196,1],[197,0,197,1],[198,0,198,1],[200,5,200,6],[200,7,200,8],[201,5,201,6],[202,5,202,6],[203,5,203,6],[204,5,204,6],[205,5,205,6],[206,5,206,6]]}
["RV Institute of Management"]
["Autonomous Institution Affiliated to BCU "]
["MBA Programme   II Semester"]
["Course Outcome Report"]
["Macro Economics"]
["Name of the Course Teacher:",{"$nulls":7},"Sub. Code:",null,null,"21MBA221"]
["Dr.Rashmi Shetty, Dr.Anupama K Malagi, Prof. Vidyadhar Hegde",{"$nulls":8},"Sec: ",null,"ABC"]
[{"$nulls":3},"Semester II"]
[{"$nulls":3},"Batch 2021-23"]
[]
[null,null,"Section A",{"$nulls":4},"Section B",null,null,"Sec-C"]
["Question number",null,1,2,3,4,5,6,7,8,9,"External Exam ","Mid Term Exam "]
["Course outcome",null,"CO1","CO2","CO3","CO1","CO3","CO1","CO2","CO3","CO1","Marks","Marks"]
["Maximum marks",null,5,5,5,5,5,5,5,10,10,50,50]
["Student Reg. No","Student Name",{"$f":"C14*0.64","v":3.2},{"$f":"D14*0.64","v":3.2},3.2,3.2,3.2,3.2,3.2,6.4,6.4,{"$f":"L14*0.357142","v":{"v":17.8571,"d":"18"}}]
["P18FW21M0001","VIPUL VILAS NAIK",3,null,null,4,5,7,4,null,7,34,{"$f":"SUM(C16:K16)","v":30}]
["P18FW21M0002","M PRANEETH KUMAR REDDY",4,null,null,2,5,6,null,3,9,29,{"$f":"SUM(C17:K17)","v":29}]
["P18FW21M0003","NIKHIL S ANJANALLI",4,null,null,4,5,9,null,7,10,36,39]
["P18FW21M0004","KARTHIK P SHETTY",4,null,null,3,3,6,5,null,null,30,21]
["P18FW21M0005","AMITH C",4,null,null,4,5,9,6,null,4,31,32]
["P18FW21M0006","AISHWARYA G",4,null,null,4,5,7,8,null,6,25,34]
["P18FW21M0007","AKANKSH P",5,null,null,3,4,8,7,null,11,33,38]
["P18FW21M0008","SACHITH B K",4,null,null,0,3,5,null,8,9,30,29]
["P18FW21M0009","CHAITANYA KAMATAGI B",4.5,null,null,3.5,5,9,null,9,10,39,41]
["P18FW21M0010","AKASH RACHAPPA KHANAGAVI",3,null,null,3,5,9,8,0,6,33,34]
["P18FW21M0011","SOURAV SADANAND SWAR",5,null,3,null,2,6,4,null,null,31,20]
["P18FW21M0012","NISHANTH KRISHNA",4,null,null,2,2,8,null,2,6,30,24]
["P18FW21M0013","MEHUL V BHASKAR",1,null,null,2,1,4,6,null,3,26,17]
["P18FW21M0014","SHUBHAM RAJENDRA REVANKAR",3,null,null,3,1,5,8,null,8,29,28]
["P18FW21M0015","SHETTY TRUPTHI CHANDRAHAS",4,null,null,4,2.5,8,8,null,10,37,{"v":36.5,"d":"37"}]
["P18FW21M0016","SHEEBAL M S",5,null,null,3,4,8,9,null,8,35,37]
["P18FW21M0017","VISHNU KUMAR",5,null,null,4,5,8,8,null,11,37,41]
["P18FW21M0018","HARSHITHA SRINIVAS",4,null,null,4,5,9,8,null,9,39,39]
["P18FW21M0019","SAGI SAMPI",4,null,null,4,5,9,8,null,6,37,36]
["P18FW21M0020","PAULOMEE BARUAH",4,null,null,2,5,9,8,null,9,30,37]
["P18FW21M0021","NEETHA KAMATH",4,null,null,3,5,6,4,null,5,34,27]
["P18FW21M0022","ADITYA UDAY HEGDE",3,null,null,2.5,2.5,7,4,0,8,35,27]
["P18FW21M0023","SHREYAS G A",4,1,null,1,5,7,4,8,1,35,31]
["P18FW21M0024","SRUJANA S",5,null,null,4,5,8,null,9,12,38,43]
["P18FW21M0025","PRAJWAL S N",2,2,null,3,5,7,6,4,7,35,36]
["P18FW21M0026","SUCHITRA G",2,null,null,4.5,2.5,7,4,2,2,34,24]
["P18FW21M0027","SANKET SURESH SHIRSAT",4,null,null,2,5,8,8,null,5,34,32]
["P18FW21M0028","ANIKET SANJAY REVANKAR",4,null,null,4,5,9,null,9,8,37,39]
["P18FW21M0029","AKHILA H",4,4,null,3,null,6,4,null,5,25,26]
["P18FW21M0030","M LUQMAN NAWAZ",3,2,null,3,5,6,5,6,6,38,36]
["P18FW21M0031","MADHURA A",3,null,null,4,4,7,8,0,8,39,34]
["P18FW21M0032","H V SHREEVATSA",2,null,null,3,1,5,5,null,5,31,21]
["P18FW21M0033","LILIMA DASH",4,null,null,3,1,5,6,null,7,32,26]
["P18FW21M0034","KUMAR ASHUTOSH",2,null,null,3,0,4,4,0,0,26,13]
["P18FW21M0035","RAHUL S SANGOLLI",3,null,null,3,2,5,8,null,6,25,27]
["P18FW21M0036","GIRISH N NASHI",4,null,null,2,5,9,8,null,3,33,31]
["P18FW21M0037","ANKITA GAJANAN NAIK",0,0,null,null,2.5,9,null,7,5,28,{"v":23.5,"d":"24"}]
["P18FW21M0038","GURUBASAVARAJ K M",3,null,null,3,5,5,6,null,7,34,29]
["P18FW21M0039","ANANYA P HEGDE",5,null,null,3,2,7,8,null,7,27,32]
["P18FW21M0040","NIVEDITHA K SWAMY",4,null,null,2,5,8,8,null,11,37,38]
["P18FW21M0041","LIKHITHA L",3,null,null,2,5,7,7,null,1,26,25]
["P18FW21M0042","RAHUL RAM BHAT",4,null,null,3,5,8,null,7,6,35,33]
["P18FW21M0043","AMIT KAMADOLLISHETTARU",3,null,null,4,5,8,8,null,7,32,35]
["P18FW21M0044","POOJARANI TALAWAR",1,null,null,4,5,8,null,7,4,29,29]
["P18FW21M0045","ABHITHA K",3,null,null,1,5,4,null,0,3,28,16]
["P18FW21M0046","S SHREYAS",4,null,null,2,2,null,2,5,6,25,21]
["P18FW21M0047","ABHISHEK SHENOY",3,null,null,0,2,8,7,null,7,29,27]
["P18FW21M0048","B S SUSHEN",4,null,null,5,5,8,9,null,9,35,40]
["P18FW21M0049","PRAJWALA H",5,null,null,4,1,9,7,null,8,35,34]
["P18FW21M0050","VAISHNAVI N",5,null,null,4,5,7,null,9,13,39,43]
["P18FW21M0051","DEEPAK GIRISH KALYANI",3,null,null,4,3,5,5,null,5,36,25]
["P18FW21M0052","ISAAC JESSE K",4,null,0,null,2,4,5,null,3,15,18]
["P18FW21M0053","SUPRIYA GOVIND BELSARE",4,null,null,4,5,8,null,10,7,31,38]
["P18FW21M0054","VINAYAK RAO GAIKWAD K",0,null,null,4,1,6,0,null,3,24,14]
["P18FW21M0055","SUTOPA DEB",4,2,null,4,null,8,null,0,6,36,24]
["P18FW21M0056","M S SUKRUT",4,null,null,3,1,6,6,null,6,"AB",26]
["P18FW21M0057","BHASKARA PRABHU",2,null,null,2,5,8,8,null,3,31,28]
["P18FW21M0058","PRAKASH SHIVAKUMAR",3,null,null,3,5,6,4,null,3,31,24]
["P18FW21M0059","AMOGHA Y G",4,null,null,3,1,4,3,null,6,28,21]
["P18FW21M0060","BHARATH K S",4,3,null,3,2,5,null,0,8,27,25]
["P18FW21M0061","AKANKSH K G",2,null,null,1,5,4,null,4,12,31,28]
["P18FW21M0062","BERNARD FERNANDES",4,null,null,0,4,7,7,null,1,28,23]
["P18FW21M0063","AISHWARYA P",4,null,null,3,2,6,7,null,4,25,26]
["P18FW21M0064","VIOLA PINTO",4,null,null,2,2,5,5,null,6,33,24]
["P18FW21M0065","VARSHA",4,null,null,3,5,null,8,9,5,33,34]
["P18FW21M0066","CHIDRI BALAJI",4,null,null,3,2,8,6,null,10,34,{"$f":"SUM(C81:K81)","v":33}]
["P18FW21M0067","GAGANDEEP V N",3,null,null,3,5,3,3,null,5,30,22]
["P18FW21M0068","PRAJWALA",4.5,null,null,4,5,9,null,7,8,37,{"v":37.5,"d":"38"}]
["P18FW21M0069","POORNIMA L",4.5,null,4,null,5,9,null,8,6,32,{"v":36.5,"d":"37"}]
["P18FW21M0070","SHUBIKSHA S",3,3,null,4,0,4,5,null,4,33,23]
["P18FW21M0071","ANUSHA",3,0,null,1,0,4,1,9,6,26,24]
["P18FW21M0072","P T KIRTI",4,null,null,4,5,6,0,null,8,29,27]
["P18FW21M0073","SAMEEKSHA M P",4.5,null,4,null,5,null,8,10,13,34,{"v":44.5,"d":"45"}]
["P18FW21M0074","KAVYAPRIYA J",3,null,null,2,5,7,8,null,10,33,35]
["P18FW21M0075","RAKSHITH R T",4,null,null,2,5,null,8,7,10,32,36]
["P18FW21M0076","SHUBHA R",4,null,null,4,5,8,null,9,13,34,43]
["P18FW21M0077","BASAVARAJ",4,null,null,4,0,6,5,null,9,29,28]
["P18FW21M0078","MANOJ RAKSHATH B S",2,null,null,3,5,0,0,null,7,27,17]
["P18FW21M0079","ADITI RANI",4,null,null,4,5,8,null,10,10,32,41]
["P18FW21M0080","DIVYA SHREE M",5,null,null,4,3,9,6,0,8,35,35]
["P18FW21M0081","VARUN S BHARADWAJ",4,null,null,3,2.5,7.5,7,null,9,33,33]
["P18FW21M0082","S KARTHIK",5,null,null,4,0,7,7,null,12,31,35]
["P18FW21M0083","NEELAMMA M K",4,null,3,null,5,8,null,7,13,35,40]
["P18FW21M0084","PRAMOD K L",3,null,null,3,3,8,1,0,7,32,25]
["P18FW21M0085","NAMRATHA N",4,null,4,null,1,8,null,7,8,33,32]
["P18FW21M0086","ANVITH KUMAR",3,3,null,null,0,8,9,null,7,31,30]
["P18FW21M0087","BHOOMIKA BHAT",4,2,null,null,5,9,0,null,6,30,26]
["P18FW21M0088","SOUMYA GANAPATI HEGDE",5,2,null,null,5,null,8,6,9,31,35]
["P18FW21M0089","SHREEKRISHNA",4,1,null,3,null,9,4,null,9,34,30]
["P18FW21M0090","OLETI SAI SREENITHYA",4,4,null,4,null,9,null,9,11,30,41]
["P18FW21M0091","RAMANUJAM H J",3.5,null,4,3,null,6,7,null,8,32,{"v":31.5,"d":"32"}]
["P18FW21M0092","CHAVI JAGADEESH",3,null,0,3,null,7,null,10,7,28,30]
["P18FW21M0093","DESAI JATIN ARUN",4,null,2,3,0,5,3,null,1,24,18]
["P18FW21M0094","MALLESH S",3,null,null,3,5,null,8,8,8,35,35]
["P18FW21M0095","SRINIDHI K",4,null,null,4,5,9,null,9,8,36,39]
["P18FW21M0096","B SHASHANK",4,null,null,4,5,null,8,7,12,33,40]
["P18FW21M0097","YOGASHREE C N",5,null,3,4,null,8,6,null,11,27,37]
["P18FW21M0098","CHARANA T U",3,null,null,3,0,7,6,null,8,29,27]
["P18FW21M0099","NAGARAJ GAJANAN HEGDE",4,4,null,null,5,9,null,8,10,32,40]
["P18FW21M0100","NIKITHA J SHANBHOG",4,null,null,4,0,8,7,null,8,33,31]
["P18FW21M0101","YASHASWINI P",4,4,null,4,null,8,8,null,8,22,36]
["P18FW21M0102","TANUSHREE R",4,null,null,4,2,8,4,null,2,21,24]
["P18FW21M0103","CHETHAN KUMAR V A",4,4,null,3,null,7,null,5,10,29,33]
["P18FW21M0104","NAYAN KUMAR",3,2,null,3,null,6,7,null,4,37,25]
["P18FW21M0105","DEEPAK GOPALAKRISHNAN",2,4,3,{"$nulls":3},0,4,8,21,21]
["P18FW21M0106","POORNAPRAJNYA K MANGALVEDI",3,null,2,null,0,8,null,7,13,30,33]
["P18FW21M0107","JENISHA MENEZES",4,null,0,null,0,9,8,0,12,28,33]
["P18FW21M0108","SRAVANI SUNIL MHALSEKAR",4.5,null,null,2,5,9,9,null,11,32,{"v":40.5,"d":"41"}]
["P18FW21M0109","M RITISH",3,null,null,3,0,7,0,null,0,29,13]
["P18FW21M0110","DHANYA S SHARMA",4,null,null,4,1,5,null,0,11,25,25]
["P18FW21M0111","PREETHAM D VARMA",3.5,0,null,2,null,9,9,null,5,25,{"v":28.5,"d":"29"}]
["P18FW21M0112","DHIRAJKUMAR BELAVADI",4,null,null,3,3,7,8,null,11,26,36]
["P18FW21M0113","FERNANDES RICHA FLORINDA",4,null,null,3,0,7,null,8,7,26,29]
["P18FW21M0114","MEGHA U JOSHI",4,null,0,3.5,null,8.5,null,10,10,35,36]
["P18FW21M0116","DINAH NEETHA NORONHA",3,null,null,3,2,5,6,null,4,29,23]
["P18FW21M0117","HEGDE PAVANA GANAPATHI",4,0,null,3,null,9,null,10,11,32,37]
["P18FW21M0118","LOYSTON CRASTA",3,null,0,0,null,6,null,7,6,21,22]
["P18FW21M0119","GANESH HEGDE",4,4,null,null,1,7,null,1,7,26,24]
["P18FW21M0120","ANUSHA PRAKASH",4,1,null,null,0,9,7,0,11,26,32]
["P18FW21M0121","ANJANA KSHIRASAGAR",3,null,null,3,3,6.5,null,0,10,35,{"v":25.5,"d":"26"}]
["P18FW21M0122","JAGADISH SHENOY R",4,null,null,3,1,8,6,null,10,34,32]
["P18FW21M0123","MADHAN KUMAR C S",4,4,null,4,null,9,null,0,11,30,32]
["P18FW21M0124","TEJAS H P",3,null,0,2,null,0,null,8,2,22,15]
["P18FW21M0125","DHANUSH K V",3,null,null,3,0,6,6,null,11,27,29]
["P18FW21M0126","SWAMI SAMIKSHA PUSHPARAJ",5,1,null,null,2,7,null,1,2,33,18]
["P18FW21M0127","AMITH BHAT",4,null,null,4,3,8,9,null,3,27,31]
["P18FW21M0128","NUTHANA U",3.5,null,4,null,5,7,null,9,11,29,{"v":39.5,"d":"40"}]
["P18FW21M0129","CHETAN SINGH M",2,1,null,2,2,2,3,0,5,22,17]
["P18FW21M0130","KAUSTUBH LACHAPPANAVAR",3,4,null,4,null,8,8,null,6,28,33]
["P18FW21M0131","KSHITIJ P L",0,null,null,1,0,3,2,null,1,27,{"$f":"SUM(C145:K145)","v":7}]
["P18FW21M0132","BHUVANES P",3,null,null,1,0,2,0,null,2,21,8]
["P18FW21M0133","NALASANI VARSHITHA",5,null,null,4,5,8,null,9,11,34,42]
["P18FW21M0134","KOKILA K",4,null,null,4,0,9,9,null,7,30,33]
["P18FW21M0135","KOTHA KEERTHANA",5,null,null,5,1,9,null,9,11,33,40]
["P18FW21M0136","MUCHELI SUBBARAJU",0,null,4,4,5,8,null,0,12,28,33]
["P18FW21M0137","NANDAGOPAL B R",4.5,null,null,4,4,9,null,10,12,27,{"v":43.5,"d":"44"}]
["P18FW21M0138","VISHAL SHIVARAJ",4,4,null,null,5,8,null,10,10,29,41]
["P18FW21M0139","SHASHI KUMAR R",4,null,4,null,5,8,null,9,12,35,42]
["P18FW21M0140","YASHWANTH R",4,null,null,4,5,8,null,8,13,41,42]
["P18FW21M0141","M M JABEZ",3,null,null,3,5,6,6,null,2,33,25]
["P18FW21M0142","KALAVALA ABHISHTA",4,null,null,4,5,6,7,null,9,30,35]
["P18FW21M0143","SANKALP V",4,null,null,4,3,8,2,null,null,29,21]
["P18FW21M0144","NAVEEN C",4,4,null,null,5,8,null,9,10,32,40]
["P18FW21M0145","PAVAN KUMAR M",3,null,3,3,null,6,2,null,1,26,18]
["P18FW21M0146","KAPARTHI BHAVANA",5,null,null,4,0,8,8,null,10,32,35]
["P18FW21M0147","MANOJ N S",4,null,null,1,3,9,7,8,null,31,32]
["P18FW21M0149","HEMA S",4,null,null,4,5,9,8,null,10,33,40]
["P18FW21M0150","MADHUSUDAN G",4,2,null,null,5,8,null,8,6,27,33]
["P18FW21M0151","ANNASAGARAM RAGHAVENDRA",2,null,0,3,null,7.5,7,null,10,25,{"v":29.5,"d":"30"}]
["P18FW21M0152","SYED MUSSAVEERULLA",4,null,null,3,3,7,null,8,10,32,35]
["P18FW21M0153","SYED SAMEER",4.5,4,null,3,null,9,8,null,0,30,{"v":28.5,"d":"29"}]
["P18FW21M0154","RAMANABOINA ANAND KUMAR",null,4,null,4,5,8,8,null,9,32,38]
["P18FW21M0155","SHIVAM GANAPATI ANVEKAR",4,null,null,0,5,8,4,null,9,28,30]
["P18FW21M0156","SHUBHAM SINGH",4,null,null,3,2,6,3,null,11,22,29]
["P18FW21M0157","GURU VARUN G",3,null,null,3,3,6,0,null,3,25,18]
["P18FW21M0158","ABHIJEETH MASHETTY",4,null,null,4,5,7,7,null,10,29,37]
["P18FW21M0159","PRANITH KUMAR S",2,null,null,3,1,7,6,null,8,32,27]
["P18FW21M0160","LIKITHA A",2,null,null,3,1,6,5,0,8,27,25]
["P18FW21M0161","NAVEEN SETTY N A",3,null,null,0,5,null,7,6,9,33,30]
["P18FW21M0162","REHAN FAISAL QADRI",4.5,null,null,4,5,8.5,null,9,8,28,39]
["P18FW21M0163","SMITHA M",4,3.5,null,null,5,9,null,10,13,31,{"v":44.5,"d":"45"}]
["P18FW21M0164","ANIRUDH K",2.5,null,null,0,5,5,null,2,13,21,{"v":27.5,"d":"28"}]
["P18FW21M0165","SALMAN FAISAL QADRI",3.5,null,2.5,3,null,6,null,7,7,25,29]
["P18FW21M0166","RAVISH RAMACHANDRA HEGDE",2,2,null,2,null,5,null,6,8,29,25]
["P18FW21M0167","POOJA VALLUR",4,null,null,4,5,8,null,9,11,33,41]
["P18FW21M0169","MAHANTH GOWDA K C",4,null,null,3,5,9,null,10,12,33,43]
["P18FW21M0170","BHUPALI SAURABH PRAKASH",5,null,null,3,4,8,8,null,4,33,32]
["P18FW21M0171","SYED RAIHAN",3,null,null,4,1,7,8,null,5,28,28]
["P18FW21M0172","SHRI HARI L",3,null,null,2,1,5,8,null,5,27,24]
["P18FW21M0173","SNEHA U",3,null,null,3,4,8,7,null,0,25,25]
["P18FW21M0174","SHAH VINIT SIDDHARTH",3,3,null,3,null,8,9,null,12,33,38]
["P18FW21M0175","NAYANA G C",3,null,null,3,3,6,null,3,8,28,26]
["P18FW21M0176","D SURIYA PRIYASREE",4,null,null,4,5,8,8,null,1,25,30]
["P18FW21M0177","SATHYA B NAYAKA",4,null,null,4,3,6,7,null,12,29,36]
["P18FW21M0178","NEHA H V",3,3,null,4,0,4,5,null,4,24,23]
["P18FW21M0179","SAAHIL SRIKANT KULLOLI",4,null,null,2,5,7,3,null,6,23,27]
["P18FW21M0180","SIMRANJIT KAUR",4,null,null,4,5,8,9,null,11,31,41]
["P18FW21M0181","NIRANJAN JANARDHAN HEGDE",4.5,null,null,3,0,9,null,8,12,24,{"v":36.5,"d":"37"}]
["P18FW21M0182","TEJAS N",{"$nulls":9},"",0]
["P18FW21M0184","AGAMYA A KINHAL",2,null,null,2,1,4,7,null,5,21,21]
["No. of students attended",null,{"$f":"COUNTA(C16:C195)","v":178},36,22,156,155,170,121,83,175,{"$f":"COUNT(L16:L195)","v":178}]
["No. of Students attained CO",null,{"$f":"COUNTIF(C16:C195,\">\"&C15)","v":114},14,7,61,81,164,101,50,109,177]
[" CO Attainment percentage",null,{"$f":"ROUND(C197*100/C196,0)","v":64},39,32,39,52,96,83,60,62,{"$f":"ROUND(L197*100/L196,0)","v":99}]
["Level",null,{"$f":"IF(C198>=80,\"3\",IF(C198>=70,\"2\",IF(C198>=60,\"1\",\"-\")))","v":"1"},{"$f":"IF(D198>=80,\"3\",IF(D198>=70,\"2\",IF(D198>=60,\"1\",\"-\")))","v":"-"},"-","-","-","3","3","1","1","3"]
[null,null,{"$f":"C13","v":"CO1"},{"$f":"D13","v":"CO2"},"CO3","CO1","CO3","CO1","CO2","CO3","CO1"]
[{"$nulls":7},"Internals",null,"Final CO Attainment"]
[{"$nulls":5},"CO ",null,"Percent","Level","Percent","Level"]
[{"$nulls":5},"CO 1",null,{"$f":"AVERAGE(C198,F198,H198,K198)","v":65.25},{"$f":"IF(H203>=80,\"3\",IF(H203>=70,\"2\",IF(H203>=60,\"1\",IF(H203<=59,\"-\"))))","v":"1"},{"$f":"(H203*0.3)+($L$198*0.7)","v":88.875},{"$f":"IF(J203>=80,\"3\",IF(J203>=70,\"2\",IF(J203>=60,\"1\",IF(J203<59,\"-\"))))","v":"3"}]
[{"$nulls":5},"CO 2",null,{"$f":"AVERAGE(D198,I198)","v":61},{"$f":"IF(H204>=80,\"3\",IF(H204>=70,\"2\",IF(H204>=60,\"1\",IF(H204<=59,\"-\"))))","v":"1"},{"$f":"(H204*0.3)+($L$198*0.7)","v":87.6},"3"]
[{"$nulls":5},"CO 3",null,{"$f":"AVERAGE(E198,G198,J198)","v":48},1,83.69999999999999,"3"]
[{"$nulls":5},"CO 4",null,{"$f":"AVERAGE(E198,I198,K198)","v":59},{"$f":"IF(H206>=80,\"3\",IF(H206>=70,\"2\",IF(H206>=60,\"1\",IF(H206<=59,\"-\"))))","v":"-"},87,"3"]
[{"$nulls":5},"CO 5",null,{"$f":"AVERAGE(F198)","v":39},"-",81,"3"]

{"sheet":"21MBA221- Attainment","index":1,"n_rows":29,"n_cols":13,"rows_kept":29,"merged":[[21,0,21,1],[21,2,22,2],[21,3,22,3],[21,4,22,4],[21,5,22,5],[21,6,22,6],[21,7,22,7],[21,8,22,8],[21,9,22,9],[21,10,22,10],[21,11,22,11],[21,12,22,12],[22,0,22,1]]}
[{"$f":"'21MBA221'!A5:M5","v":"Macro Economics"}]
[]
[{"$nulls":3},"Internals",null,"Final CO Attainment"]
[null,null,"CO ","Percentage","Level","Percentage","Level"]
[null,null,"CO1",{"$f":"'21MBA221'!H203","v":{"v":65.25,"d":"65"}},{"$f":"'21MBA221'!I203","v":"1"},{"$f":"'21MBA221'!J203","v":{"v":88.875,"d":"89"}},{"$f":"'21MBA221'!K203","v":"3"}]
[null,null,"CO2",{"$f":"'21MBA221'!H204","v":61},{"$f":"'21MBA221'!I204","v":"1"},{"$f":"'21MBA221'!J204","v":{"v":87.6,"d":"88"}},{"$f":"'21MBA221'!K204","v":"3"}]
[null,null,"CO3",{"$f":"'21MBA221'!H205","v":48},1,{"$f":"'21MBA221'!J205","v":{"v":83.69999999999999,"d":"84"}},{"$f":"'21MBA221'!K205","v":"3"}]
[null,null,"CO4",{"$f":"'21MBA221'!H206","v":59},{"$f":"'21MBA221'!I206","v":"-"},{"$f":"'21MBA221'!J206","v":87},{"$f":"'21MBA221'!K206","v":"3"}]
[null,null,"CO5",{"$f":"'21MBA221'!H207","v":39},{"$f":"'21MBA221'!I207","v":"-"},{"$f":"'21MBA221'!J207","v":81},{"$f":"'21MBA221'!K207","v":"3"}]
[]
[]
[]
[null,null,"PO1","PO2","PO3","PO4","PO5","PO6","PO7","PO8","PO9","PO10","PO11"]
[null,"C01",3,3,2,1,null,2,null,1,2,1]
[null,"C02",3,3,{"$nulls":3},2,null,3,1,null,1]
[null,"C03",3,3,null,3,null,"-",2,null,1,1,2]
[null,"C04",2,3,null,2,null,3,null,null,1,null,2]
[null,"C05",2,3,null,2,null,3,null,null,1,null,2]
[null,null,"LEVEL  ","3-Substantial","2-Moderate","1-Slight","\"-\" No Co-relation"]
[]
[]
["Final CO",null,"PO1","PO2","PO3","PO4","PO5","PO6","PO7","PO8","PO9","PO10","PO11"]
[" ATTAINMENT"]
["C01",{"$f":"F5","v":{"v":88.875,"d":"88.88"}},{"$f":"C14*$B$24/3","v":{"v":88.875,"d":"88.88"}},{"v":88.875,"d":"88.88"},59.25,{"v":29.625,"d":"29.63"},{"v":0,"d":"0.00"},59.25,{"v":0,"d":"0.00"},{"v":29.625,"d":"29.63"},59.25,{"$f":"L14*$B$24/3","v":{"v":29.625,"d":"29.63"}},{"v":0,"d":"0.00"}]
["C02",{"$f":"F6","v":{"v":87.6,"d":"87.60"}},{"$f":"C15*$B$25/3","v":{"v":87.59999999999998,"d":"87.60"}},{"v":87.59999999999998,"d":"87.60"},{"v":0,"d":"0.00"},{"v":0,"d":"0.00"},{"v":0,"d":"0.00"},{"v":58.4,"d":"58.40"},{"v":0,"d":"0.00"},{"v":87.59999999999998,"d":"87.60"},{"v":29.2,"d":"29.20"},{"$f":"L15*$B$25/3","v":{"v":0,"d":"0.00"}},{"v":29.2,"d":"29.20"}]
["C03",{"$f":"F7","v":{"v":83.69999999999999,"d":"83.70"}},{"$f":"C16*$B$26/3","v":{"v":83.69999999999999,"d":"83.70"}},{"v":83.69999999999999,"d":"83.70"},{"v":0,"d":"0.00"},{"v":83.69999999999999,"d":"83.70"},{"v":0,"d":"0.00"},null,{"v":55.79999999999999,"d":"55.80"},{"v":0,"d":"0.00"},{"v":27.899999999999995,"d":"27.90"},{"$f":"L16*$B$26/3","v":{"v":27.899999999999995,"d":"27.90"}},{"v":55.79999999999999,"d":"55.80"}]
["C04",{"$f":"F8","v":{"v":87,"d":"87.00"}},{"$f":"C17*$B$27/3","v":{"v":58,"d":"58.00"}},{"v":87,"d":"87.00"},{"v":0,"d":"0.00"},{"v":58,"d":"58.00"},{"v":0,"d":"0.00"},{"v":87,"d":"87.00"},{"v":0,"d":"0.00"},{"v":0,"d":"0.00"},{"v":29,"d":"29.00"},{"$f":"L17*$B$27/3","v":{"v":0,"d":"0.00"}},{"v":58,"d":"58.00"}]
["C05",{"$f":"F9","v":{"v":81,"d":"81.00"}},{"$f":"C18*$B$28/3","v":{"v":54,"d":"54.00"}},{"$f":"D18*$B$28/3","v":{"v":81,"d":"81.00"}},{"v":0,"d":"0.00"},{"v":54,"d":"54.00"},{"v":0,"d":"0.00"},{"v":81,"d":"81.00"},{"v":0,"d":"0.00"},{"v":0,"d":"0.00"},{"v":27,"d":"27.00"},{"v":0,"d":"0.00"},{"v":54,"d":"54.00"}]
["Average",null,{"$f":"AVERAGE(C24:C28)","v":{"v":74.43499999999999,"d":"74.44"}},{"$f":"AVERAGE(D24:D28)","v":{"v":85.63499999999999,"d":"85.64"}},{"$f":"AVERAGE(E24:E28)","v":11.85},{"v":45.065,"d":"45.07"},{"v":0,"d":"0.00"},{"v":71.4125,"d":"71.41"},{"v":11.159999999999998,"d":"11.16"},{"v":23.444999999999997,"d":"23.45"},34.47,{"v":11.504999999999999,"d":"11.51"},{"v":39.4,"d":"39.40"}]

{"sheet":"21MBA421","index":2,"n_rows":204,"n_cols":13,"rows_kept":204,"merged":[[0,0,0,12],[1,0,1,12],[2,0,2,12],[3,0,3,12],[4,0,4,12],[5,0,5,1],[5,8,5,10],[6,0,6,3],[7,3,7,8],[8,3,8,8],[9,0,9,1],[9,2,9,6],[9,7,9,9],[10,0,10,1],[11,0,11,1],[12,0,12,1],[194,0,194,1],[195,0,195,1],[196,0,196,1],[197,0,197,1],[198,5,198,6],[198,7,198,8],[199,5,199,6],[200,5,200,6],[201,5,201,6],[202,5,202,6],[203,5,203,6]]}
["RV Institute of Management"]
["Autonomous Institution Affiliated to BCU "]
["MBA Programme   II Semester"]
["Course Outcome Report"]
["Application of Operations Research in Business"]
["Name of the Course Teacher:",{"$nulls":7},"Sub. Code:",null,null,"21MBA421"]
["Prof. Pooja T  ,Dr. Suresh N,  Dr. Santhosh M",{"$nulls":8},"Sec: ",null,"ABC"]
[{"$nulls":3},"Semester II"]
[{"$nulls":3},"Batch 2021-23"]
[]
["Question number",null,1,2,3,4,5,6,7,8,9,"External Exam ","Mid Term Exam "]
["Course outcome",null,"CO1","CO1","CO3","CO4","CO3","CO","CO4","CO3","CO4","Marks","Marks"]
["Maximum marks",null,5,5,5,5,5,5,5,10,10,50,50]
["Student Reg. No","Student Name",{"$f":"C13*0.64","v":3.2},{"$f":"D13*0.64","v":3.2},3.2,3.2,3.2,3.2,3.2,6.4,6.4,{"$f":"L13*0.357142","v":{"v":17.8571,"d":"18"}}]
[{"$f":"'21MBA221'!A16","v":"P18FW21M0001"},{"$f":"'21MBA221'!B16","v":"VIPUL VILAS NAIK"},4,null,5,2,null,null,5,3,null,40,{"$f":"SUM(C15:K15)","v":19}]
[{"$f":"'21MBA221'!A17","v":"P18FW21M0002"},{"$f":"'21MBA221'!B17","v":"M PRANEETH KUMAR REDDY"},4,5,4,{"$nulls":3},5,5,15,43,{"$f":"SUM(C16:K16)","v":38}]
[{"$f":"'21MBA221'!A18","v":"P18FW21M0003"},{"$f":"'21MBA221'!B18","v":"NIKHIL S ANJANALLI"},4,2,5,{"$nulls":3},8,8,15,38,42]
[{"$f":"'21MBA221'!A19","v":"P18FW21M0004"},{"$f":"'21MBA221'!B19","v":"KARTHIK P SHETTY"},3,0,5,{"$nulls":3},6,4,5,34,23]
[{"$f":"'21MBA221'!A20","v":"P18FW21M0005"},{"$f":"'21MBA221'!B20","v":"AMITH C"},5,4,5,{"$nulls":3},10,9,15,44,48]
[{"$f":"'21MBA221'!A21","v":"P18FW21M0006"},{"$f":"'21MBA221'!B21","v":"AISHWARYA G"},2,4.5,3,{"$nulls":3},9,8,0,15,26.5]
[{"$f":"'21MBA221'!A22","v":"P18FW21M0007"},{"$f":"'21MBA221'!B22","v":"AKANKSH P"},4,5,4,null,null,6,7,5,15,35,46]
[{"$f":"'21MBA221'!A23","v":"P18FW21M0008"},{"$f":"'21MBA221'!B23","v":"SACHITH B K"},5,1,5,{"$nulls":3},6,8,15,37,40]
[{"$f":"'21MBA221'!A24","v":"P18FW21M0009"},{"$f":"'21MBA221'!B24","v":"CHAITANYA KAMATAGI B"},5,5,5,{"$nulls":3},10,10,15,45,50]
[{"$f":"'21MBA221'!A25","v":"P18FW21M0010"},{"$f":"'21MBA221'!B25","v":"AKASH RACHAPPA KHANAGAVI"},5,4.5,5,{"$nulls":3},10,10,14,46,48.5]
[{"$f":"'21MBA221'!A26","v":"P18FW21M0011"},{"$f":"'21MBA221'!B26","v":"SOURAV SADANAND SWAR"},3,null,4,0,null,null,8,7,null,16,22]
[{"$f":"'21MBA221'!A27","v":"P18FW21M0012"},{"$f":"'21MBA221'!B27","v":"NISHANTH KRISHNA"},5,5,null,5,null,null,10,5,15,45,45]
[{"$f":"'21MBA221'!A28","v":"P18FW21M0013"},{"$f":"'21MBA221'!B28","v":"MEHUL V BHASKAR"},0,0,0,null,null,0,2,null,null,14,2]
[{"$f":"'21MBA221'!A29","v":"P18FW21M0014"},{"$f":"'21MBA221'!B29","v":"SHUBHAM RAJENDRA REVANKAR"},0,0,5,{"$nulls":3},4,10,null,25,19]
[{"$f":"'21MBA221'!A30","v":"P18FW21M0015"},{"$f":"'21MBA221'!B30","v":"SHETTY TRUPTHI CHANDRAHAS"},5,4,5,{"$nulls":3},10,9,8,39,41]
[{"$f":"'21MBA221'!A31","v":"P18FW21M0016"},{"$f":"'21MBA221'!B31","v":"SHEEBAL M S"},2,5,null,5,null,null,8,9,11,39,40]
[{"$f":"'21MBA221'!A32","v":"P18FW21M0017"},{"$f":"'21MBA221'!B32","v":"VISHNU KUMAR"},5,5,4,{"$nulls":3},10,10,15,47,49]
[{"$f":"'21MBA221'!A33","v":"P18FW21M0018"},{"$f":"'21MBA221'!B33","v":"HARSHITHA SRINIVAS"},4,4,5,null,null,9,8,null,null,37,30]
[{"$f":"'21MBA221'!A34","v":"P18FW21M0019"},{"$f":"'21MBA221'!B34","v":"SAGI SAMPI"},5,5,5,{"$nulls":3},10,9,10,49,44]
[{"$f":"'21MBA221'!A35","v":"P18FW21M0020"},{"$f":"'21MBA221'!B35","v":"PAULOMEE BARUAH"},5,5,5,{"$nulls":3},10,10,10,43,45]
[{"$f":"'21MBA221'!A36","v":"P18FW21M0021"},{"$f":"'21MBA221'!B36","v":"NEETHA KAMATH"},4,5,5,{"$nulls":3},10,5,6,36,35]
[{"$f":"'21MBA221'!A37","v":"P18FW21M0022"},{"$f":"'21MBA221'!B37","v":"ADITYA UDAY HEGDE"},5,5,4,{"$nulls":3},7,8,7,35,36]
[{"$f":"'21MBA221'!A38","v":"P18FW21M0023"},{"$f":"'21MBA221'!B38","v":"SHREYAS G A"},5,5,5,{"$nulls":3},10,6,15,43,46]
[{"$f":"'21MBA221'!A39","v":"P18FW21M0024"},{"$f":"'21MBA221'!B39","v":"SRUJANA S"},5,5,5,{"$nulls":3},7,8,15,43,45]
[{"$f":"'21MBA221'!A40","v":"P18FW21M0025"},{"$f":"'21MBA221'!B40","v":"PRAJWAL S N"},5,5,5,{"$nulls":3},10,10,10,40,45]
[{"$f":"'21MBA221'!A41","v":"P18FW21M0026"},{"$f":"'21MBA221'!B41","v":"SUCHITRA G"},5,5,5,{"$nulls":3},6,6,5,34,32]
[{"$f":"'21MBA221'!A42","v":"P18FW21M0027"},{"$f":"'21MBA221'!B42","v":"SANKET SURESH SHIRSAT"},3,5,5,{"$nulls":3},10,10,7,35,40]
[{"$f":"'21MBA221'!A43","v":"P18FW21M0028"},{"$f":"'21MBA221'!B43","v":"ANIKET SANJAY REVANKAR"},5,5,5,{"$nulls":3},10,10,12,45,47]
[{"$f":"'21MBA221'!A44","v":"P18FW21M0029"},{"$f":"'21MBA221'!B44","v":"AKHILA H"},2,null,2,2,null,null,6,8,4,21,24]
[{"$f":"'21MBA221'!A45","v":"P18FW21M0030"},{"$f":"'21MBA221'!B45","v":"M LUQMAN NAWAZ"},5,5,null,5,null,null,8,10,13,37,46]
[{"$f":"'21MBA221'!A46","v":"P18FW21M0031"},{"$f":"'21MBA221'!B46","v":"MADHURA A"},5,5,5,null,null,9,null,6,10,45,40]
[{"$f":"'21MBA221'!A47","v":"P18FW21M0032"},{"$f":"'21MBA221'!B47","v":"H V SHREEVATSA"},3,5,5,null,null,10,10,null,12,30,45]
[{"$f":"'21MBA221'!A48","v":"P18FW21M0033"},{"$f":"'21MBA221'!B48","v":"LILIMA DASH"},5,5,5,{"$nulls":3},10,10,15,49,50]
[{"$f":"'21MBA221'!A49","v":"P18FW21M0034"},{"$f":"'21MBA221'!B49","v":"KUMAR ASHUTOSH"},3,2,2,{"$nulls":3},5,7,0,21,19]
[{"$f":"'21MBA221'!A50","v":"P18FW21M0035"},{"$f":"'21MBA221'!B50","v":"RAHUL S SANGOLLI"},5,5,5,{"$nulls":3},10,9,8,27,42]
[{"$f":"'21MBA221'!A51","v":"P18FW21M0036"},{"$f":"'21MBA221'!B51","v":"GIRISH N NASHI"},5,5,4,{"$nulls":3},10,10,10,38,44]
[{"$f":"'21MBA221'!A52","v":"P18FW21M0037"},{"$f":"'21MBA221'!B52","v":"ANKITA GAJANAN NAIK"},5,5,5,null,null,10,10,null,15,44,50]
[{"$f":"'21MBA221'!A53","v":"P18FW21M0038"},{"$f":"'21MBA221'!B53","v":"GURUBASAVARAJ K M"},5,5,5,{"$nulls":3},8,10,15,46,48]
[{"$f":"'21MBA221'!A54","v":"P18FW21M0039"},{"$f":"'21MBA221'!B54","v":"ANANYA P HEGDE"},4,5,5,{"$nulls":3},10,8,15,44,47]
[{"$f":"'21MBA221'!A55","v":"P18FW21M0040"},{"$f":"'21MBA221'!B55","v":"NIVEDITHA K SWAMY"},5,5,5,{"$nulls":3},10,10,15,50,50]
[{"$f":"'21MBA221'!A56","v":"P18FW21M0041"},{"$f":"'21MBA221'!B56","v":"LIKHITHA L"},5,5,5,{"$nulls":3},7,10,10,38,42]
[{"$f":"'21MBA221'!A57","v":"P18FW21M0042"},{"$f":"'21MBA221'!B57","v":"RAHUL RAM BHAT"},5,5,5,{"$nulls":3},8,10,7,36,40]
[{"$f":"'21MBA221'!A58","v":"P18FW21M0043"},{"$f":"'21MBA221'!B58","v":"AMIT KAMADOLLISHETTARU"},5,5,5,{"$nulls":3},10,10,11,44,46]
[{"$f":"'21MBA221'!A59","v":"P18FW21M0044"},{"$f":"'21MBA221'!B59","v":"POOJARANI TALAWAR"},5,5,5,{"$nulls":3},10,10,10,42,45]
[{"$f":"'21MBA221'!A60","v":"P18FW21M0045"},{"$f":"'21MBA221'!B60","v":"ABHITHA K"},5,5,5,{"$nulls":3},9,8,15,26,47]
[{"$f":"'21MBA221'!A61","v":"P18FW21M0046"},{"$f":"'21MBA221'!B61","v":"S SHREYAS"},2,null,4,0,null,null,2,3,null,14,11]
[{"$f":"'21MBA221'!A62","v":"P18FW21M0047"},{"$f":"'21MBA221'!B62","v":"ABHISHEK SHENOY"},5,5,3,{"$nulls":3},1,5,4,30,23]
[{"$f":"'21MBA221'!A63","v":"P18FW21M0048"},{"$f":"'21MBA221'!B63","v":"B S SUSHEN"},5,2,2,5,null,null,8,10,7,39,39]
[{"$f":"'21MBA221'!A64","v":"P18FW21M0049"},{"$f":"'21MBA221'!B64","v":"PRAJWALA H"},3,3,5,{"$nulls":3},8,10,8,43,37]
[{"$f":"'21MBA221'!A65","v":"P18FW21M0050"},{"$f":"'21MBA221'!B65","v":"VAISHNAVI N"},5,5,5,{"$nulls":3},10,10,15,48,50]
[{"$f":"'21MBA221'!A66","v":"P18FW21M0051"},{"$f":"'21MBA221'!B66","v":"DEEPAK GIRISH KALYANI"},5,5,5,{"$nulls":3},8,10,15,46,48]
[{"$f":"'21MBA221'!A67","v":"P18FW21M0052"},{"$f":"'21MBA221'!B67","v":"ISAAC JESSE K"},5,5,4,{"$nulls":3},8,10,0,20,32]
[{"$f":"'21MBA221'!A68","v":"P18FW21M0053"},{"$f":"'21MBA221'!B68","v":"SUPRIYA GOVIND BELSARE"},5,5,5,{"$nulls":3},10,10,7,24,42]
[{"$f":"'21MBA221'!A69","v":"P18FW21M0054"},{"$f":"'21MBA221'!B69","v":"VINAYAK RAO GAIKWAD K"},5,2,2,{"$nulls":3},0,6,15,21,30]
[{"$f":"'21MBA221'!A70","v":"P18FW21M0055"},{"$f":"'21MBA221'!B70","v":"SUTOPA DEB"},5,3,5,{"$nulls":3},7,8,6,29,34]
[{"$f":"'21MBA221'!A71","v":"P18FW21M0056"},{"$f":"'21MBA221'!B71","v":"M S SUKRUT"},3,null,5,0,null,null,3,8,null,"AB",19]
[{"$f":"'21MBA221'!A72","v":"P18FW21M0057"},{"$f":"'21MBA221'!B72","v":"BHASKARA PRABHU"},5,5,3,{"$nulls":3},10,10,10,32,43]
[{"$f":"'21MBA221'!A73","v":"P18FW21M0058"},{"$f":"'21MBA221'!B73","v":"PRAKASH SHIVAKUMAR"},5,5,5,{"$nulls":3},10,10,15,38,50]
[{"$f":"'21MBA221'!A74","v":"P18FW21M0059"},{"$f":"'21MBA221'!B74","v":"AMOGHA Y G"},4,2,5,{"$nulls":3},8,5,10,42,34]
[{"$f":"'21MBA221'!A75","v":"P18FW21M0060"},{"$f":"'21MBA221'!B75","v":"BHARATH K S"},2,null,5,2,null,null,5,5,7,32,26]
[{"$f":"'21MBA221'!A76","v":"P18FW21M0061"},{"$f":"'21MBA221'!B76","v":"AKANKSH K G"},2,0,1,{"$nulls":3},6,4,5,22,18]
[{"$f":"'21MBA221'!A77","v":"P18FW21M0062"},{"$f":"'21MBA221'!B77","v":"BERNARD FERNANDES"},4,2,2,{"$nulls":3},10,10,null,21,28]
[{"$f":"'21MBA221'!A78","v":"P18FW21M0063"},{"$f":"'21MBA221'!B78","v":"AISHWARYA P"},4,5,null,null,2,null,0,10,5,26,26]
[{"$f":"'21MBA221'!A79","v":"P18FW21M0064"},{"$f":"'21MBA221'!B79","v":"VIOLA PINTO"},2,5,2,{"$nulls":3},10,10,0,35,29]
[{"$f":"'21MBA221'!A80","v":"P18FW21M0065"},{"$f":"'21MBA221'!B80","v":"VARSHA"},5,5,5,{"$nulls":3},10,10,15,44,50]
[{"$f":"'21MBA221'!A81","v":"P18FW21M0066"},{"$f":"'21MBA221'!B81","v":"CHIDRI BALAJI"},5,5,5,{"$nulls":3},10,5,15,41,{"$f":"SUM(C80:K80)","v":45}]
[{"$f":"'21MBA221'!A82","v":"P18FW21M0067"},{"$f":"'21MBA221'!B82","v":"GAGANDEEP V N"},4,3,0,{"$nulls":3},8,10,10,29,35]
[{"$f":"'21MBA221'!A83","v":"P18FW21M0068"},{"$f":"'21MBA221'!B83","v":"PRAJWALA"},5,4.5,5,{"$nulls":3},10,4,15,39,43.5]
[{"$f":"'21MBA221'!A84","v":"P18FW21M0069"},{"$f":"'21MBA221'!B84","v":"POORNIMA L"},5,5,5,{"$nulls":3},10,9,15,34,49]
[{"$f":"'21MBA221'!A85","v":"P18FW21M0070"},{"$f":"'21MBA221'!B85","v":"SHUBIKSHA S"},5,5,5,{"$nulls":3},10,10,15,48,50]
[{"$f":"'21MBA221'!A86","v":"P18FW21M0071"},{"$f":"'21MBA221'!B86","v":"ANUSHA"},5,5,5,{"$nulls":3},8,10,12,42,45]
[{"$f":"'21MBA221'!A87","v":"P18FW21M0072"},{"$f":"'21MBA221'!B87","v":"P T KIRTI"},5,5,5,{"$nulls":3},10,10,15,41,50]
[{"$f":"'21MBA221'!A88","v":"P18FW21M0073"},{"$f":"'21MBA221'!B88","v":"SAMEEKSHA M P"},5,5,5,{"$nulls":3},9,10,15,32,49]
[{"$f":"'21MBA221'!A89","v":"P18FW21M0074"},{"$f":"'21MBA221'!B89","v":"KAVYAPRIYA J"},5,5,4,{"$nulls":3},10,10,15,47,49]
[{"$f":"'21MBA221'!A90","v":"P18FW21M0075"},{"$f":"'21MBA221'!B90","v":"RAKSHITH R T"},5,5,5,{"$nulls":3},10,2,15,37,42]
[{"$f":"'21MBA221'!A91","v":"P18FW21M0076"},{"$f":"'21MBA221'!B91","v":"SHUBHA R"},5,5,5,{"$nulls":3},10,10,15,39,50]
[{"$f":"'21MBA221'!A92","v":"P18FW21M0077"},{"$f":"'21MBA221'!B92","v":"BASAVARAJ"},3,5,4,{"$nulls":3},8,10,4,34,34]
[{"$f":"'21MBA221'!A93","v":"P18FW21M0078"},{"$f":"'21MBA221'!B93","v":"MANOJ RAKSHATH B S"},2,null,4,0,null,3,4,8,null,18,21]
[{"$f":"'21MBA221'!A94","v":"P18FW21M0079"},{"$f":"'21MBA221'!B94","v":"ADITI RANI"},5,5,5,{"$nulls":3},7,10,1,31,33]
[{"$f":"'21MBA221'!A95","v":"P18FW21M0080"},{"$f":"'21MBA221'!B95","v":"DIVYA SHREE M"},5,null,5,5,null,null,8,10,8,44,41]
[{"$f":"'21MBA221'!A96","v":"P18FW21M0081"},{"$f":"'21MBA221'!B96","v":"VARUN S BHARADWAJ"},5,5,5,{"$nulls":3},5,10,5,40,35]
[{"$f":"'21MBA221'!A97","v":"P18FW21M0082"},{"$f":"'21MBA221'!B97","v":"S KARTHIK"},5,null,5,5,null,null,2,10,1,36,28]
[{"$f":"'21MBA221'!A98","v":"P18FW21M0083"},{"$f":"'21MBA221'!B98","v":"NEELAMMA M K"},3,5,5,{"$nulls":3},5,10,9,29,37]
[{"$f":"'21MBA221'!A99","v":"P18FW21M0084"},{"$f":"'21MBA221'!B99","v":"PRAMOD K L"},3,5,5,{"$nulls":3},8,10,15,45,46]
[{"$f":"'21MBA221'!A100","v":"P18FW21M0085"},{"$f":"'21MBA221'!B100","v":"NAMRATHA N"},2,0,5,4,null,null,5,10,2,25,28]
[{"$f":"'21MBA221'!A101","v":"P18FW21M0086"},{"$f":"'21MBA221'!B101","v":"ANVITH KUMAR"},5,5,5,null,null,10,10,null,10,38,45]
[{"$f":"'21MBA221'!A102","v":"P18FW21M0087"},{"$f":"'21MBA221'!B102","v":"BHOOMIKA BHAT"},4,2,5,{"$nulls":3},8,10,null,42,29]
[{"$f":"'21MBA221'!A103","v":"P18FW21M0088"},{"$f":"'21MBA221'!B103","v":"SOUMYA GANAPATI HEGDE"},3,5,5,{"$nulls":3},8,10,9,43,40]
[{"$f":"'21MBA221'!A104","v":"P18FW21M0089"},{"$f":"'21MBA221'!B104","v":"SHREEKRISHNA"},5,null,5,null,3,null,8,10,4,40,35]
[{"$f":"'21MBA221'!A105","v":"P18FW21M0090"},{"$f":"'21MBA221'!B105","v":"OLETI SAI SREENITHYA"},5,5,5,{"$nulls":3},10,5,5,38,35]
[{"$f":"'21MBA221'!A106","v":"P18FW21M0091"},{"$f":"'21MBA221'!B106","v":"RAMANUJAM H J"},5,3,5,{"$nulls":3},4,10,9,26,36]
[{"$f":"'21MBA221'!A107","v":"P18FW21M0092"},{"$f":"'21MBA221'!B107","v":"CHAVI JAGADEESH"},2,4,5,{"$nulls":3},6,10,0,24,27]
[{"$f":"'21MBA221'!A108","v":"P18FW21M0093"},{"$f":"'21MBA221'!B108","v":"DESAI JATIN ARUN"},5,5,2,null,null,5,null,8,null,19,25]
[{"$f":"'21MBA221'!A109","v":"P18FW21M0094"},{"$f":"'21MBA221'!B109","v":"MALLESH S"},3,5,5,{"$nulls":3},8,10,4,26,35]
[{"$f":"'21MBA221'!A110","v":"P18FW21M0095"},{"$f":"'21MBA221'!B110","v":"SRINIDHI K"},2,5,5,{"$nulls":3},10,8,6,32,36]
[{"$f":"'21MBA221'!A111","v":"P18FW21M0096"},{"$f":"'21MBA221'!B111","v":"B SHASHANK"},5,2,5,{"$nulls":3},10,8,6,37,36]
[{"$f":"'21MBA221'!A112","v":"P18FW21M0097"},{"$f":"'21MBA221'!B112","v":"YOGASHREE C N"},3,5,5,5,null,null,6,10,10,38,44]
[{"$f":"'21MBA221'!A113","v":"P18FW21M0098"},{"$f":"'21MBA221'!B113","v":"CHARANA T U"},1,5,5,{"$nulls":3},7,8,5,29,31]
[{"$f":"'21MBA221'!A114","v":"P18FW21M0099"},{"$f":"'21MBA221'!B114","v":"NAGARAJ GAJANAN HEGDE"},5,5,5,{"$nulls":3},10,9,8,32,42]
[{"$f":"'21MBA221'!A115","v":"P18FW21M0100"},{"$f":"'21MBA221'!B115","v":"NIKITHA J SHANBHOG"},3,null,5,2,null,null,8,3,2,13,23]
[{"$f":"'21MBA221'!A116","v":"P18FW21M0101"},{"$f":"'21MBA221'!B116","v":"YASHASWINI P"},5,5,5,{"$nulls":3},3,9,0,24,27]
[{"$f":"'21MBA221'!A117","v":"P18FW21M0102"},{"$f":"'21MBA221'!B117","v":"TANUSHREE R"},null,3,5,4,null,null,9,5,0,14,26]
[{"$f":"'21MBA221'!A118","v":"P18FW21M0103"},{"$f":"'21MBA221'!B118","v":"CHETHAN KUMAR V A"},2,3,null,1,null,null,2,10,null,17,18]
[{"$f":"'21MBA221'!A119","v":"P18FW21M0104"},{"$f":"'21MBA221'!B119","v":"NAYAN KUMAR"},5,5,null,null,3,7,null,8,null,31,28]
[{"$f":"'21MBA221'!A120","v":"P18FW21M0105"},{"$f":"'21MBA221'!B120","v":"DEEPAK GOPALAKRISHNAN"},2,0,0,{"$nulls":3},4,1,4,12,11]
[{"$f":"'21MBA221'!A121","v":"P18FW21M0106"},{"$f":"'21MBA221'!B121","v":"POORNAPRAJNYA K MANGALVEDI"},5,0,1,{"$nulls":3},4,0,1,21,11]
[{"$f":"'21MBA221'!A122","v":"P18FW21M0107"},{"$f":"'21MBA221'!B122","v":"JENISHA MENEZES"},3,5,5,{"$nulls":3},4,10,null,21,27]
[{"$f":"'21MBA221'!A123","v":"P18FW21M0108"},{"$f":"'21MBA221'!B123","v":"SRAVANI SUNIL MHALSEKAR"},5,4,5,{"$nulls":3},10,8,15,37,47]
[{"$f":"'21MBA221'!A124","v":"P18FW21M0109"},{"$f":"'21MBA221'!B124","v":"M RITISH"},2,0,0,{"$nulls":3},5,3,null,17,10]
[{"$f":"'21MBA221'!A125","v":"P18FW21M0110"},{"$f":"'21MBA221'!B125","v":"DHANYA S SHARMA"},4,null,5,0,null,null,3,3,5,31,20]
[{"$f":"'21MBA221'!A126","v":"P18FW21M0111"},{"$f":"'21MBA221'!B126","v":"PREETHAM D VARMA"},2,0,5,{"$nulls":3},7,1,null,8,15]
[{"$f":"'21MBA221'!A127","v":"P18FW21M0112"},{"$f":"'21MBA221'!B127","v":"DHIRAJKUMAR BELAVADI"},2,0,5,{"$nulls":3},7,7,null,23,21]
[{"$f":"'21MBA221'!A128","v":"P18FW21M0113"},{"$f":"'21MBA221'!B128","v":"FERNANDES RICHA FLORINDA"},5,null,5,0,null,null,7,10,null,21,27]
[{"$f":"'21MBA221'!A129","v":"P18FW21M0114"},{"$f":"'21MBA221'!B129","v":"MEGHA U JOSHI"},3,null,5,5,null,null,10,10,8,43,41]
[{"$f":"'21MBA221'!A130","v":"P18FW21M0116"},{"$f":"'21MBA221'!B130","v":"DINAH NEETHA NORONHA"},3,null,4,null,2,null,4,10,2,27,25]
[{"$f":"'21MBA221'!A131","v":"P18FW21M0117"},{"$f":"'21MBA221'!B131","v":"HEGDE PAVANA GANAPATHI"},5,3,5,{"$nulls":3},7,10,0,32,30]
[{"$f":"'21MBA221'!A132","v":"P18FW21M0118"},{"$f":"'21MBA221'!B132","v":"LOYSTON CRASTA"},3,5,5,{"$nulls":3},5,10,8,27,36]
[{"$f":"'21MBA221'!A133","v":"P18FW21M0119"},{"$f":"'21MBA221'!B133","v":"GANESH HEGDE"},4,5,5,{"$nulls":3},10,5,8,33,37]
[{"$f":"'21MBA221'!A134","v":"P18FW21M0120"},{"$f":"'21MBA221'!B134","v":"ANUSHA PRAKASH"},3,1,5,{"$nulls":3},5,10,5,35,29]
[{"$f":"'21MBA221'!A135","v":"P18FW21M0121"},{"$f":"'21MBA221'!B135","v":"ANJANA KSHIRASAGAR"},3,2,5,{"$nulls":3},6,10,null,16,26]
[{"$f":"'21MBA221'!A136","v":"P18FW21M0122"},{"$f":"'21MBA221'!B136","v":"JAGADISH SHENOY R"},5,2,3,{"$nulls":3},7,10,7,28,34]
[{"$f":"'21MBA221'!A137","v":"P18FW21M0123"},{"$f":"'21MBA221'!B137","v":"MADHAN KUMAR C S"},3,5,5,5,null,null,8,10,7,47,43]
[{"$f":"'21MBA221'!A138","v":"P18FW21M0124"},{"$f":"'21MBA221'!B138","v":"TEJAS H P"},5,5,1,{"$nulls":3},5,4,null,21,20]
[{"$f":"'21MBA221'!A139","v":"P18FW21M0125"},{"$f":"'21MBA221'!B139","v":"DHANUSH K V"},5,null,5,0,null,null,8,6,null,27,24]
[{"$f":"'21MBA221'!A140","v":"P18FW21M0126"},{"$f":"'21MBA221'!B140","v":"SWAMI SAMIKSHA PUSHPARAJ"},4,2,2,{"$nulls":3},6,5,3,31,22]
[{"$f":"'21MBA221'!A141","v":"P18FW21M0127"},{"$f":"'21MBA221'!B141","v":"AMITH BHAT"},3,4.5,5,{"$nulls":3},8,6,6,15,32.5]
[{"$f":"'21MBA221'!A142","v":"P18FW21M0128"},{"$f":"'21MBA221'!B142","v":"NUTHANA U"},3,2,5,{"$nulls":3},2,10,7,34,29]
[{"$f":"'21MBA221'!A143","v":"P18FW21M0129"},{"$f":"'21MBA221'!B143","v":"CHETAN SINGH M"},5,3,4,{"$nulls":3},5,5,3,26,25]
[{"$f":"'21MBA221'!A144","v":"P18FW21M0130"},{"$f":"'21MBA221'!B144","v":"KAUSTUBH LACHAPPANAVAR"},5,0,3,{"$nulls":3},10,6,8,32,32]
[{"$f":"'21MBA221'!A145","v":"P18FW21M0131"},{"$f":"'21MBA221'!B145","v":"KSHITIJ P L"},5,5,5,{"$nulls":3},10,8,null,33,{"$f":"SUM(C144:K144)","v":33}]
[{"$f":"'21MBA221'!A146","v":"P18FW21M0132"},{"$f":"'21MBA221'!B146","v":"BHUVANES P"},5,5,5,null,null,8,4,null,12,29,39]
[{"$f":"'21MBA221'!A147","v":"P18FW21M0133"},{"$f":"'21MBA221'!B147","v":"NALASANI VARSHITHA"},5,5,5,null,null,8,null,10,9,35,42]
[{"$f":"'21MBA221'!A148","v":"P18FW21M0134"},{"$f":"'21MBA221'!B148","v":"KOKILA K"},5,null,5,null,3,null,10,10,8,38,41]
[{"$f":"'21MBA221'!A149","v":"P18FW21M0135"},{"$f":"'21MBA221'!B149","v":"KOTHA KEERTHANA"},5,5,5,{"$nulls":3},8,6,13,36,42]
[{"$f":"'21MBA221'!A150","v":"P18FW21M0136"},{"$f":"'21MBA221'!B150","v":"MUCHELI SUBBARAJU"},3,3,null,null,3,null,4,10,null,32,23]
[{"$f":"'21MBA221'!A151","v":"P18FW21M0137"},{"$f":"'21MBA221'!B151","v":"NANDAGOPAL B R"},null,5,5,2,null,null,10,5,15,30,42]
[{"$f":"'21MBA221'!A152","v":"P18FW21M0138"},{"$f":"'21MBA221'!B152","v":"VISHAL SHIVARAJ"},3,5,5,{"$nulls":3},6,5,8,29,32]
[{"$f":"'21MBA221'!A153","v":"P18FW21M0139"},{"$f":"'21MBA221'!B153","v":"SHASHI KUMAR R"},null,5,5,5,null,null,3,4,15,36,37]
[{"$f":"'21MBA221'!A154","v":"P18FW21M0140"},{"$f":"'21MBA221'!B154","v":"YASHWANTH R"},5,5,5,{"$nulls":3},10,8,10,38,43]
[{"$f":"'21MBA221'!A155","v":"P18FW21M0141"},{"$f":"'21MBA221'!B155","v":"M M JABEZ"},3,5,5,{"$nulls":3},10,10,10,28,43]
[{"$f":"'21MBA221'!A156","v":"P18FW21M0142"},{"$f":"'21MBA221'!B156","v":"KALAVALA ABHISHTA"},5,5,5,{"$nulls":3},10,10,11,43,46]
[{"$f":"'21MBA221'!A157","v":"P18FW21M0143"},{"$f":"'21MBA221'!B157","v":"SANKALP V"},null,4,null,4,0,null,0,0,13,16,21]
[{"$f":"'21MBA221'!A158","v":"P18FW21M0144"},{"$f":"'21MBA221'!B158","v":"NAVEEN C"},5,5,5,{"$nulls":3},8,5,15,40,43]
[{"$f":"'21MBA221'!A159","v":"P18FW21M0145"},{"$f":"'21MBA221'!B159","v":"PAVAN KUMAR M"},2,2,5,{"$nulls":3},10,8,null,24,27]
[{"$f":"'21MBA221'!A160","v":"P18FW21M0146"},{"$f":"'21MBA221'!B160","v":"KAPARTHI BHAVANA"},5,5,5,{"$nulls":3},6,8,10,32,39]
[{"$f":"'21MBA221'!A161","v":"P18FW21M0147"},{"$f":"'21MBA221'!B161","v":"MANOJ N S"},4,5,5,{"$nulls":3},3,10,8,46,35]
[{"$f":"'21MBA221'!A162","v":"P18FW21M0149"},{"$f":"'21MBA221'!B162","v":"HEMA S"},5,5,5,null,null,10,10,null,12,40,47]
[{"$f":"'21MBA221'!A163","v":"P18FW21M0150"},{"$f":"'21MBA221'!B163","v":"MADHUSUDAN G"},5,4.5,5,{"$nulls":3},8,10,9,25,41.5]
[{"$f":"'21MBA221'!A164","v":"P18FW21M0151"},{"$f":"'21MBA221'!B164","v":"ANNASAGARAM RAGHAVENDRA"},null,1,5,0,null,1,null,6,null,16,13]
[{"$f":"'21MBA221'!A165","v":"P18FW21M0152"},{"$f":"'21MBA221'!B165","v":"SYED MUSSAVEERULLA"},2,1,1,null,4,null,2,10,7,25,27]
[{"$f":"'21MBA221'!A166","v":"P18FW21M0153"},{"$f":"'21MBA221'!B166","v":"SYED SAMEER"},5,5,5,{"$nulls":3},8,10,8,31,41]
[{"$f":"'21MBA221'!A167","v":"P18FW21M0154"},{"$f":"'21MBA221'!B167","v":"RAMANABOINA ANAND KUMAR"},5,5,5,null,null,10,10,null,15,48,50]
[{"$f":"'21MBA221'!A168","v":"P18FW21M0155"},{"$f":"'21MBA221'!B168","v":"SHIVAM GANAPATI ANVEKAR"},5,null,5,0,null,null,5,5,null,33,20]
[{"$f":"'21MBA221'!A169","v":"P18FW21M0156"},{"$f":"'21MBA221'!B169","v":"SHUBHAM SINGH"},5,null,3,null,3,null,5,6,null,35,22]
[{"$f":"'21MBA221'!A170","v":"P18FW21M0157"},{"$f":"'21MBA221'!B170","v":"GURU VARUN G"},1,0,0,1,null,null,0,0,0,8,2]
[{"$f":"'21MBA221'!A171","v":"P18FW21M0158"},{"$f":"'21MBA221'!B171","v":"ABHIJEETH MASHETTY"},5,5,5,{"$nulls":3},8,5,11,42,39]
[{"$f":"'21MBA221'!A172","v":"P18FW21M0159"},{"$f":"'21MBA221'!B172","v":"PRANITH KUMAR S"},4,null,5,null,2,null,5,5,0,37,21]
[{"$f":"'21MBA221'!A173","v":"P18FW21M0160"},{"$f":"'21MBA221'!B173","v":"LIKITHA A"},4,5,2,{"$nulls":3},7,4,4,38,26]
[{"$f":"'21MBA221'!A174","v":"P18FW21M0161"},{"$f":"'21MBA221'!B174","v":"NAVEEN SETTY N A"},5,2,5,null,null,7,null,10,13,39,42]
[{"$f":"'21MBA221'!A175","v":"P18FW21M0162"},{"$f":"'21MBA221'!B175","v":"REHAN FAISAL QADRI"},5,5,5,null,null,2,10,null,5,23,32]
[{"$f":"'21MBA221'!A176","v":"P18FW21M0163"},{"$f":"'21MBA221'!B176","v":"SMITHA M"},2,5,4.5,{"$nulls":3},10,10,15,37,46.5]
[{"$f":"'21MBA221'!A177","v":"P18FW21M0164"},{"$f":"'21MBA221'!B177","v":"ANIRUDH K"},1,null,5,0,null,null,4,3,null,13,13]
[{"$f":"'21MBA221'!A178","v":"P18FW21M0165"},{"$f":"'21MBA221'!B178","v":"SALMAN FAISAL QADRI"},2,null,1,0,null,5,0,null,4,21,12]
[{"$f":"'21MBA221'!A179","v":"P18FW21M0166"},{"$f":"'21MBA221'!B179","v":"RAVISH RAMACHANDRA HEGDE"},4,null,5,4,null,null,6,10,null,14,29]
[{"$f":"'21MBA221'!A180","v":"P18FW21M0167"},{"$f":"'21MBA221'!B180","v":"POOJA VALLUR"},5,5,5,{"$nulls":3},10,8,8,34,41]
[{"$f":"'21MBA221'!A181","v":"P18FW21M0169"},{"$f":"'21MBA221'!B181","v":"MAHANTH GOWDA K C"},5,5,5,{"$nulls":3},10,6,15,40,46]
[{"$f":"'21MBA221'!A182","v":"P18FW21M0170"},{"$f":"'21MBA221'!B182","v":"BHUPALI SAURABH PRAKASH"},5,4,5,{"$nulls":3},10,8,5,41,37]
[{"$f":"'21MBA221'!A183","v":"P18FW21M0171"},{"$f":"'21MBA221'!B183","v":"SYED RAIHAN"},4,3,5,{"$nulls":3},3,10,null,39,25]
[{"$f":"'21MBA221'!A184","v":"P18FW21M0172"},{"$f":"'21MBA221'!B184","v":"SHRI HARI L"},3,3,3,{"$nulls":3},5,5,7,26,26]
[{"$f":"'21MBA221'!A185","v":"P18FW21M0173"},{"$f":"'21MBA221'!B185","v":"SNEHA U"},5,5,4,{"$nulls":3},8,8,4,18,34]
[{"$f":"'21MBA221'!A186","v":"P18FW21M0174"},{"$f":"'21MBA221'!B186","v":"SHAH VINIT SIDDHARTH"},5,null,3,0,null,null,8,6,0,25,22]
[{"$f":"'21MBA221'!A187","v":"P18FW21M0175"},{"$f":"'21MBA221'!B187","v":"NAYANA G C"},2,2,3,2,null,null,4,5,2,27,20]
[{"$f":"'21MBA221'!A188","v":"P18FW21M0176"},{"$f":"'21MBA221'!B188","v":"D SURIYA PRIYASREE"},3,null,5,null,2,null,8,10,null,29,28]
[{"$f":"'21MBA221'!A189","v":"P18FW21M0177"},{"$f":"'21MBA221'!B189","v":"SATHYA B NAYAKA"},5,5,5,{"$nulls":3},9,10,4,35,38]
[{"$f":"'21MBA221'!A190","v":"P18FW21M0178"},{"$f":"'21MBA221'!B190","v":"NEHA H V"},1,null,1,1,null,2,null,3,null,17,8]
[{"$f":"'21MBA221'!A191","v":"P18FW21M0179"},{"$f":"'21MBA221'!B191","v":"SAAHIL SRIKANT KULLOLI"},5,5,5,{"$nulls":3},10,9,15,39,49]
[{"$f":"'21MBA221'!A192","v":"P18FW21M0180"},{"$f":"'21MBA221'!B192","v":"SIMRANJIT KAUR"},5,5,5,{"$nulls":3},10,10,15,46,50]
[{"$f":"'21MBA221'!A193","v":"P18FW21M0181"},{"$f":"'21MBA221'!B193","v":"NIRANJAN JANARDHAN HEGDE"},2,0,1,null,3,null,8,2,4,12,20]
[{"$f":"'21MBA221'!A194","v":"P18FW21M0182"},{"$f":"'21MBA221'!B194","v":"TEJAS N"},{"$nulls":9},"",0]
[{"$f":"'21MBA221'!A195","v":"P18FW21M0184"},{"$f":"'21MBA221'!B195","v":"AGAMYA A KINHAL"},2,0,2,{"$nulls":3},5,10,2,14,21]
["No. of students attended",null,{"$f":"COUNTA(C15:C194)","v":174},153,171,35,12,19,172,169,147,{"$f":"COUNT(L15:L194)","v":178}]
["No. of Students attained CO",null,{"$f":"COUNTIF(C15:C194,\">\"&C14)","v":117},109,140,14,1,14,154,116,99,158]
[" CO Attainment percentage",null,{"$f":"ROUND(C196*100/C195,0)","v":67},71,82,40,8,74,90,69,67,{"$f":"ROUND(L196*100/L195,0)","v":89}]
["Level",null,{"$f":"IF(C197>=80,\"3\",IF(C197>=70,\"2\",IF(C197>=60,\"1\",\"-\")))","v":"1"},{"$f":"IF(D197>=80,\"3\",IF(D197>=70,\"2\",IF(D197>=60,\"1\",\"-\")))","v":"2"},"3","-","-","2","3","1","1","3"]
[{"$nulls":7},"Internals",null,"Final CO Attainment"]
[{"$nulls":5},"CO ",null,"Percent","Level","Percent","Level"]
[{"$nulls":5},"CO 1",null,{"$f":"AVERAGE(C197,D197)","v":69},{"$f":"IF(H201>=80,\"3\",IF(H201>=70,\"2\",IF(H201>=60,\"1\",IF(H201<=59,\"-\"))))","v":"1"},{"$f":"(H201*0.3)+($L$197*0.7)","v":83},{"$f":"IF(J201>=80,\"3\",IF(J201>=70,\"2\",IF(J201>=60,\"1\",IF(J201<59,\"-\"))))","v":"3"}]
[{"$nulls":5},"CO 2",null,{"$f":"AVERAGE(C197,D197,E197)","v":{"v":73.33333333333333,"d":"73"}},{"$f":"IF(H202>=80,\"3\",IF(H202>=70,\"2\",IF(H202>=60,\"1\",IF(H202<=59,\"-\"))))","v":"2"},{"$f":"(H202*0.3)+($L$197*0.7)","v":84.3},{"$f":"IF(J202>=80,\"3\",IF(J202>=70,\"2\",IF(J202>=60,\"1\",IF(J202<59,\"-\"))))","v":"3"}]
[{"$nulls":5},"CO 3",null,{"$f":"AVERAGE(E197,G197,J197)","v":53},{"$f":"IF(H203>=80,\"3\",IF(H203>=70,\"2\",IF(H203>=60,\"1\",IF(H203<=59,\"-\"))))","v":"-"},78.19999999999999,{"$f":"IF(J203>=80,\"3\",IF(J203>=70,\"2\",IF(J203>=60,\"1\",IF(J203<59,\"-\"))))","v":"2"}]
[{"$nulls":5},"CO 4",null,{"$f":"AVERAGE(F197,I197,K197)","v":65.66666666666667},{"$f":"IF(H204>=80,\"3\",IF(H204>=70,\"2\",IF(H204>=60,\"1\",IF(H204<=59,\"-\"))))","v":"1"},82,{"$f":"IF(J204>=80,\"3\",IF(J204>=70,\"2\",IF(J204>=60,\"1\",IF(J204<59,\"-\"))))","v":"3"}]

{"sheet":"21MBA421-Attainment","index":3,"n_rows":23,"n_cols":13,"rows_kept":23,"merged":[[16,0,16,1],[16,2,17,2],[16,3,17,3],[16,4,17,4],[16,5,17,5],[16,6,17,6],[16,7,17,7],[16,8,17,8],[16,9,17,9],[16,10,17,10],[16,11,17,11],[16,12,17,12],[17,0,17,1]]}
[{"$f":"'21MBA421'!A5:M5","v":"Application of Operations Research in Business"}]
[]
[{"$nulls":3},"Internals",null,"Final CO Attainment"]
[null,null,"CO ","Percentage","Level","Percentage","Level"]
[null,null,"CO1",{"$f":"'21MBA421'!H201","v":69},{"$f":"'21MBA421'!I201","v":"1"},{"$f":"'21MBA421'!J201","v":83},{"$f":"'21MBA421'!K201","v":"3"}]
[null,null,"CO2",{"$f":"'21MBA421'!H202","v":{"v":73.33333333333333,"d":"73"}},{"$f":"'21MBA421'!I202","v":"2"},{"$f":"'21MBA421'!J202","v":{"v":84.3,"d":"84"}},{"$f":"'21MBA421'!K202","v":"3"}]
[null,null,"CO3",{"$f":"'21MBA421'!H203","v":53},{"$f":"'21MBA421'!I203","v":"-"},{"$f":"'21MBA421'!J203","v":{"v":78.19999999999999,"d":"78"}},{"$f":"'21MBA421'!K203","v":"2"}]
[null,null,"CO4",{"$f":"'21MBA421'!H204","v":{"v":65.66666666666667,"d":"66"}},{"$f":"'21MBA421'!I204","v":"1"},{"$f":"'21MBA421'!J204","v":82},{"$f":"'21MBA421'!K204","v":"3"}]
[]
[null,null,"PO1","PO2","PO3","PO4","PO5","PO6","PO7","PO8","PO9","PO10","PO11"]
[null,"C01",1,3,1,null,null,2,3,null,3]
[null,"C02",null,3,1,null,1,null,3,3,3,1]
[null,"C03",2,3,1,{"$nulls":3},3,1,3,1]
[null,"C04",null,3,{"$nulls":3},3,3,1,3,1,1]
[null,"C05",1,3,2,null,null,1,3,1,3]
[]
["Final CO",null,"PO1","PO2","PO3","PO4","PO5","PO6","PO7","PO8","PO9","PO10","PO11"]
[" ATTAINMENT"]
["C01",{"$f":"F5","v":{"v":83,"d":"83.00"}},{"$f":"C11*$B$19/3","v":{"v":27.666666666666668,"d":"27.67"}},{"v":83,"d":"83.00"},{"v":27.666666666666668,"d":"27.67"},{"v":0,"d":"0.00"},{"v":0,"d":"0.00"},{"v":55.333333333333336,"d":"55.33"},{"v":83,"d":"83.00"},{"v":0,"d":"0.00"},{"v":83,"d":"83.00"},{"v":0,"d":"0.00"},{"v":0,"d":"0.00"}]
["C02",{"$f":"F6","v":{"v":84.3,"d":"84.30"}},{"$f":"C12*$B$20/3","v":{"v":0,"d":"0.00"}},{"v":84.3,"d":"84.30"},{"v":28.099999999999998,"d":"28.10"},{"v":0,"d":"0.00"},{"v":28.099999999999998,"d":"28.10"},{"v":0,"d":"0.00"},{"v":84.3,"d":"84.30"},{"v":84.3,"d":"84.30"},{"v":84.3,"d":"84.30"},{"v":28.099999999999998,"d":"28.10"},{"v":0,"d":"0.00"}]
["C03",{"$f":"F7","v":{"v":78.19999999999999,"d":"78.20"}},{"$f":"C13*$B$21/3","v":{"v":52.133333333333326,"d":"52.13"}},{"v":78.19999999999999,"d":"78.20"},{"v":26.066666666666663,"d":"26.07"},{"v":0,"d":"0.00"},{"v":0,"d":"0.00"},{"v":0,"d":"0.00"},{"v":78.19999999999999,"d":"78.20"},{"v":26.066666666666663,"d":"26.07"},{"v":78.19999999999999,"d":"78.20"},{"v":26.066666666666663,"d":"26.07"},{"v":0,"d":"0.00"}]
["C04",{"$f":"F8","v":{"v":82,"d":"82.00"}},{"$f":"C14*$B$22/3","v":{"v":0,"d":"0.00"}},{"v":82,"d":"82.00"},{"v":0,"d":"0.00"},{"v":0,"d":"0.00"},{"v":0,"d":"0.00"},{"v":82,"d":"82.00"},{"v":82,"d":"82.00"},{"v":27.333333333333332,"d":"27.33"},{"v":82,"d":"82.00"},{"v":27.333333333333332,"d":"27.33"},{"v":27.333333333333332,"d":"27.33"}]
["Average",null,{"$f":"AVERAGE(C19:C22)","v":19.95},{"v":81.875,"d":"81.88"},{"v":20.458333333333332,"d":"20.46"},{"v":0,"d":"0.00"},{"v":7.0249999999999995,"d":"7.03"},{"v":34.333333333333336,"d":"34.33"},{"v":81.875,"d":"81.88"},{"v":34.425,"d":"34.43"},{"v":81.875,"d":"81.88"},{"v":20.374999999999996,"d":"20.38"},{"v":6.833333333333333,"d":"6.83"}]

{"sheet":"21MBA521","index":4,"n_rows":207,"n_cols":13,"rows_kept":207,"merged":[[0,0,0,12],[1,0,1,12],[2,0,2,12],[3,0,3,12],[4,0,4,12],[5,0,5,1],[5,8,5,10],[6,0,6,3],[7,3,7,8],[8,3,8,8],[10,0,10,1],[10,2,10,6],[10,7,10,9],[11,0,11,1],[12,0,12,1],[13,0,13,1],[195,0,195,1],[196,0,196,1],[197,0,197,1],[198,0,198,1],[200,5,200,6],[200,7,200,8],[201,5,201,6],[202,5,202,6],[203,5,203,6],[204,5,204,6],[205,5,205,6],[206,5,206,6]]}
["RV Institute of Management"]
["Autonomous Institution Affiliated to BCU "]
["MBA Programme   II Semester"]
["Course Outcome Report"]
["Introduction to Business Analytics"]
["Name of the Course Teacher:",{"$nulls":7},"Sub. Code:",null,null,"21MBA521"]
["Prof. Vidyadhar Hegde, Dr. Jahnavi M, Prof.Nagasubba  Reddy",{"$nulls":8},"Sec: ",null,"ABC"]
[{"$nulls":3},"Semester II"]
[{"$nulls":3},"Batch 2021-23"]
[]
[null,null,"Section A",{"$nulls":4},"Section B",null,null,"Sec-C"]
["Question number",null,1,2,3,4,5,6,7,8,9,"External Exam ","Mid Term Exam "]
["Course outcome",null,"CO1","CO1","CO3","CO4","CO2","CO2","CO5","CO3","CO4","Marks","Marks"]
["Maximum marks",null,5,5,5,5,5,10,10,10,15,50,50]
["Student Reg. No","Student Name",{"$f":"C14*0.64","v":3.2},{"$f":"D14*0.64","v":3.2},3.2,3.2,3.2,6.4,6.4,6.4,9.6,{"$f":"L14*0.357142","v":{"v":17.8571,"d":"18"}}]
[{"$f":"'21MBA221'!A16","v":"P18FW21M0001"},{"$f":"'21MBA221'!B16","v":"VIPUL VILAS NAIK"},2.5,null,4,4,null,null,5,6,10,29,{"$f":"SUM(C16:K16)","v":{"v":31.5,"d":"32"}}]
[{"$f":"'21MBA221'!A17","v":"P18FW21M0002"},{"$f":"'21MBA221'!B17","v":"M PRANEETH KUMAR REDDY"},4,null,3,4,null,null,10,7,11,33,{"$f":"SUM(C17:K17)","v":39}]
[{"$f":"'21MBA221'!A18","v":"P18FW21M0003"},{"$f":"'21MBA221'!B18","v":"NIKHIL S ANJANALLI"},null,5,4,5,null,null,6,9,13,35,42]
[{"$f":"'21MBA221'!A19","v":"P18FW21M0004"},{"$f":"'21MBA221'!B19","v":"KARTHIK P SHETTY"},3,4,4,{"$nulls":3},6,4,12,31,33]
[{"$f":"'21MBA221'!A20","v":"P18FW21M0005"},{"$f":"'21MBA221'!B20","v":"AMITH C"},null,4,4,null,4,null,6,6,11,32,35]
[{"$f":"'21MBA221'!A21","v":"P18FW21M0006"},{"$f":"'21MBA221'!B21","v":"AISHWARYA G"},null,5,4,3,2,5,null,0,2,30,21]
[{"$f":"'21MBA221'!A22","v":"P18FW21M0007"},{"$f":"'21MBA221'!B22","v":"AKANKSH P"},4,5,5,{"$nulls":3},5,6,14,34,39]
[{"$f":"'21MBA221'!A23","v":"P18FW21M0008"},{"$f":"'21MBA221'!B23","v":"SACHITH B K"},null,1,null,2,4,6,7,null,10,32,30]
[{"$f":"'21MBA221'!A24","v":"P18FW21M0009"},{"$f":"'21MBA221'!B24","v":"CHAITANYA KAMATAGI B"},4,5,null,null,4,null,10,8,14,38,45]
[{"$f":"'21MBA221'!A25","v":"P18FW21M0010"},{"$f":"'21MBA221'!B25","v":"AKASH RACHAPPA KHANAGAVI"},4,5,null,null,4,null,8,8,13,35,42]
[{"$f":"'21MBA221'!A26","v":"P18FW21M0011"},{"$f":"'21MBA221'!B26","v":"SOURAV SADANAND SWAR"},4,4,null,2,null,4,0,null,10,26,24]
[{"$f":"'21MBA221'!A27","v":"P18FW21M0012"},{"$f":"'21MBA221'!B27","v":"NISHANTH KRISHNA"},null,4,4,5,null,null,8,9,13,36,43]
[{"$f":"'21MBA221'!A28","v":"P18FW21M0013"},{"$f":"'21MBA221'!B28","v":"MEHUL V BHASKAR"},2,3,null,null,2,null,3,5,5,23,20]
[{"$f":"'21MBA221'!A29","v":"P18FW21M0014"},{"$f":"'21MBA221'!B29","v":"SHUBHAM RAJENDRA REVANKAR"},3,3,null,2,null,null,4,6,5,28,23]
[{"$f":"'21MBA221'!A30","v":"P18FW21M0015"},{"$f":"'21MBA221'!B30","v":"SHETTY TRUPTHI CHANDRAHAS"},3.5,4,4,null,null,4,5,null,5.5,35,26]
[{"$f":"'21MBA221'!A31","v":"P18FW21M0016"},{"$f":"'21MBA221'!B31","v":"SHEEBAL M S"},4,5,4,{"$nulls":3},8,6,14,35,41]
[{"$f":"'21MBA221'!A32","v":"P18FW21M0017"},{"$f":"'21MBA221'!B32","v":"VISHNU KUMAR"},3,5,null,null,5,null,7,6,14,35,40]
[{"$f":"'21MBA221'!A33","v":"P18FW21M0018"},{"$f":"'21MBA221'!B33","v":"HARSHITHA SRINIVAS"},4,4,5,{"$nulls":3},7,4,6,38,30]
[{"$f":"'21MBA221'!A34","v":"P18FW21M0019"},{"$f":"'21MBA221'!B34","v":"SAGI SAMPI"},null,5,4.5,5,null,null,10,9,14,37,{"v":47.5,"d":"48"}]
[{"$f":"'21MBA221'!A35","v":"P18FW21M0020"},{"$f":"'21MBA221'!B35","v":"PAULOMEE BARUAH"},4,5,4.5,{"$nulls":3},9.5,3,6,33,32]
[{"$f":"'21MBA221'!A36","v":"P18FW21M0021"},{"$f":"'21MBA221'!B36","v":"NEETHA KAMATH"},5,4.5,4,{"$nulls":3},6,8,11.5,32,39]
[{"$f":"'21MBA221'!A37","v":"P18FW21M0022"},{"$f":"'21MBA221'!B37","v":"ADITYA UDAY HEGDE"},4.5,null,4,3,null,null,3,7,14,35,{"v":35.5,"d":"36"}]
[{"$f":"'21MBA221'!A38","v":"P18FW21M0023"},{"$f":"'21MBA221'!B38","v":"SHREYAS G A"},4,5,null,4,2,null,9,9,7,32,40]
[{"$f":"'21MBA221'!A39","v":"P18FW21M0024"},{"$f":"'21MBA221'!B39","v":"SRUJANA S"},null,4,4.5,4.5,null,null,7,9,15,35,44]
[{"$f":"'21MBA221'!A40","v":"P18FW21M0025"},{"$f":"'21MBA221'!B40","v":"PRAJWAL S N"},4.5,4,null,4,null,null,2,8,12,33,{"v":34.5,"d":"35"}]
[{"$f":"'21MBA221'!A41","v":"P18FW21M0026"},{"$f":"'21MBA221'!B41","v":"SUCHITRA G"},4,4.5,3,{"$nulls":3},7,7,11,32,{"v":36.5,"d":"37"}]
[{"$f":"'21MBA221'!A42","v":"P18FW21M0027"},{"$f":"'21MBA221'!B42","v":"SANKET SURESH SHIRSAT"},4.5,5,4.5,{"$nulls":3},8,9,7,34,38]
[{"$f":"'21MBA221'!A43","v":"P18FW21M0028"},{"$f":"'21MBA221'!B43","v":"ANIKET SANJAY REVANKAR"},4,5,null,4.5,null,null,10,9,7,35,{"v":39.5,"d":"40"}]
[{"$f":"'21MBA221'!A44","v":"P18FW21M0029"},{"$f":"'21MBA221'!B44","v":"AKHILA H"},null,5,4,3,null,null,7,6,9,29,34]
[{"$f":"'21MBA221'!A45","v":"P18FW21M0030"},{"$f":"'21MBA221'!B45","v":"M LUQMAN NAWAZ"},4.5,null,4.5,4,null,null,10,8,6,36,37]
[{"$f":"'21MBA221'!A46","v":"P18FW21M0031"},{"$f":"'21MBA221'!B46","v":"MADHURA A"},5,4.5,null,4.5,null,null,10,9,6,41,39]
[{"$f":"'21MBA221'!A47","v":"P18FW21M0032"},{"$f":"'21MBA221'!B47","v":"H V SHREEVATSA"},null,4,4,null,4,null,4,8,8,26,32]
[{"$f":"'21MBA221'!A48","v":"P18FW21M0033"},{"$f":"'21MBA221'!B48","v":"LILIMA DASH"},null,4,3,null,5,null,5,8,7,34,32]
[{"$f":"'21MBA221'!A49","v":"P18FW21M0034"},{"$f":"'21MBA221'!B49","v":"KUMAR ASHUTOSH"},4.5,4,2,{"$nulls":3},2,0,2,25,{"v":14.5,"d":"15"}]
[{"$f":"'21MBA221'!A50","v":"P18FW21M0035"},{"$f":"'21MBA221'!B50","v":"RAHUL S SANGOLLI"},4,3.5,4,null,4,null,8,8,3,33,{"v":34.5,"d":"35"}]
[{"$f":"'21MBA221'!A51","v":"P18FW21M0036"},{"$f":"'21MBA221'!B51","v":"GIRISH N NASHI"},4,3,4,null,null,7,6,null,14,34,38]
[{"$f":"'21MBA221'!A52","v":"P18FW21M0037"},{"$f":"'21MBA221'!B52","v":"ANKITA GAJANAN NAIK"},null,null,4,4,4,null,10,9,14,31,45]
[{"$f":"'21MBA221'!A53","v":"P18FW21M0038"},{"$f":"'21MBA221'!B53","v":"GURUBASAVARAJ K M"},4,4,null,4,null,null,5,4,4,34,25]
[{"$f":"'21MBA221'!A54","v":"P18FW21M0039"},{"$f":"'21MBA221'!B54","v":"ANANYA P HEGDE"},4,4,4,{"$nulls":3},10,10,14,33,46]
[{"$f":"'21MBA221'!A55","v":"P18FW21M0040"},{"$f":"'21MBA221'!B55","v":"NIVEDITHA K SWAMY"},3,4,null,3,null,3,8,null,11,37,32]
[{"$f":"'21MBA221'!A56","v":"P18FW21M0041"},{"$f":"'21MBA221'!B56","v":"LIKHITHA L"},4,4,4,{"$nulls":3},5,8,10,33,35]
[{"$f":"'21MBA221'!A57","v":"P18FW21M0042"},{"$f":"'21MBA221'!B57","v":"RAHUL RAM BHAT"},null,4,4,4,null,null,9,8,5,33,34]
[{"$f":"'21MBA221'!A58","v":"P18FW21M0043"},{"$f":"'21MBA221'!B58","v":"AMIT KAMADOLLISHETTARU"},null,4,3,4,null,null,5,8,14,30,38]
[{"$f":"'21MBA221'!A59","v":"P18FW21M0044"},{"$f":"'21MBA221'!B59","v":"POOJARANI TALAWAR"},null,4,3,4,null,null,5,7,13,33,36]
[{"$f":"'21MBA221'!A60","v":"P18FW21M0045"},{"$f":"'21MBA221'!B60","v":"ABHITHA K"},4,null,4,4,null,null,6,0,5,31,23]
[{"$f":"'21MBA221'!A61","v":"P18FW21M0046"},{"$f":"'21MBA221'!B61","v":"S SHREYAS"},null,3,2,3,null,null,2,3,9,27,22]
[{"$f":"'21MBA221'!A62","v":"P18FW21M0047"},{"$f":"'21MBA221'!B62","v":"ABHISHEK SHENOY"},4,4,4,{"$nulls":3},5,8,4,27,29]
[{"$f":"'21MBA221'!A63","v":"P18FW21M0048"},{"$f":"'21MBA221'!B63","v":"B S SUSHEN"},null,4,4,null,4,null,4,6,12,39,34]
[{"$f":"'21MBA221'!A64","v":"P18FW21M0049"},{"$f":"'21MBA221'!B64","v":"PRAJWALA H"},4,4,4,{"$nulls":3},6,8,14,40,40]
[{"$f":"'21MBA221'!A65","v":"P18FW21M0050"},{"$f":"'21MBA221'!B65","v":"VAISHNAVI N"},null,4,4,3,null,null,6,8,14,40,39]
[{"$f":"'21MBA221'!A66","v":"P18FW21M0051"},{"$f":"'21MBA221'!B66","v":"DEEPAK GIRISH KALYANI"},4,null,4,null,4,null,10,9,11,36,42]
[{"$f":"'21MBA221'!A67","v":"P18FW21M0052"},{"$f":"'21MBA221'!B67","v":"ISAAC JESSE K"},null,3,3,3,null,null,6,0,null,23,15]
[{"$f":"'21MBA221'!A68","v":"P18FW21M0053"},{"$f":"'21MBA221'!B68","v":"SUPRIYA GOVIND BELSARE"},null,5,4,5,null,null,8,4,11,27,37]
[{"$f":"'21MBA221'!A69","v":"P18FW21M0054"},{"$f":"'21MBA221'!B69","v":"VINAYAK RAO GAIKWAD K"},5,null,5,{"$nulls":3},3,0,2,27,15]
[{"$f":"'21MBA221'!A70","v":"P18FW21M0055"},{"$f":"'21MBA221'!B70","v":"SUTOPA DEB"},4.5,null,5,null,4,null,7,3.5,7,30,31]
[{"$f":"'21MBA221'!A71","v":"P18FW21M0056"},{"$f":"'21MBA221'!B71","v":"M S SUKRUT"},3,3,null,4,null,null,2,0,14,"AB",26]
[{"$f":"'21MBA221'!A72","v":"P18FW21M0057"},{"$f":"'21MBA221'!B72","v":"BHASKARA PRABHU"},4.5,4.5,null,4,null,null,7,9,13,37,42]
[{"$f":"'21MBA221'!A73","v":"P18FW21M0058"},{"$f":"'21MBA221'!B73","v":"PRAKASH SHIVAKUMAR"},4.5,4.5,3,{"$nulls":3},5,7,8,27,32]
[{"$f":"'21MBA221'!A74","v":"P18FW21M0059"},{"$f":"'21MBA221'!B74","v":"AMOGHA Y G"},3,3,4,{"$nulls":3},4,6,12,31,32]
[{"$f":"'21MBA221'!A75","v":"P18FW21M0060"},{"$f":"'21MBA221'!B75","v":"BHARATH K S"},null,4,4,2,0,3,6,3,11,30,33]
[{"$f":"'21MBA221'!A76","v":"P18FW21M0061"},{"$f":"'21MBA221'!B76","v":"AKANKSH K G"},4,null,null,1,3,null,5,8,7,30,28]
[{"$f":"'21MBA221'!A77","v":"P18FW21M0062"},{"$f":"'21MBA221'!B77","v":"BERNARD FERNANDES"},4,5,4,null,0,null,0,8,4,22,25]
[{"$f":"'21MBA221'!A78","v":"P18FW21M0063"},{"$f":"'21MBA221'!B78","v":"AISHWARYA P"},5,null,4,3,null,null,5,4,6,28,27]
[{"$f":"'21MBA221'!A79","v":"P18FW21M0064"},{"$f":"'21MBA221'!B79","v":"VIOLA PINTO"},5,5,null,4,null,null,6,8,7,36,35]
[{"$f":"'21MBA221'!A80","v":"P18FW21M0065"},{"$f":"'21MBA221'!B80","v":"VARSHA"},null,4.5,3,3.5,null,null,6,9,14,32,40]
[{"$f":"'21MBA221'!A81","v":"P18FW21M0066"},{"$f":"'21MBA221'!B81","v":"CHIDRI BALAJI"},4,4.5,4.5,{"$nulls":3},10,6,13,36,{"$f":"SUM(C81:K81)","v":42}]
[{"$f":"'21MBA221'!A82","v":"P18FW21M0067"},{"$f":"'21MBA221'!B82","v":"GAGANDEEP V N"},4.5,4.5,4,{"$nulls":3},0,7,3,30,23]
[{"$f":"'21MBA221'!A83","v":"P18FW21M0068"},{"$f":"'21MBA221'!B83","v":"PRAJWALA"},5,5,null,4,null,5,5,null,14,40,38]
[{"$f":"'21MBA221'!A84","v":"P18FW21M0069"},{"$f":"'21MBA221'!B84","v":"POORNIMA L"},null,5,4,5,5,null,3,10,13,35,45]
[{"$f":"'21MBA221'!A85","v":"P18FW21M0070"},{"$f":"'21MBA221'!B85","v":"SHUBIKSHA S"},4,4,null,5,null,null,6,8,11,32,38]
[{"$f":"'21MBA221'!A86","v":"P18FW21M0071"},{"$f":"'21MBA221'!B86","v":"ANUSHA"},4,5,5,{"$nulls":3},6,8,6,32,34]
[{"$f":"'21MBA221'!A87","v":"P18FW21M0072"},{"$f":"'21MBA221'!B87","v":"P T KIRTI"},4,4,null,4,null,null,6,4,12,33,34]
[{"$f":"'21MBA221'!A88","v":"P18FW21M0073"},{"$f":"'21MBA221'!B88","v":"SAMEEKSHA M P"},4,5,5,{"$nulls":3},5,9,14,37,42]
[{"$f":"'21MBA221'!A89","v":"P18FW21M0074"},{"$f":"'21MBA221'!B89","v":"KAVYAPRIYA J"},4,4.5,4.5,{"$nulls":3},8,9,13,37,43]
[{"$f":"'21MBA221'!A90","v":"P18FW21M0075"},{"$f":"'21MBA221'!B90","v":"RAKSHITH R T"},null,4,4,4,null,null,8,8,14,32,42]
[{"$f":"'21MBA221'!A91","v":"P18FW21M0076"},{"$f":"'21MBA221'!B91","v":"SHUBHA R"},null,5,5,5,null,null,10,10,15,40,50]
[{"$f":"'21MBA221'!A92","v":"P18FW21M0077"},{"$f":"'21MBA221'!B92","v":"BASAVARAJ"},4.5,5,5,{"$nulls":3},2.5,8,7,36,32]
[{"$f":"'21MBA221'!A93","v":"P18FW21M0078"},{"$f":"'21MBA221'!B93","v":"MANOJ RAKSHATH B S"},3,3,2,null,null,6,6,null,3,25,23]
[{"$f":"'21MBA221'!A94","v":"P18FW21M0079"},{"$f":"'21MBA221'!B94","v":"ADITI RANI"},null,5,5,5,null,null,5,10,15,35,45]
[{"$f":"'21MBA221'!A95","v":"P18FW21M0080"},{"$f":"'21MBA221'!B95","v":"DIVYA SHREE M"},4,null,4,4,null,null,5,8,13,37,38]
[{"$f":"'21MBA221'!A96","v":"P18FW21M0081"},{"$f":"'21MBA221'!B96","v":"VARUN S BHARADWAJ"},4,4,4,{"$nulls":3},8,6,14,36,40]
[{"$f":"'21MBA221'!A97","v":"P18FW21M0082"},{"$f":"'21MBA221'!B97","v":"S KARTHIK"},3,3,null,4,null,null,7,3,13,32,33]
[{"$f":"'21MBA221'!A98","v":"P18FW21M0083"},{"$f":"'21MBA221'!B98","v":"NEELAMMA M K"},4,null,5,4,4,3,5,null,14,36,39]
[{"$f":"'21MBA221'!A99","v":"P18FW21M0084"},{"$f":"'21MBA221'!B99","v":"PRAMOD K L"},null,3,4,4,null,null,9,4,13,36,37]
[{"$f":"'21MBA221'!A100","v":"P18FW21M0085"},{"$f":"'21MBA221'!B100","v":"NAMRATHA N"},3,5,null,4,null,6,0,null,7,36,25]
[{"$f":"'21MBA221'!A101","v":"P18FW21M0086"},{"$f":"'21MBA221'!B101","v":"ANVITH KUMAR"},3.5,4.5,5,{"$nulls":3},10,7,13,33,43]
[{"$f":"'21MBA221'!A102","v":"P18FW21M0087"},{"$f":"'21MBA221'!B102","v":"BHOOMIKA BHAT"},null,3,null,4,3,null,6,8,12,37,36]
[{"$f":"'21MBA221'!A103","v":"P18FW21M0088"},{"$f":"'21MBA221'!B103","v":"SOUMYA GANAPATI HEGDE"},null,4,4,null,3,null,6,8,12,35,37]
[{"$f":"'21MBA221'!A104","v":"P18FW21M0089"},{"$f":"'21MBA221'!B104","v":"SHREEKRISHNA"},null,4,3,3,null,null,8,8,13,35,39]
[{"$f":"'21MBA221'!A105","v":"P18FW21M0090"},{"$f":"'21MBA221'!B105","v":"OLETI SAI SREENITHYA"},5,3,4,{"$nulls":3},10,7,7,32,36]
[{"$f":"'21MBA221'!A106","v":"P18FW21M0091"},{"$f":"'21MBA221'!B106","v":"RAMANUJAM H J"},null,5,null,4,1,null,2,5,5,36,22]
[{"$f":"'21MBA221'!A107","v":"P18FW21M0092"},{"$f":"'21MBA221'!B107","v":"CHAVI JAGADEESH"},4,null,3,3,null,null,0,1,11,28,22]
[{"$f":"'21MBA221'!A108","v":"P18FW21M0093"},{"$f":"'21MBA221'!B108","v":"DESAI JATIN ARUN"},4,4,null,null,1,4,2,1,1,24,17]
[{"$f":"'21MBA221'!A109","v":"P18FW21M0094"},{"$f":"'21MBA221'!B109","v":"MALLESH S"},3,3,3,null,null,4,5,null,4,30,22]
[{"$f":"'21MBA221'!A110","v":"P18FW21M0095"},{"$f":"'21MBA221'!B110","v":"SRINIDHI K"},null,5,5,5,null,null,5,8,5,37,33]
[{"$f":"'21MBA221'!A111","v":"P18FW21M0096"},{"$f":"'21MBA221'!B111","v":"B SHASHANK"},null,5,5,4,null,null,5,8,9,35,36]
[{"$f":"'21MBA221'!A112","v":"P18FW21M0097"},{"$f":"'21MBA221'!B112","v":"YOGASHREE C N"},null,4,4,4,null,null,5,9,13,39,39]
[{"$f":"'21MBA221'!A113","v":"P18FW21M0098"},{"$f":"'21MBA221'!B113","v":"CHARANA T U"},null,2,3,3,null,null,2,4,6,31,20]
[{"$f":"'21MBA221'!A114","v":"P18FW21M0099"},{"$f":"'21MBA221'!B114","v":"NAGARAJ GAJANAN HEGDE"},4,5,5,{"$nulls":3},8,6,15,33,43]
[{"$f":"'21MBA221'!A115","v":"P18FW21M0100"},{"$f":"'21MBA221'!B115","v":"NIKITHA J SHANBHOG"},4,4,4,{"$nulls":3},4,6,11,32,33]
[{"$f":"'21MBA221'!A116","v":"P18FW21M0101"},{"$f":"'21MBA221'!B116","v":"YASHASWINI P"},4.5,3.5,null,null,5,2,5,1,2,31,23]
[{"$f":"'21MBA221'!A117","v":"P18FW21M0102"},{"$f":"'21MBA221'!B117","v":"TANUSHREE R"},null,5,5,0,5,2,1,null,null,25,18]
[{"$f":"'21MBA221'!A118","v":"P18FW21M0103"},{"$f":"'21MBA221'!B118","v":"CHETHAN KUMAR V A"},null,4,4,5,null,null,7,4,12,31,36]
[{"$f":"'21MBA221'!A119","v":"P18FW21M0104"},{"$f":"'21MBA221'!B119","v":"NAYAN KUMAR"},null,4,4,4,null,null,2,8,6,37,28]
[{"$f":"'21MBA221'!A120","v":"P18FW21M0105"},{"$f":"'21MBA221'!B120","v":"DEEPAK GOPALAKRISHNAN"},null,5,4,null,2,null,5,0,1,22,17]
[{"$f":"'21MBA221'!A121","v":"P18FW21M0106"},{"$f":"'21MBA221'!B121","v":"POORNAPRAJNYA K MANGALVEDI"},null,3,3,null,2,3,2,0,3,34,16]
[{"$f":"'21MBA221'!A122","v":"P18FW21M0107"},{"$f":"'21MBA221'!B122","v":"JENISHA MENEZES"},3,3,null,4,4,0,5,1,8,32,28]
[{"$f":"'21MBA221'!A123","v":"P18FW21M0108"},{"$f":"'21MBA221'!B123","v":"SRAVANI SUNIL MHALSEKAR"},null,4,5,4,null,null,8,6,11,35,38]
[{"$f":"'21MBA221'!A124","v":"P18FW21M0109"},{"$f":"'21MBA221'!B124","v":"M RITISH"},null,4,4,0,null,0,9,null,3,27,20]
[{"$f":"'21MBA221'!A125","v":"P18FW21M0110"},{"$f":"'21MBA221'!B125","v":"DHANYA S SHARMA"},3,2,3,{"$nulls":3},4,8,10,30,30]
[{"$f":"'21MBA221'!A126","v":"P18FW21M0111"},{"$f":"'21MBA221'!B126","v":"PREETHAM D VARMA"},null,4,2,2,null,null,2.5,2.5,0,22,13]
[{"$f":"'21MBA221'!A127","v":"P18FW21M0112"},{"$f":"'21MBA221'!B127","v":"DHIRAJKUMAR BELAVADI"},null,4.5,4.5,1,null,null,9,6,11,28,36]
[{"$f":"'21MBA221'!A128","v":"P18FW21M0113"},{"$f":"'21MBA221'!B128","v":"FERNANDES RICHA FLORINDA"},4,4.5,4.5,null,4,null,3,9,13,30,42]
[{"$f":"'21MBA221'!A129","v":"P18FW21M0114"},{"$f":"'21MBA221'!B129","v":"MEGHA U JOSHI"},1,5,5,null,5,null,5,10,15,35,46]
[{"$f":"'21MBA221'!A130","v":"P18FW21M0116"},{"$f":"'21MBA221'!B130","v":"DINAH NEETHA NORONHA"},4.5,4.5,2,{"$nulls":3},1,8,13,33,33]
[{"$f":"'21MBA221'!A131","v":"P18FW21M0117"},{"$f":"'21MBA221'!B131","v":"HEGDE PAVANA GANAPATHI"},4,null,5,5,null,2,5,7,6,32,34]
[{"$f":"'21MBA221'!A132","v":"P18FW21M0118"},{"$f":"'21MBA221'!B132","v":"LOYSTON CRASTA"},null,4.5,4.5,1,null,null,5,4,12,23,31]
[{"$f":"'21MBA221'!A133","v":"P18FW21M0119"},{"$f":"'21MBA221'!B133","v":"GANESH HEGDE"},null,4,4,4,null,null,4,6,11,31,33]
[{"$f":"'21MBA221'!A134","v":"P18FW21M0120"},{"$f":"'21MBA221'!B134","v":"ANUSHA PRAKASH"},4,4,3,{"$nulls":3},1,3,12,36,27]
[{"$f":"'21MBA221'!A135","v":"P18FW21M0121"},{"$f":"'21MBA221'!B135","v":"ANJANA KSHIRASAGAR"},0,0,null,1,1,1,3,0,0,30,6]
[{"$f":"'21MBA221'!A136","v":"P18FW21M0122"},{"$f":"'21MBA221'!B136","v":"JAGADISH SHENOY R"},null,3,4,4,null,null,7,2,9,32,29]
[{"$f":"'21MBA221'!A137","v":"P18FW21M0123"},{"$f":"'21MBA221'!B137","v":"MADHAN KUMAR C S"},null,3,3,3,null,null,5,8,11,34,33]
[{"$f":"'21MBA221'!A138","v":"P18FW21M0124"},{"$f":"'21MBA221'!B138","v":"TEJAS H P"},null,4.5,1.5,3,null,null,0,6,1,21,16]
[{"$f":"'21MBA221'!A139","v":"P18FW21M0125"},{"$f":"'21MBA221'!B139","v":"DHANUSH K V"},3,3,null,2,null,null,0,4,12,24,24]
[{"$f":"'21MBA221'!A140","v":"P18FW21M0126"},{"$f":"'21MBA221'!B140","v":"SWAMI SAMIKSHA PUSHPARAJ"},3,4,null,4,null,null,5,4,10,32,30]
[{"$f":"'21MBA221'!A141","v":"P18FW21M0127"},{"$f":"'21MBA221'!B141","v":"AMITH BHAT"},3,2,3,{"$nulls":3},5,2,13,25,28]
[{"$f":"'21MBA221'!A142","v":"P18FW21M0128"},{"$f":"'21MBA221'!B142","v":"NUTHANA U"},null,4,5,5,null,null,3,7,14,34,38]
[{"$f":"'21MBA221'!A143","v":"P18FW21M0129"},{"$f":"'21MBA221'!B143","v":"CHETAN SINGH M"},3,3,2,null,null,7,6,null,5,33,26]
[{"$f":"'21MBA221'!A144","v":"P18FW21M0130"},{"$f":"'21MBA221'!B144","v":"KAUSTUBH LACHAPPANAVAR"},3,4,4.5,4.5,null,null,5,8,7,31,36]
[{"$f":"'21MBA221'!A145","v":"P18FW21M0131"},{"$f":"'21MBA221'!B145","v":"KSHITIJ P L"},2,3.5,null,null,1,3.5,1,null,1,31,{"$f":"SUM(C145:K145)","v":12}]
[{"$f":"'21MBA221'!A146","v":"P18FW21M0132"},{"$f":"'21MBA221'!B146","v":"BHUVANES P"},4,4,null,null,4,null,9,3,1,23,25]
[{"$f":"'21MBA221'!A147","v":"P18FW21M0133"},{"$f":"'21MBA221'!B147","v":"NALASANI VARSHITHA"},null,null,4,4,4,null,7,8,13,36,40]
[{"$f":"'21MBA221'!A148","v":"P18FW21M0134"},{"$f":"'21MBA221'!B148","v":"KOKILA K"},4,5,4.5,{"$nulls":3},6.5,5,14,33,39]
[{"$f":"'21MBA221'!A149","v":"P18FW21M0135"},{"$f":"'21MBA221'!B149","v":"KOTHA KEERTHANA"},null,4,4,4,null,null,6,7,12,37,37]
[{"$f":"'21MBA221'!A150","v":"P18FW21M0136"},{"$f":"'21MBA221'!B150","v":"MUCHELI SUBBARAJU"},3,null,4,4,5,3,5,0,13,28,37]
[{"$f":"'21MBA221'!A151","v":"P18FW21M0137"},{"$f":"'21MBA221'!B151","v":"NANDAGOPAL B R"},null,5,5,5,null,null,7,6,14,34,42]
[{"$f":"'21MBA221'!A152","v":"P18FW21M0138"},{"$f":"'21MBA221'!B152","v":"VISHAL SHIVARAJ"},null,5,3,3,null,null,5,6,6,29,28]
[{"$f":"'21MBA221'!A153","v":"P18FW21M0139"},{"$f":"'21MBA221'!B153","v":"SHASHI KUMAR R"},null,3,4,4,4,null,5,7,12,34,39]
[{"$f":"'21MBA221'!A154","v":"P18FW21M0140"},{"$f":"'21MBA221'!B154","v":"YASHWANTH R"},null,5,4,4,null,6,5,null,13,37,37]
[{"$f":"'21MBA221'!A155","v":"P18FW21M0141"},{"$f":"'21MBA221'!B155","v":"M M JABEZ"},null,null,4.5,4,4.5,null,6,5,3,27,27]
[{"$f":"'21MBA221'!A156","v":"P18FW21M0142"},{"$f":"'21MBA221'!B156","v":"KALAVALA ABHISHTA"},null,4,4.5,4,null,null,10,9,14,35,{"v":45.5,"d":"46"}]
[{"$f":"'21MBA221'!A157","v":"P18FW21M0143"},{"$f":"'21MBA221'!B157","v":"SANKALP V"},0,0,null,4,null,2,0,null,null,29,6]
[{"$f":"'21MBA221'!A158","v":"P18FW21M0144"},{"$f":"'21MBA221'!B158","v":"NAVEEN C"},null,3,2,4,null,null,8,9,13,34,39]
[{"$f":"'21MBA221'!A159","v":"P18FW21M0145"},{"$f":"'21MBA221'!B159","v":"PAVAN KUMAR M"},4,2,3,{"$nulls":3},3,0,11,26,23]
[{"$f":"'21MBA221'!A160","v":"P18FW21M0146"},{"$f":"'21MBA221'!B160","v":"KAPARTHI BHAVANA"},4,4,4.5,{"$nulls":3},10,9.5,8,39,40]
[{"$f":"'21MBA221'!A161","v":"P18FW21M0147"},{"$f":"'21MBA221'!B161","v":"MANOJ N S"},null,4,4,0,null,null,6,8,12,33,34]
[{"$f":"'21MBA221'!A162","v":"P18FW21M0149"},{"$f":"'21MBA221'!B162","v":"HEMA S"},5,4.5,null,4.5,null,null,6,8.5,8,33,{"v":36.5,"d":"37"}]
[{"$f":"'21MBA221'!A163","v":"P18FW21M0150"},{"$f":"'21MBA221'!B163","v":"MADHUSUDAN G"},null,4,4,4,null,null,10,8,12,28,42]
[{"$f":"'21MBA221'!A164","v":"P18FW21M0151"},{"$f":"'21MBA221'!B164","v":"ANNASAGARAM RAGHAVENDRA"},4,2,4,null,null,3,5,null,8,26,26]
[{"$f":"'21MBA221'!A165","v":"P18FW21M0152"},{"$f":"'21MBA221'!B165","v":"SYED MUSSAVEERULLA"},4,5,5,{"$nulls":3},5,4,8,32,31]
[{"$f":"'21MBA221'!A166","v":"P18FW21M0153"},{"$f":"'21MBA221'!B166","v":"SYED SAMEER"},4,5,4,4,null,null,5,0,2,33,24]
[{"$f":"'21MBA221'!A167","v":"P18FW21M0154"},{"$f":"'21MBA221'!B167","v":"RAMANABOINA ANAND KUMAR"},null,5,4.5,4.5,null,null,6,9,15,38,44]
[{"$f":"'21MBA221'!A168","v":"P18FW21M0155"},{"$f":"'21MBA221'!B168","v":"SHIVAM GANAPATI ANVEKAR"},3,4,null,4,null,null,6,5,12,27,34]
[{"$f":"'21MBA221'!A169","v":"P18FW21M0156"},{"$f":"'21MBA221'!B169","v":"SHUBHAM SINGH"},null,4,4,4,null,2,6,null,12,35,32]
[{"$f":"'21MBA221'!A170","v":"P18FW21M0157"},{"$f":"'21MBA221'!B170","v":"GURU VARUN G"},null,2,3,2,1,5,6,null,10,28,29]
[{"$f":"'21MBA221'!A171","v":"P18FW21M0158"},{"$f":"'21MBA221'!B171","v":"ABHIJEETH MASHETTY"},3,3,4,null,null,6,9,null,12,31,37]
[{"$f":"'21MBA221'!A172","v":"P18FW21M0159"},{"$f":"'21MBA221'!B172","v":"PRANITH KUMAR S"},null,4,3,3,null,null,8,6,11,33,35]
[{"$f":"'21MBA221'!A173","v":"P18FW21M0160"},{"$f":"'21MBA221'!B173","v":"LIKITHA A"},4,4,2,{"$nulls":3},8,9,11,34,38]
[{"$f":"'21MBA221'!A174","v":"P18FW21M0161"},{"$f":"'21MBA221'!B174","v":"NAVEEN SETTY N A"},3,4,null,4,null,7,5,2,13,37,38]
[{"$f":"'21MBA221'!A175","v":"P18FW21M0162"},{"$f":"'21MBA221'!B175","v":"REHAN FAISAL QADRI"},null,5,5,5,null,null,5,7,14,28,41]
[{"$f":"'21MBA221'!A176","v":"P18FW21M0163"},{"$f":"'21MBA221'!B176","v":"SMITHA M"},null,5,5,5,5,null,5,8,14,32,47]
[{"$f":"'21MBA221'!A177","v":"P18FW21M0164"},{"$f":"'21MBA221'!B177","v":"ANIRUDH K"},null,4,null,4,5,3,0,null,4,28,20]
[{"$f":"'21MBA221'!A178","v":"P18FW21M0165"},{"$f":"'21MBA221'!B178","v":"SALMAN FAISAL QADRI"},3,4,null,5,null,null,5,4,11,28,32]
[{"$f":"'21MBA221'!A179","v":"P18FW21M0166"},{"$f":"'21MBA221'!B179","v":"RAVISH RAMACHANDRA HEGDE"},null,2,2,3,3,null,5,0,10,31,25]
[{"$f":"'21MBA221'!A180","v":"P18FW21M0167"},{"$f":"'21MBA221'!B180","v":"POOJA VALLUR"},null,5,5,5,null,null,5,9,14,31,43]
[{"$f":"'21MBA221'!A181","v":"P18FW21M0169"},{"$f":"'21MBA221'!B181","v":"MAHANTH GOWDA K C"},null,4,5,5,null,null,5,9,13,33,41]
[{"$f":"'21MBA221'!A182","v":"P18FW21M0170"},{"$f":"'21MBA221'!B182","v":"BHUPALI SAURABH PRAKASH"},3,3,null,null,4,null,7,7,12,32,36]
[{"$f":"'21MBA221'!A183","v":"P18FW21M0171"},{"$f":"'21MBA221'!B183","v":"SYED RAIHAN"},null,4,3,4,null,null,5,6,13,32,35]
[{"$f":"'21MBA221'!A184","v":"P18FW21M0172"},{"$f":"'21MBA221'!B184","v":"SHRI HARI L"},null,4,2,4,null,null,8,5,12,30,35]
[{"$f":"'21MBA221'!A185","v":"P18FW21M0173"},{"$f":"'21MBA221'!B185","v":"SNEHA U"},null,5,null,4,0,null,0,7,14,32,30]
[{"$f":"'21MBA221'!A186","v":"P18FW21M0174"},{"$f":"'21MBA221'!B186","v":"SHAH VINIT SIDDHARTH"},null,4,null,4,5,null,8,3,13,35,37]
[{"$f":"'21MBA221'!A187","v":"P18FW21M0175"},{"$f":"'21MBA221'!B187","v":"NAYANA G C"},3,4,4,null,null,3,6,null,13,33,33]
[{"$f":"'21MBA221'!A188","v":"P18FW21M0176"},{"$f":"'21MBA221'!B188","v":"D SURIYA PRIYASREE"},1,4,0,{"$nulls":3},6,9,9,29,29]
[{"$f":"'21MBA221'!A189","v":"P18FW21M0177"},{"$f":"'21MBA221'!B189","v":"SATHYA B NAYAKA"},null,4,4,4,null,null,8,6,11,30,37]
[{"$f":"'21MBA221'!A190","v":"P18FW21M0178"},{"$f":"'21MBA221'!B190","v":"NEHA H V"},4,3,null,null,2,null,2,4,10,26,25]
[{"$f":"'21MBA221'!A191","v":"P18FW21M0179"},{"$f":"'21MBA221'!B191","v":"SAAHIL SRIKANT KULLOLI"},3,4,4,{"$nulls":3},10,9,12,33,42]
[{"$f":"'21MBA221'!A192","v":"P18FW21M0180"},{"$f":"'21MBA221'!B192","v":"SIMRANJIT KAUR"},4,4,null,4,null,null,8,9,8,38,37]
[{"$f":"'21MBA221'!A193","v":"P18FW21M0181"},{"$f":"'21MBA221'!B193","v":"NIRANJAN JANARDHAN HEGDE"},null,5,4,3,null,null,2.5,2.5,12,36,29]
[{"$f":"'21MBA221'!A194","v":"P18FW21M0182"},{"$f":"'21MBA221'!B194","v":"TEJAS N"},0,0,0,{"$nulls":3},0,0,null,"",0]
[{"$f":"'21MBA221'!A195","v":"P18FW21M0184"},{"$f":"'21MBA221'!B195","v":"AGAMYA A KINHAL"},3,null,4,3,null,null,3,9,10,32,32]
["No. of students attended",null,{"$f":"COUNTA(C16:C195)","v":104},161,137,110,46,32,179,158,176,{"$f":"COUNT(L16:L195)","v":178}]
["No. of Students attained CO",null,{"$f":"COUNTIF(C16:C195,\">\"&C15)","v":70},126,102,78,28,3,60,84,111,178]
[" CO Attainment percentage",null,{"$f":"ROUND(C197*100/C196,0)","v":67},78,74,71,61,9,34,53,63,{"$f":"ROUND(L197*100/L196,0)","v":100}]
["Level",null,{"$f":"IF(C198>=80,\"3\",IF(C198>=70,\"2\",IF(C198>=60,\"1\",\"-\")))","v":"1"},{"$f":"IF(D198>=80,\"3\",IF(D198>=70,\"2\",IF(D198>=60,\"1\",\"-\")))","v":"2"},"2","2","1","-","-","-","1","3"]
[null,null,"CO1","CO1","CO3","CO4","CO2","CO2","CO2","CO3","CO4"]
[{"$nulls":7},"Internals",null,"Final CO Attainment"]
[{"$nulls":5},"CO ",null,"Percent","Level","Percent","Level"]
[{"$nulls":5},"CO 1",null,{"$f":"AVERAGE(C198,D198)","v":72.5},{"$f":"IF(H203>=80,\"3\",IF(H203>=70,\"2\",IF(H203>=60,\"1\",IF(H203<=59,\"-\"))))","v":"2"},{"$f":"(H203*0.3)+($L$198*0.7)","v":91.75},{"$f":"IF(J203>=80,\"3\",IF(J203>=70,\"2\",IF(J203>=60,\"1\",IF(J203<59,\"-\"))))","v":"3"}]
[{"$nulls":5},"CO 2",null,{"$f":"AVERAGE(G198,H198,I198,K198)","v":{"v":41.75,"d":"42"}},{"$f":"IF(H204>=80,\"3\",IF(H204>=70,\"2\",IF(H204>=60,\"1\",IF(H204<=59,\"-\"))))","v":"-"},{"$f":"(H204*0.3)+($L$198*0.7)","v":82.525},{"$f":"IF(J204>=80,\"3\",IF(J204>=70,\"2\",IF(J204>=60,\"1\",IF(J204<59,\"-\"))))","v":"3"}]
[{"$nulls":5},"CO 3",null,{"$f":"AVERAGE(E198,J198,F198,I198)","v":58},{"$f":"IF(H205>=80,\"3\",IF(H205>=70,\"2\",IF(H205>=60,\"1\",IF(H205<=59,\"-\"))))","v":"-"},87.4,{"$f":"IF(J205>=80,\"3\",IF(J205>=70,\"2\",IF(J205>=60,\"1\",IF(J205<59,\"-\"))))","v":"3"}]
[{"$nulls":5},"CO 4",null,{"$f":"AVERAGE(F198,K198,D198,H198)","v":55.25},"-",86.575,{"$f":"IF(J206>=80,\"3\",IF(J206>=70,\"2\",IF(J206>=60,\"1\",IF(J206<59,\"-\"))))","v":"3"}]
[{"$nulls":5},"CO 5",null,{"$f":"AVERAGE(D198,E198,G198,K198)","v":69},"1",90.7,{"$f":"IF(J207>=80,\"3\",IF(J207>=70,\"2\",IF(J207>=60,\"1\",IF(J207<59,\"-\"))))","v":"3"}]

{"sheet":"21MBA521-Attainment","index":5,"n_rows":28,"n_cols":13,"rows_kept":28,"merged":[[20,0,20,1],[20,2,21,2],[20,3,21,3],[20,4,21,4],[20,5,21,5],[20,6,21,6],[20,7,21,7],[20,8,21,8],[20,9,21,9],[20,10,21,10],[20,11,21,11],[20,12,21,12],[21,0,21,1]]}
[{"$f":"'21MBA521'!A5:M5","v":"Introduction to Business Analytics"}]
[]
[{"$nulls":3},"Internals",null,"Final CO Attainment"]
[null,null,"CO ","Percentage","Level","Percentage","Level"]
[null,null,"CO1",{"$f":"'21MBA521'!H203","v":{"v":72.5,"d":"73"}},{"$f":"'21MBA521'!I203","v":"2"},{"$f":"'21MBA521'!J203","v":{"v":91.75,"d":"92"}},{"$f":"'21MBA521'!K203","v":"3"}]
[null,null,"CO2",{"$f":"'21MBA521'!H204","v":{"v":41.75,"d":"42"}},{"$f":"'21MBA521'!I204","v":"-"},{"$f":"'21MBA521'!J204","v":{"v":82.525,"d":"83"}},{"$f":"'21MBA521'!K204","v":"3"}]
[null,null,"CO3",{"$f":"'21MBA521'!H205","v":58},{"$f":"'21MBA521'!I205","v":"-"},{"$f":"'21MBA521'!J205","v":{"v":87.4,"d":"87"}},{"$f":"'21MBA521'!K205","v":"3"}]
[null,null,"CO4",{"$f":"'21MBA521'!H206","v":{"v":55.25,"d":"55"}},{"$f":"'21MBA521'!I206","v":"-"},{"$f":"'21MBA521'!J206","v":{"v":86.575,"d":"87"}},{"$f":"'21MBA521'!K206","v":"3"}]
[null,null,"CO5",{"$f":"'21MBA521'!H207","v":69},{"$f":"'21MBA521'!I207","v":"1"},{"$f":"'21MBA521'!J207","v":{"v":90.7,"d":"91"}},{"$f":"'21MBA521'!K207","v":"3"}]
[]
[]
[null,null,"PO1","PO2","PO3","PO4","PO5","PO6","PO7","PO8","PO9","PO10","PO11"]
[null,"C01",null,2,1,1,null,1,2,2,2,1]
[null,"C02",null,2,1,1,1,2,2,2,2,null,1]
[null,"C03",null,2,{"$nulls":3},2,2,1,1]
[null,"C04",null,2,{"$nulls":3},1,2,1,1]
[null,"C05",null,2,{"$nulls":3},1,2,2,2]
[null,null,"LEVEL  ","3-Substantial","2-Moderate","1-Slight","\"-\" No Co-relation"]
[]
[]
["Final CO",null,"PO1","PO2","PO3","PO4","PO5","PO6","PO7","PO8","PO9","PO10","PO11"]
[" ATTAINMENT"]
["C01",{"$f":"F5","v":91.75},{"$f":"C13*$B$23/3","v":{"v":0,"d":"0.00"}},{"v":61.166666666666664,"d":"61.17"},{"v":30.583333333333332,"d":"30.58"},{"v":30.583333333333332,"d":"30.58"},{"v":0,"d":"0.00"},{"v":30.583333333333332,"d":"30.58"},{"v":61.166666666666664,"d":"61.17"},{"v":61.166666666666664,"d":"61.17"},{"v":61.166666666666664,"d":"61.17"},{"$f":"L13*$B$23/3","v":{"v":30.583333333333332,"d":"30.58"}},{"v":0,"d":"0.00"}]
["C02",{"$f":"F6","v":{"v":82.525,"d":"82.53"}},{"$f":"C14*$B$24/3","v":{"v":0,"d":"0.00"}},{"v":55.01666666666667,"d":"55.02"},{"v":27.508333333333336,"d":"27.51"},{"v":27.508333333333336,"d":"27.51"},{"v":27.508333333333336,"d":"27.51"},{"v":55.01666666666667,"d":"55.02"},{"v":55.01666666666667,"d":"55.02"},{"v":55.01666666666667,"d":"55.02"},{"v":55.01666666666667,"d":"55.02"},{"$f":"L14*$B$24/3","v":{"v":0,"d":"0.00"}},{"v":27.508333333333336,"d":"27.51"}]
["C03",{"$f":"F7","v":{"v":87.4,"d":"87.40"}},{"$f":"C15*$B$25/3","v":{"v":0,"d":"0.00"}},{"v":58.26666666666667,"d":"58.27"},{"v":0,"d":"0.00"},{"v":0,"d":"0.00"},{"v":0,"d":"0.00"},{"v":58.26666666666667,"d":"58.27"},{"v":58.26666666666667,"d":"58.27"},{"v":29.133333333333336,"d":"29.13"},{"v":29.133333333333336,"d":"29.13"},{"$f":"L15*$B$25/3","v":{"v":0,"d":"0.00"}},{"v":0,"d":"0.00"}]
["C04",{"$f":"F8","v":{"v":86.575,"d":"86.58"}},{"$f":"C17*$B$26/3","v":{"v":0,"d":"0.00"}},{"v":57.71666666666667,"d":"57.72"},{"v":0,"d":"0.00"},{"v":0,"d":"0.00"},{"v":0,"d":"0.00"},{"v":28.858333333333334,"d":"28.86"},{"v":57.71666666666667,"d":"57.72"},{"v":57.71666666666667,"d":"57.72"},{"v":57.71666666666667,"d":"57.72"},{"v":0,"d":"0.00"},{"v":0,"d":"0.00"}]
["C05",{"$f":"F9","v":{"v":90.7,"d":"90.70"}},{"$f":"C17*$B$27/3","v":{"v":0,"d":"0.00"}},{"$f":"D17*$B$27/3","v":{"v":60.46666666666667,"d":"60.47"}},{"v":0,"d":"0.00"},{"v":0,"d":"0.00"},{"v":0,"d":"0.00"},{"v":30.233333333333334,"d":"30.23"},{"v":60.46666666666667,"d":"60.47"},{"v":60.46666666666667,"d":"60.47"},{"v":60.46666666666667,"d":"60.47"},{"v":0,"d":"0.00"},{"v":0,"d":"0.00"}]
["Average",{"$f":"AVERAGE(B23:B27)","v":{"v":87.78999999999999,"d":"87.79"}},{"$f":"AVERAGE(C23:C27)","v":{"v":0,"d":"0.00"}},{"v":58.526666666666664,"d":"58.53"},{"v":11.618333333333334,"d":"11.62"},{"v":11.618333333333334,"d":"11.62"},{"v":5.501666666666667,"d":"5.50"},{"v":40.591666666666676,"d":"40.59"},{"v":58.526666666666664,"d":"58.53"},{"v":52.7,"d":"52.70"},{"v":52.7,"d":"52.70"},{"v":6.116666666666666,"d":"6.12"},{"v":5.501666666666667,"d":"5.50"}]

{"sheet":"21MBA621","index":6,"n_rows":207,"n_cols":13,"rows_kept":207,"merged":[[0,0,0,12],[1,0,1,12],[2,0,2,12],[3,0,3,12],[4,0,4,12],[5,0,5,1],[5,8,5,10],[6,0,6,3],[7,3,7,8],[8,3,8,8],[9,2,9,10],[10,0,10,1],[10,2,10,6],[10,7,10,9],[11,0,11,1],[12,0,12,1],[13,0,13,1],[195,0,195,1],[196,0,196,1],[197,0,197,1],[198,0,198,1],[200,5,200,6],[200,7,200,8],[201,5,201,6],[202,5,202,6],[203,5,203,6],[204,5,204,6],[205,5,205,6],[206,5,206,6]]}
["RV Institute of Management"]
["Autonomous Institution Affiliated to BCU "]
["MBA Programme   II Semester"]
["Course Outcome Report"]
["Human Resource Management"]
["Name of the Course Teacher:",{"$nulls":7},"Sub. Code:",null,null,"21MBA621"]
["Prof.Sowmya D S, Dr.Rashmi Shetty, Dr. Noor Firdoos Jahan ",{"$nulls":8},"Sec: ",null,"ABC"]
[{"$nulls":3},"Semester II"]
[{"$nulls":3},"Batch 2021-23"]
[]
[null,null,"Section A",{"$nulls":4},"Section B",null,null,"Sec-C"]
["Question number",null,1,2,3,4,5,6,7,8,9,"External Exam ","Mid Term Exam "]
["Course outcome",null,"CO1","CO4","CO3","CO3","CO2","CO1","CO4","CO3","CO2","Marks","Marks"]
["Maximum marks",null,5,5,5,5,5,10,10,10,15,50,50]
["Student Reg. No","Student Name",{"$f":"C14*0.64","v":3.2},{"$f":"D14*0.64","v":3.2},3.2,3.2,3.2,6.4,6.4,6.4,9.6,{"$f":"L14*0.357142","v":{"v":17.8571,"d":"18"}}]
[{"$f":"'21MBA221'!A16","v":"P18FW21M0001"},{"$f":"'21MBA221'!B16","v":"VIPUL VILAS NAIK"},4,null,4,null,3,7,8,null,11,31,{"$f":"SUM(C16:K16)","v":37}]
[{"$f":"'21MBA221'!A17","v":"P18FW21M0002"},{"$f":"'21MBA221'!B17","v":"M PRANEETH KUMAR REDDY"},null,3,3,4,null,8,8,null,11,29,{"$f":"SUM(C17:K17)","v":37}]
[{"$f":"'21MBA221'!A18","v":"P18FW21M0003"},{"$f":"'21MBA221'!B18","v":"NIKHIL S ANJANALLI"},null,3.5,4,4,null,8.5,8,null,7,30,35]
[{"$f":"'21MBA221'!A19","v":"P18FW21M0004"},{"$f":"'21MBA221'!B19","v":"KARTHIK P SHETTY"},2.5,3,4,{"$nulls":3},5,7,10,25,{"v":31.5,"d":"32"}]
[{"$f":"'21MBA221'!A20","v":"P18FW21M0005"},{"$f":"'21MBA221'!B20","v":"AMITH C"},null,3,4,0,null,9,null,8.5,10,27,{"v":34.5,"d":"35"}]
[{"$f":"'21MBA221'!A21","v":"P18FW21M0006"},{"$f":"'21MBA221'!B21","v":"AISHWARYA G"},null,3,1,1,null,3,null,8,6,29,22]
[{"$f":"'21MBA221'!A22","v":"P18FW21M0007"},{"$f":"'21MBA221'!B22","v":"AKANKSH P"},4,null,4,4,null,null,8.5,8,11,36,{"v":39.5,"d":"40"}]
[{"$f":"'21MBA221'!A23","v":"P18FW21M0008"},{"$f":"'21MBA221'!B23","v":"SACHITH B K"},null,3,4,4,null,null,8,8,5,35,32]
[{"$f":"'21MBA221'!A24","v":"P18FW21M0009"},{"$f":"'21MBA221'!B24","v":"CHAITANYA KAMATAGI B"},null,4,5,4,null,9,null,9,12,38,43]
[{"$f":"'21MBA221'!A25","v":"P18FW21M0010"},{"$f":"'21MBA221'!B25","v":"AKASH RACHAPPA KHANAGAVI"},null,4,4,3,null,9,null,9,8,30,37]
[{"$f":"'21MBA221'!A26","v":"P18FW21M0011"},{"$f":"'21MBA221'!B26","v":"SOURAV SADANAND SWAR"},3,null,2,null,2,6,null,7,3,30,23]
[{"$f":"'21MBA221'!A27","v":"P18FW21M0012"},{"$f":"'21MBA221'!B27","v":"NISHANTH KRISHNA"},4,4,4,{"$nulls":3},9,9,11,28,41]
[{"$f":"'21MBA221'!A28","v":"P18FW21M0013"},{"$f":"'21MBA221'!B28","v":"MEHUL V BHASKAR"},3,null,4,3,null,null,6,5,9,31,30]
[{"$f":"'21MBA221'!A29","v":"P18FW21M0014"},{"$f":"'21MBA221'!B29","v":"SHUBHAM RAJENDRA REVANKAR"},4,4,4,{"$nulls":3},8,8,9,29,37]
[{"$f":"'21MBA221'!A30","v":"P18FW21M0015"},{"$f":"'21MBA221'!B30","v":"SHETTY TRUPTHI CHANDRAHAS"},3,null,4,null,3,6,null,8,11,33,35]
[{"$f":"'21MBA221'!A31","v":"P18FW21M0016"},{"$f":"'21MBA221'!B31","v":"SHEEBAL M S"},null,4,4,4,null,8,null,8,10,32,38]
[{"$f":"'21MBA221'!A32","v":"P18FW21M0017"},{"$f":"'21MBA221'!B32","v":"VISHNU KUMAR"},4,3,3,null,null,9,null,8,10,37,37]
[{"$f":"'21MBA221'!A33","v":"P18FW21M0018"},{"$f":"'21MBA221'!B33","v":"HARSHITHA SRINIVAS"},3,3,4,{"$nulls":3},8,7,10,39,35]
[{"$f":"'21MBA221'!A34","v":"P18FW21M0019"},{"$f":"'21MBA221'!B34","v":"SAGI SAMPI"},4,4,null,null,4,null,9,9,13,40,43]
[{"$f":"'21MBA221'!A35","v":"P18FW21M0020"},{"$f":"'21MBA221'!B35","v":"PAULOMEE BARUAH"},3,3,3,{"$nulls":3},8,8,12,35,37]
[{"$f":"'21MBA221'!A36","v":"P18FW21M0021"},{"$f":"'21MBA221'!B36","v":"NEETHA KAMATH"},null,3,3,null,4,null,7,8,11,34,36]
[{"$f":"'21MBA221'!A37","v":"P18FW21M0022"},{"$f":"'21MBA221'!B37","v":"ADITYA UDAY HEGDE"},null,3,2,null,3,6,null,7,10,33,31]
[{"$f":"'21MBA221'!A38","v":"P18FW21M0023"},{"$f":"'21MBA221'!B38","v":"SHREYAS G A"},4,3,null,3,null,null,8,8,10,31,36]
[{"$f":"'21MBA221'!A39","v":"P18FW21M0024"},{"$f":"'21MBA221'!B39","v":"SRUJANA S"},null,3,5,3,null,5,8,null,13,35,37]
[{"$f":"'21MBA221'!A40","v":"P18FW21M0025"},{"$f":"'21MBA221'!B40","v":"PRAJWAL S N"},2,3,3,null,2,null,8,6,10,35,34]
[{"$f":"'21MBA221'!A41","v":"P18FW21M0026"},{"$f":"'21MBA221'!B41","v":"SUCHITRA G"},null,2,3,1,0,8,8,null,11,31,33]
[{"$f":"'21MBA221'!A42","v":"P18FW21M0027"},{"$f":"'21MBA221'!B42","v":"SANKET SURESH SHIRSAT"},3,4,3,{"$nulls":3},8,8,10,33,36]
[{"$f":"'21MBA221'!A43","v":"P18FW21M0028"},{"$f":"'21MBA221'!B43","v":"ANIKET SANJAY REVANKAR"},3,4,4,{"$nulls":3},9,9,12,33,41]
[{"$f":"'21MBA221'!A44","v":"P18FW21M0029"},{"$f":"'21MBA221'!B44","v":"AKHILA H"},3,2,3,null,null,8,8,null,13,30,37]
[{"$f":"'21MBA221'!A45","v":"P18FW21M0030"},{"$f":"'21MBA221'!B45","v":"M LUQMAN NAWAZ"},3,null,3,null,3,null,8,8,10,35,35]
[{"$f":"'21MBA221'!A46","v":"P18FW21M0031"},{"$f":"'21MBA221'!B46","v":"MADHURA A"},3,null,3,null,3,null,8,8,11,35,36]
[{"$f":"'21MBA221'!A47","v":"P18FW21M0032"},{"$f":"'21MBA221'!B47","v":"H V SHREEVATSA"},3,3,2,{"$nulls":3},7,6,10,30,31]
[{"$f":"'21MBA221'!A48","v":"P18FW21M0033"},{"$f":"'21MBA221'!B48","v":"LILIMA DASH"},null,null,2,3,3,null,8,7,10,32,33]
[{"$f":"'21MBA221'!A49","v":"P18FW21M0034"},{"$f":"'21MBA221'!B49","v":"KUMAR ASHUTOSH"},null,2,2,null,3,null,8,8,10,26,33]
[{"$f":"'21MBA221'!A50","v":"P18FW21M0035"},{"$f":"'21MBA221'!B50","v":"RAHUL S SANGOLLI"},2,null,3,2,null,null,7,8,10,33,32]
[{"$f":"'21MBA221'!A51","v":"P18FW21M0036"},{"$f":"'21MBA221'!B51","v":"GIRISH N NASHI"},3,null,2,null,3,null,8,9,11,31,36]
[{"$f":"'21MBA221'!A52","v":"P18FW21M0037"},{"$f":"'21MBA221'!B52","v":"ANKITA GAJANAN NAIK"},null,3,null,3,3,7,null,7,7,33,30]
[{"$f":"'21MBA221'!A53","v":"P18FW21M0038"},{"$f":"'21MBA221'!B53","v":"GURUBASAVARAJ K M"},3,3,null,3,null,null,7,6,11,33,33]
[{"$f":"'21MBA221'!A54","v":"P18FW21M0039"},{"$f":"'21MBA221'!B54","v":"ANANYA P HEGDE"},null,3,4,4,null,8,8,null,9,28,36]
[{"$f":"'21MBA221'!A55","v":"P18FW21M0040"},{"$f":"'21MBA221'!B55","v":"NIVEDITHA K SWAMY"},4.5,4.5,null,4,null,9,null,9,12,35,43]
[{"$f":"'21MBA221'!A56","v":"P18FW21M0041"},{"$f":"'21MBA221'!B56","v":"LIKHITHA L"},3,null,null,3,4,null,8,8,9,32,35]
[{"$f":"'21MBA221'!A57","v":"P18FW21M0042"},{"$f":"'21MBA221'!B57","v":"RAHUL RAM BHAT"},4,3,3,{"$nulls":3},8,7,10,31,35]
[{"$f":"'21MBA221'!A58","v":"P18FW21M0043"},{"$f":"'21MBA221'!B58","v":"AMIT KAMADOLLISHETTARU"},null,null,3,1,3,null,5,7,10,31,29]
[{"$f":"'21MBA221'!A59","v":"P18FW21M0044"},{"$f":"'21MBA221'!B59","v":"POOJARANI TALAWAR"},null,4,3,null,3,null,9,8,10,31,37]
[{"$f":"'21MBA221'!A60","v":"P18FW21M0045"},{"$f":"'21MBA221'!B60","v":"ABHITHA K"},3,3,null,1,null,null,8,8,7,35,30]
[{"$f":"'21MBA221'!A61","v":"P18FW21M0046"},{"$f":"'21MBA221'!B61","v":"S SHREYAS"},3,4,null,3,null,null,6,8,8,22,32]
[{"$f":"'21MBA221'!A62","v":"P18FW21M0047"},{"$f":"'21MBA221'!B62","v":"ABHISHEK SHENOY"},null,3,4,3,null,null,7,7,8,32,32]
[{"$f":"'21MBA221'!A63","v":"P18FW21M0048"},{"$f":"'21MBA221'!B63","v":"B S SUSHEN"},4,null,4,null,4,null,9,9,13,38,43]
[{"$f":"'21MBA221'!A64","v":"P18FW21M0049"},{"$f":"'21MBA221'!B64","v":"PRAJWALA H"},4.5,null,4.5,4.5,null,null,9,9,11,38,{"v":42.5,"d":"43"}]
[{"$f":"'21MBA221'!A65","v":"P18FW21M0050"},{"$f":"'21MBA221'!B65","v":"VAISHNAVI N"},4,null,4.5,null,4.5,null,9,9,12,39,43]
[{"$f":"'21MBA221'!A66","v":"P18FW21M0051"},{"$f":"'21MBA221'!B66","v":"DEEPAK GIRISH KALYANI"},null,4,4,null,4,null,8,8,11,35,39]
[{"$f":"'21MBA221'!A67","v":"P18FW21M0052"},{"$f":"'21MBA221'!B67","v":"ISAAC JESSE K"},null,1,null,3,3,null,7,7,0,24,21]
[{"$f":"'21MBA221'!A68","v":"P18FW21M0053"},{"$f":"'21MBA221'!B68","v":"SUPRIYA GOVIND BELSARE"},null,3,4,null,3,null,7,7,6,32,30]
[{"$f":"'21MBA221'!A69","v":"P18FW21M0054"},{"$f":"'21MBA221'!B69","v":"VINAYAK RAO GAIKWAD K"},3,3,3,{"$nulls":3},2,0,10,26,21]
[{"$f":"'21MBA221'!A70","v":"P18FW21M0055"},{"$f":"'21MBA221'!B70","v":"SUTOPA DEB"},3,null,2,null,2,null,3,7,9,32,26]
[{"$f":"'21MBA221'!A71","v":"P18FW21M0056"},{"$f":"'21MBA221'!B71","v":"M S SUKRUT"},4,null,3,null,4,null,8,8,12,"AB",39]
[{"$f":"'21MBA221'!A72","v":"P18FW21M0057"},{"$f":"'21MBA221'!B72","v":"BHASKARA PRABHU"},3,3,null,null,3,null,8,8,9,33,34]
[{"$f":"'21MBA221'!A73","v":"P18FW21M0058"},{"$f":"'21MBA221'!B73","v":"PRAKASH SHIVAKUMAR"},null,2,3,null,0,null,9,6,7,33,27]
[{"$f":"'21MBA221'!A74","v":"P18FW21M0059"},{"$f":"'21MBA221'!B74","v":"AMOGHA Y G"},4,3,3,{"$nulls":3},8.5,9,10,27,{"v":37.5,"d":"38"}]
[{"$f":"'21MBA221'!A75","v":"P18FW21M0060"},{"$f":"'21MBA221'!B75","v":"BHARATH K S"},4,3,4,{"$nulls":3},8,8,12,30,39]
[{"$f":"'21MBA221'!A76","v":"P18FW21M0061"},{"$f":"'21MBA221'!B76","v":"AKANKSH K G"},0,3,null,3,null,null,7,5,12,34,30]
[{"$f":"'21MBA221'!A77","v":"P18FW21M0062"},{"$f":"'21MBA221'!B77","v":"BERNARD FERNANDES"},2,2,null,null,2,null,3,3,9,27,21]
[{"$f":"'21MBA221'!A78","v":"P18FW21M0063"},{"$f":"'21MBA221'!B78","v":"AISHWARYA P"},2,4,4,null,null,2,null,4,5,30,21]
[{"$f":"'21MBA221'!A79","v":"P18FW21M0064"},{"$f":"'21MBA221'!B79","v":"VIOLA PINTO"},null,3,4,3,null,null,8,8,11,37,37]
[{"$f":"'21MBA221'!A80","v":"P18FW21M0065"},{"$f":"'21MBA221'!B80","v":"VARSHA"},null,1,3,3,null,null,8,8,8,33,31]
[{"$f":"'21MBA221'!A81","v":"P18FW21M0066"},{"$f":"'21MBA221'!B81","v":"CHIDRI BALAJI"},null,4,4,4,null,null,9,9,10,32,{"$f":"SUM(C81:K81)","v":40}]
[{"$f":"'21MBA221'!A82","v":"P18FW21M0067"},{"$f":"'21MBA221'!B82","v":"GAGANDEEP V N"},null,2,3,3,null,null,8,8,10,32,34]
[{"$f":"'21MBA221'!A83","v":"P18FW21M0068"},{"$f":"'21MBA221'!B83","v":"PRAJWALA"},4,5,null,5,null,null,10,8,13,39,45]
[{"$f":"'21MBA221'!A84","v":"P18FW21M0069"},{"$f":"'21MBA221'!B84","v":"POORNIMA L"},null,3,3,3,null,null,9,9,9,32,36]
[{"$f":"'21MBA221'!A85","v":"P18FW21M0070"},{"$f":"'21MBA221'!B85","v":"SHUBIKSHA S"},3,4,4.5,{"$nulls":3},9,8.5,13,34,42]
[{"$f":"'21MBA221'!A86","v":"P18FW21M0071"},{"$f":"'21MBA221'!B86","v":"ANUSHA"},null,3,3,4,null,null,6,7,9,32,32]
[{"$f":"'21MBA221'!A87","v":"P18FW21M0072"},{"$f":"'21MBA221'!B87","v":"P T KIRTI"},4,4,4,{"$nulls":3},8,8,9,31,37]
[{"$f":"'21MBA221'!A88","v":"P18FW21M0073"},{"$f":"'21MBA221'!B88","v":"SAMEEKSHA M P"},4,3,3,{"$nulls":3},8,7,8,36,33]
[{"$f":"'21MBA221'!A89","v":"P18FW21M0074"},{"$f":"'21MBA221'!B89","v":"KAVYAPRIYA J"},null,3,3,4,null,null,8,8,10,29,36]
[{"$f":"'21MBA221'!A90","v":"P18FW21M0075"},{"$f":"'21MBA221'!B90","v":"RAKSHITH R T"},null,3,null,3,3,5,7,null,10,33,31]
[{"$f":"'21MBA221'!A91","v":"P18FW21M0076"},{"$f":"'21MBA221'!B91","v":"SHUBHA R"},3,3,3,{"$nulls":3},8,9,10,35,36]
[{"$f":"'21MBA221'!A92","v":"P18FW21M0077"},{"$f":"'21MBA221'!B92","v":"BASAVARAJ"},3,3,3,null,3,null,7,7,10,32,36]
[{"$f":"'21MBA221'!A93","v":"P18FW21M0078"},{"$f":"'21MBA221'!B93","v":"MANOJ RAKSHATH B S"},2.5,3,null,null,3,null,6,6,7,21,{"v":27.5,"d":"28"}]
[{"$f":"'21MBA221'!A94","v":"P18FW21M0079"},{"$f":"'21MBA221'!B94","v":"ADITI RANI"},null,4,3,3,null,null,8,8,8,24,34]
[{"$f":"'21MBA221'!A95","v":"P18FW21M0080"},{"$f":"'21MBA221'!B95","v":"DIVYA SHREE M"},4,4.5,4,{"$nulls":3},9,9,12,39,{"v":42.5,"d":"43"}]
[{"$f":"'21MBA221'!A96","v":"P18FW21M0081"},{"$f":"'21MBA221'!B96","v":"VARUN S BHARADWAJ"},4,2,4,{"$nulls":3},9,8,10,34,37]
[{"$f":"'21MBA221'!A97","v":"P18FW21M0082"},{"$f":"'21MBA221'!B97","v":"S KARTHIK"},3,null,4,null,3,8.5,8.5,null,12,29,39]
[{"$f":"'21MBA221'!A98","v":"P18FW21M0083"},{"$f":"'21MBA221'!B98","v":"NEELAMMA M K"},4,2,4,3,null,8,null,7,10,34,38]
[{"$f":"'21MBA221'!A99","v":"P18FW21M0084"},{"$f":"'21MBA221'!B99","v":"PRAMOD K L"},4,4,4,{"$nulls":3},8.5,8,11,32,{"v":39.5,"d":"40"}]
[{"$f":"'21MBA221'!A100","v":"P18FW21M0085"},{"$f":"'21MBA221'!B100","v":"NAMRATHA N"},4,null,3,null,5,null,9,9,11,37,41]
[{"$f":"'21MBA221'!A101","v":"P18FW21M0086"},{"$f":"'21MBA221'!B101","v":"ANVITH KUMAR"},3,3,4,{"$nulls":3},8,8,10,33,36]
[{"$f":"'21MBA221'!A102","v":"P18FW21M0087"},{"$f":"'21MBA221'!B102","v":"BHOOMIKA BHAT"},null,4,4,3.5,null,null,8,8,12,30,{"v":39.5,"d":"40"}]
[{"$f":"'21MBA221'!A103","v":"P18FW21M0088"},{"$f":"'21MBA221'!B103","v":"SOUMYA GANAPATI HEGDE"},null,2,null,2.5,3,null,8,8,11,33,{"v":34.5,"d":"35"}]
[{"$f":"'21MBA221'!A104","v":"P18FW21M0089"},{"$f":"'21MBA221'!B104","v":"SHREEKRISHNA"},4,4,4,{"$nulls":3},8,7,10,36,37]
[{"$f":"'21MBA221'!A105","v":"P18FW21M0090"},{"$f":"'21MBA221'!B105","v":"OLETI SAI SREENITHYA"},3,3,4,{"$nulls":3},9,9,10,36,38]
[{"$f":"'21MBA221'!A106","v":"P18FW21M0091"},{"$f":"'21MBA221'!B106","v":"RAMANUJAM H J"},null,4,null,4,4,null,8,8,10,32,38]
[{"$f":"'21MBA221'!A107","v":"P18FW21M0092"},{"$f":"'21MBA221'!B107","v":"CHAVI JAGADEESH"},null,3,3,null,2,5,null,6,6,24,25]
[{"$f":"'21MBA221'!A108","v":"P18FW21M0093"},{"$f":"'21MBA221'!B108","v":"DESAI JATIN ARUN"},1,2,null,2,null,null,4,2,6,19,17]
[{"$f":"'21MBA221'!A109","v":"P18FW21M0094"},{"$f":"'21MBA221'!B109","v":"MALLESH S"},2,null,3,null,3,null,2,6,8,26,24]
[{"$f":"'21MBA221'!A110","v":"P18FW21M0095"},{"$f":"'21MBA221'!B110","v":"SRINIDHI K"},3,null,null,3,4,null,8,8,11,35,37]
[{"$f":"'21MBA221'!A111","v":"P18FW21M0096"},{"$f":"'21MBA221'!B111","v":"B SHASHANK"},5,4,null,null,4,4,10,1,10,37,38]
[{"$f":"'21MBA221'!A112","v":"P18FW21M0097"},{"$f":"'21MBA221'!B112","v":"YOGASHREE C N"},4.5,4,4.5,{"$nulls":3},9,9,14,31,45]
[{"$f":"'21MBA221'!A113","v":"P18FW21M0098"},{"$f":"'21MBA221'!B113","v":"CHARANA T U"},3,null,2.5,null,3,null,7,7,8,28,{"v":30.5,"d":"31"}]
[{"$f":"'21MBA221'!A114","v":"P18FW21M0099"},{"$f":"'21MBA221'!B114","v":"NAGARAJ GAJANAN HEGDE"},null,null,3,3,3,null,7,7,8,27,31]
[{"$f":"'21MBA221'!A115","v":"P18FW21M0100"},{"$f":"'21MBA221'!B115","v":"NIKITHA J SHANBHOG"},3,4,4,{"$nulls":3},9,8.5,8,27,{"v":36.5,"d":"37"}]
[{"$f":"'21MBA221'!A116","v":"P18FW21M0101"},{"$f":"'21MBA221'!B116","v":"YASHASWINI P"},3,null,3,null,4,null,4,6,10,30,30]
[{"$f":"'21MBA221'!A117","v":"P18FW21M0102"},{"$f":"'21MBA221'!B117","v":"TANUSHREE R"},null,3,3,4,null,null,2,3,10,26,25]
[{"$f":"'21MBA221'!A118","v":"P18FW21M0103"},{"$f":"'21MBA221'!B118","v":"CHETHAN KUMAR V A"},3,3,2,{"$nulls":3},3,5,7,29,23]
[{"$f":"'21MBA221'!A119","v":"P18FW21M0104"},{"$f":"'21MBA221'!B119","v":"NAYAN KUMAR"},3,null,3,null,4,null,6,6,5,31,27]
[{"$f":"'21MBA221'!A120","v":"P18FW21M0105"},{"$f":"'21MBA221'!B120","v":"DEEPAK GOPALAKRISHNAN"},null,2,2,1,null,2,0,3,6,17,16]
[{"$f":"'21MBA221'!A121","v":"P18FW21M0106"},{"$f":"'21MBA221'!B121","v":"POORNAPRAJNYA K MANGALVEDI"},null,1,2,null,1,0,null,2,10,27,16]
[{"$f":"'21MBA221'!A122","v":"P18FW21M0107"},{"$f":"'21MBA221'!B122","v":"JENISHA MENEZES"},4,3,4,{"$nulls":3},9,8,7,31,35]
[{"$f":"'21MBA221'!A123","v":"P18FW21M0108"},{"$f":"'21MBA221'!B123","v":"SRAVANI SUNIL MHALSEKAR"},null,4,5,null,4,null,10,8,11,33,42]
[{"$f":"'21MBA221'!A124","v":"P18FW21M0109"},{"$f":"'21MBA221'!B124","v":"M RITISH"},3,null,4,4,null,null,7,8,9,28,35]
[{"$f":"'21MBA221'!A125","v":"P18FW21M0110"},{"$f":"'21MBA221'!B125","v":"DHANYA S SHARMA"},null,4,4,3,null,null,7,0,10,23,28]
[{"$f":"'21MBA221'!A126","v":"P18FW21M0111"},{"$f":"'21MBA221'!B126","v":"PREETHAM D VARMA"},null,3,null,1,2,null,2,7,6,22,21]
[{"$f":"'21MBA221'!A127","v":"P18FW21M0112"},{"$f":"'21MBA221'!B127","v":"DHIRAJKUMAR BELAVADI"},null,4,3,null,4,null,2,8,9,25,30]
[{"$f":"'21MBA221'!A128","v":"P18FW21M0113"},{"$f":"'21MBA221'!B128","v":"FERNANDES RICHA FLORINDA"},3,3,3,null,3,null,8,0,10,28,30]
[{"$f":"'21MBA221'!A129","v":"P18FW21M0114"},{"$f":"'21MBA221'!B129","v":"MEGHA U JOSHI"},null,5,4,4,2,null,9,9,9,35,42]
[{"$f":"'21MBA221'!A130","v":"P18FW21M0116"},{"$f":"'21MBA221'!B130","v":"DINAH NEETHA NORONHA"},null,3,3,3,null,null,6,6,10,28,31]
[{"$f":"'21MBA221'!A131","v":"P18FW21M0117"},{"$f":"'21MBA221'!B131","v":"HEGDE PAVANA GANAPATHI"},null,3,3,null,4,3,null,8,9,36,30]
[{"$f":"'21MBA221'!A132","v":"P18FW21M0118"},{"$f":"'21MBA221'!B132","v":"LOYSTON CRASTA"},null,3,3,null,0,null,7,7,8,21,28]
[{"$f":"'21MBA221'!A133","v":"P18FW21M0119"},{"$f":"'21MBA221'!B133","v":"GANESH HEGDE"},null,3,4,null,2.5,null,7,8,6,32,{"v":30.5,"d":"31"}]
[{"$f":"'21MBA221'!A134","v":"P18FW21M0120"},{"$f":"'21MBA221'!B134","v":"ANUSHA PRAKASH"},4,4.5,4,{"$nulls":3},8,9,10,26,{"v":39.5,"d":"40"}]
[{"$f":"'21MBA221'!A135","v":"P18FW21M0121"},{"$f":"'21MBA221'!B135","v":"ANJANA KSHIRASAGAR"},4,3,null,1,null,null,7,8,5,29,28]
[{"$f":"'21MBA221'!A136","v":"P18FW21M0122"},{"$f":"'21MBA221'!B136","v":"JAGADISH SHENOY R"},null,4,4,null,4,null,8,8.5,12,29,{"v":40.5,"d":"41"}]
[{"$f":"'21MBA221'!A137","v":"P18FW21M0123"},{"$f":"'21MBA221'!B137","v":"MADHAN KUMAR C S"},4,null,4,3,null,null,7,8,8,31,34]
[{"$f":"'21MBA221'!A138","v":"P18FW21M0124"},{"$f":"'21MBA221'!B138","v":"TEJAS H P"},0,4,3,{"$nulls":3},8,8,2,21,25]
[{"$f":"'21MBA221'!A139","v":"P18FW21M0125"},{"$f":"'21MBA221'!B139","v":"DHANUSH K V"},2.5,null,3,null,2,null,8,7,8,25,{"v":30.5,"d":"31"}]
[{"$f":"'21MBA221'!A140","v":"P18FW21M0126"},{"$f":"'21MBA221'!B140","v":"SWAMI SAMIKSHA PUSHPARAJ"},2.5,4,null,4,null,null,7,9,6,28,{"v":32.5,"d":"33"}]
[{"$f":"'21MBA221'!A141","v":"P18FW21M0127"},{"$f":"'21MBA221'!B141","v":"AMITH BHAT"},null,4,null,4,3,null,8,8,10,32,37]
[{"$f":"'21MBA221'!A142","v":"P18FW21M0128"},{"$f":"'21MBA221'!B142","v":"NUTHANA U"},null,null,3,3,3,null,8,8,9,34,34]
[{"$f":"'21MBA221'!A143","v":"P18FW21M0129"},{"$f":"'21MBA221'!B143","v":"CHETAN SINGH M"},2,2,2,null,3,null,5,5,8,27,27]
[{"$f":"'21MBA221'!A144","v":"P18FW21M0130"},{"$f":"'21MBA221'!B144","v":"KAUSTUBH LACHAPPANAVAR"},3,null,3,null,4,7,null,7,10,31,34]
[{"$f":"'21MBA221'!A145","v":"P18FW21M0131"},{"$f":"'21MBA221'!B145","v":"KSHITIJ P L"},null,null,3,3,3,5,null,5,10,30,{"$f":"SUM(C145:K145)","v":29}]
[{"$f":"'21MBA221'!A146","v":"P18FW21M0132"},{"$f":"'21MBA221'!B146","v":"BHUVANES P"},3,3,4,{"$nulls":3},7,6,5,24,28]
[{"$f":"'21MBA221'!A147","v":"P18FW21M0133"},{"$f":"'21MBA221'!B147","v":"NALASANI VARSHITHA"},null,null,4.5,3,4,7,null,8,11,33,{"v":37.5,"d":"38"}]
[{"$f":"'21MBA221'!A148","v":"P18FW21M0134"},{"$f":"'21MBA221'!B148","v":"KOKILA K"},2,3,5,{"$nulls":3},8,8,10,35,36]
[{"$f":"'21MBA221'!A149","v":"P18FW21M0135"},{"$f":"'21MBA221'!B149","v":"KOTHA KEERTHANA"},null,4,4.5,null,3,null,8.5,8,12,33,40]
[{"$f":"'21MBA221'!A150","v":"P18FW21M0136"},{"$f":"'21MBA221'!B150","v":"MUCHELI SUBBARAJU"},3,null,2,1,2,null,6,6,8,32,28]
[{"$f":"'21MBA221'!A151","v":"P18FW21M0137"},{"$f":"'21MBA221'!B151","v":"NANDAGOPAL B R"},null,5,4,4,null,null,9,9,8,36,39]
[{"$f":"'21MBA221'!A152","v":"P18FW21M0138"},{"$f":"'21MBA221'!B152","v":"VISHAL SHIVARAJ"},4,4,4,{"$nulls":3},9,9,12,34,42]
[{"$f":"'21MBA221'!A153","v":"P18FW21M0139"},{"$f":"'21MBA221'!B153","v":"SHASHI KUMAR R"},null,4,4,4,null,null,9,8,8,32,37]
[{"$f":"'21MBA221'!A154","v":"P18FW21M0140"},{"$f":"'21MBA221'!B154","v":"YASHWANTH R"},null,3,4,3,null,null,8,8,9,31,35]
[{"$f":"'21MBA221'!A155","v":"P18FW21M0141"},{"$f":"'21MBA221'!B155","v":"M M JABEZ"},3,null,3,3,null,null,6,6,10,34,31]
[{"$f":"'21MBA221'!A156","v":"P18FW21M0142"},{"$f":"'21MBA221'!B156","v":"KALAVALA ABHISHTA"},3,3,null,null,3,null,8,8,11,35,36]
[{"$f":"'21MBA221'!A157","v":"P18FW21M0143"},{"$f":"'21MBA221'!B157","v":"SANKALP V"},3,4,null,null,3.5,8,null,1,10,33,{"v":29.5,"d":"30"}]
[{"$f":"'21MBA221'!A158","v":"P18FW21M0144"},{"$f":"'21MBA221'!B158","v":"NAVEEN C"},3,2,null,4,null,null,6,8,8,34,31]
[{"$f":"'21MBA221'!A159","v":"P18FW21M0145"},{"$f":"'21MBA221'!B159","v":"PAVAN KUMAR M"},2,null,2,null,2,null,5,7,7,24,25]
[{"$f":"'21MBA221'!A160","v":"P18FW21M0146"},{"$f":"'21MBA221'!B160","v":"KAPARTHI BHAVANA"},null,4,null,4,4,null,6,8,10,38,36]
[{"$f":"'21MBA221'!A161","v":"P18FW21M0147"},{"$f":"'21MBA221'!B161","v":"MANOJ N S"},null,null,2,3,2.5,8.5,7,null,10,32,33]
[{"$f":"'21MBA221'!A162","v":"P18FW21M0149"},{"$f":"'21MBA221'!B162","v":"HEMA S"},2,2,null,2,null,null,8,7,10,31,31]
[{"$f":"'21MBA221'!A163","v":"P18FW21M0150"},{"$f":"'21MBA221'!B163","v":"MADHUSUDAN G"},null,3,5,4,null,null,8,8,9,29,37]
[{"$f":"'21MBA221'!A164","v":"P18FW21M0151"},{"$f":"'21MBA221'!B164","v":"ANNASAGARAM RAGHAVENDRA"},null,0,2,null,2,null,2,5,7,27,18]
[{"$f":"'21MBA221'!A165","v":"P18FW21M0152"},{"$f":"'21MBA221'!B165","v":"SYED MUSSAVEERULLA"},2,3,3,{"$nulls":3},6,4,10,34,28]
[{"$f":"'21MBA221'!A166","v":"P18FW21M0153"},{"$f":"'21MBA221'!B166","v":"SYED SAMEER"},3,null,3,null,3,null,8,8,10,29,35]
[{"$f":"'21MBA221'!A167","v":"P18FW21M0154"},{"$f":"'21MBA221'!B167","v":"RAMANABOINA ANAND KUMAR"},null,3,null,2,4,null,10,10,11,35,40]
[{"$f":"'21MBA221'!A168","v":"P18FW21M0155"},{"$f":"'21MBA221'!B168","v":"SHIVAM GANAPATI ANVEKAR"},null,4,3,0,null,null,7.5,8.5,5,31,28]
[{"$f":"'21MBA221'!A169","v":"P18FW21M0156"},{"$f":"'21MBA221'!B169","v":"SHUBHAM SINGH"},null,4.5,4,0,null,8,null,9,11,31,{"v":36.5,"d":"37"}]
[{"$f":"'21MBA221'!A170","v":"P18FW21M0157"},{"$f":"'21MBA221'!B170","v":"GURU VARUN G"},4,null,5,4,null,7,null,8,8,25,36]
[{"$f":"'21MBA221'!A171","v":"P18FW21M0158"},{"$f":"'21MBA221'!B171","v":"ABHIJEETH MASHETTY"},3,3,3.5,{"$nulls":3},9,9,12,33,{"v":39.5,"d":"40"}]
[{"$f":"'21MBA221'!A172","v":"P18FW21M0159"},{"$f":"'21MBA221'!B172","v":"PRANITH KUMAR S"},4,4,4,{"$nulls":3},9,8.5,13,33,{"v":42.5,"d":"43"}]
[{"$f":"'21MBA221'!A173","v":"P18FW21M0160"},{"$f":"'21MBA221'!B173","v":"LIKITHA A"},2.5,3,3,null,null,8,null,8.5,8,30,33]
[{"$f":"'21MBA221'!A174","v":"P18FW21M0161"},{"$f":"'21MBA221'!B174","v":"NAVEEN SETTY N A"},4,4,null,4,null,null,8,8,10,31,38]
[{"$f":"'21MBA221'!A175","v":"P18FW21M0162"},{"$f":"'21MBA221'!B175","v":"REHAN FAISAL QADRI"},4,3,3,{"$nulls":3},6,7,10,26,33]
[{"$f":"'21MBA221'!A176","v":"P18FW21M0163"},{"$f":"'21MBA221'!B176","v":"SMITHA M"},4,4,null,4,null,null,9,9,12,33,42]
[{"$f":"'21MBA221'!A177","v":"P18FW21M0164"},{"$f":"'21MBA221'!B177","v":"ANIRUDH K"},1,2,null,null,3,null,1,6,8,22,21]
[{"$f":"'21MBA221'!A178","v":"P18FW21M0165"},{"$f":"'21MBA221'!B178","v":"SALMAN FAISAL QADRI"},3,3,null,null,4,null,6,7,8,29,31]
[{"$f":"'21MBA221'!A179","v":"P18FW21M0166"},{"$f":"'21MBA221'!B179","v":"RAVISH RAMACHANDRA HEGDE"},2,2,2,{"$nulls":3},7,7,5,26,25]
[{"$f":"'21MBA221'!A180","v":"P18FW21M0167"},{"$f":"'21MBA221'!B180","v":"POOJA VALLUR"},4,4,4,{"$nulls":3},7,8,9,33,36]
[{"$f":"'21MBA221'!A181","v":"P18FW21M0169"},{"$f":"'21MBA221'!B181","v":"MAHANTH GOWDA K C"},null,null,4,3,3,null,9,9,12,32,40]
[{"$f":"'21MBA221'!A182","v":"P18FW21M0170"},{"$f":"'21MBA221'!B182","v":"BHUPALI SAURABH PRAKASH"},null,null,3,3,2.5,9,null,8,12,34,{"v":37.5,"d":"38"}]
[{"$f":"'21MBA221'!A183","v":"P18FW21M0171"},{"$f":"'21MBA221'!B183","v":"SYED RAIHAN"},3,2.5,2.5,{"$nulls":3},7,6,12,27,33]
[{"$f":"'21MBA221'!A184","v":"P18FW21M0172"},{"$f":"'21MBA221'!B184","v":"SHRI HARI L"},null,4,3,null,3.5,7,7,null,8,32,{"v":32.5,"d":"33"}]
[{"$f":"'21MBA221'!A185","v":"P18FW21M0173"},{"$f":"'21MBA221'!B185","v":"SNEHA U"},null,3,2,4,null,null,8,8,0,30,25]
[{"$f":"'21MBA221'!A186","v":"P18FW21M0174"},{"$f":"'21MBA221'!B186","v":"SHAH VINIT SIDDHARTH"},null,3,4,4,null,null,9,8,12,27,40]
[{"$f":"'21MBA221'!A187","v":"P18FW21M0175"},{"$f":"'21MBA221'!B187","v":"NAYANA G C"},null,null,5,4,5,null,8,9,11,32,42]
[{"$f":"'21MBA221'!A188","v":"P18FW21M0176"},{"$f":"'21MBA221'!B188","v":"D SURIYA PRIYASREE"},null,2,2,null,0,null,8,7,10,33,29]
[{"$f":"'21MBA221'!A189","v":"P18FW21M0177"},{"$f":"'21MBA221'!B189","v":"SATHYA B NAYAKA"},4,3,3,{"$nulls":3},9,7,10,30,36]
[{"$f":"'21MBA221'!A190","v":"P18FW21M0178"},{"$f":"'21MBA221'!B190","v":"NEHA H V"},null,null,4,4,2.5,8,7,null,6,22,{"v":31.5,"d":"32"}]
[{"$f":"'21MBA221'!A191","v":"P18FW21M0179"},{"$f":"'21MBA221'!B191","v":"SAAHIL SRIKANT KULLOLI"},null,3,4,4,null,6,null,8,9.5,30,{"v":34.5,"d":"35"}]
[{"$f":"'21MBA221'!A192","v":"P18FW21M0180"},{"$f":"'21MBA221'!B192","v":"SIMRANJIT KAUR"},null,2.5,3,4,null,9,null,8,10,32,{"v":36.5,"d":"37"}]
[{"$f":"'21MBA221'!A193","v":"P18FW21M0181"},{"$f":"'21MBA221'!B193","v":"NIRANJAN JANARDHAN HEGDE"},null,4,3,null,3,null,9,0,6,24,25]
[{"$f":"'21MBA221'!A194","v":"P18FW21M0182"},{"$f":"'21MBA221'!B194","v":"TEJAS N"},{"$nulls":9},"",0]
[{"$f":"'21MBA221'!A195","v":"P18FW21M0184"},{"$f":"'21MBA221'!B195","v":"AGAMYA A KINHAL"},1,null,3,null,2.5,null,9,9,10,24,{"v":34.5,"d":"35"}]
["No. of students attended",null,{"$f":"COUNTA(C16:C195)","v":103},136,145,82,79,40,153,167,179,{"$f":"COUNT(L16:L195)","v":178}]
["No. of Students attained CO",null,{"$f":"COUNTIF(C16:C195,\">\"&C15)","v":38},50,68,34,25,26,123,133,107,177]
[" CO Attainment percentage",null,{"$f":"ROUND(C197*100/C196,0)","v":37},37,47,41,32,65,80,80,60,{"$f":"ROUND(L197*100/L196,0)","v":99}]
["Level",null,{"$f":"IF(C198>=80,\"3\",IF(C198>=70,\"2\",IF(C198>=60,\"1\",\"-\")))","v":"-"},{"$f":"IF(D198>=80,\"3\",IF(D198>=70,\"2\",IF(D198>=60,\"1\",\"-\")))","v":"-"},"-","-","-","1","3","3","1","3"]
[null,null,"CO1","CO4","CO3","CO3","CO2","CO1","CO4","CO3","CO2"]
[{"$nulls":7},"Internals",null,"Final CO Attainment"]
[{"$nulls":5},"CO ",null,"Percent","Level","Percent","Level"]
[{"$nulls":5},"CO 1",null,{"$f":"AVERAGE(C198,H198,)","v":34},{"$f":"IF(H203>=80,\"3\",IF(H203>=70,\"2\",IF(H203>=60,\"1\",IF(H203<=59,\"-\"))))","v":"-"},{"$f":"(H203*0.3)+($L$198*0.7)","v":79.5},{"$f":"IF(J203>=80,\"3\",IF(J203>=70,\"2\",IF(J203>=60,\"1\",IF(J203<59,\"-\"))))","v":"2"}]
[{"$nulls":5},"CO 2",null,{"$f":"AVERAGE(G198,K198,F198)","v":{"v":44.333333333333336,"d":"44"}},{"$f":"IF(H204>=80,\"3\",IF(H204>=70,\"2\",IF(H204>=60,\"1\",IF(H204<=59,\"-\"))))","v":"-"},{"$f":"(H204*0.3)+($L$198*0.7)","v":82.6},{"$f":"IF(J204>=80,\"3\",IF(J204>=70,\"2\",IF(J204>=60,\"1\",IF(J204<59,\"-\"))))","v":"3"}]
[{"$nulls":5},"CO 3",null,{"$f":"AVERAGE(E198,F198,J198,D198)","v":51.25},{"$f":"IF(H205>=80,\"3\",IF(H205>=70,\"2\",IF(H205>=60,\"1\",IF(H205<=59,\"-\"))))","v":"-"},84.675,{"$f":"IF(J205>=80,\"3\",IF(J205>=70,\"2\",IF(J205>=60,\"1\",IF(J205<59,\"-\"))))","v":"3"}]
[{"$nulls":5},"CO 4",null,{"$f":"AVERAGE(D198,I198,)","v":39},"-",81,{"$f":"IF(J206>=80,\"3\",IF(J206>=70,\"2\",IF(J206>=60,\"1\",IF(J206<59,\"-\"))))","v":"3"}]
[{"$nulls":5},"CO 5",null,{"$f":"AVERAGE(D198,F198,G198,I198)","v":47.5},"-",83.55,{"$f":"IF(J207>=80,\"3\",IF(J207>=70,\"2\",IF(J207>=60,\"1\",IF(J207<59,\"-\"))))","v":"3"}]

{"sheet":"21MBA621-Attainment","index":7,"n_rows":27,"n_cols":13,"rows_kept":27,"merged":[[19,0,19,1],[19,2,20,2],[19,3,20,3],[19,4,20,4],[19,5,20,5],[19,6,20,6],[19,7,20,7],[19,8,20,8],[19,9,20,9],[19,10,20,10],[19,11,20,11],[19,12,20,12],[20,0,20,1]]}
[{"$f":"'21MBA621'!A5:M5","v":"Human Resource Management"}]
[]
[{"$nulls":3},"Internals",null,"Final CO Attainment"]
[null,null,"CO ","Percentage","Level","Percentage","Level"]
[null,null,"CO1",{"$f":"'21MBA621'!H203","v":34},{"$f":"'21MBA621'!I203","v":"-"},{"$f":"'21MBA621'!J203","v":{"v":79.5,"d":"80"}},{"$f":"'21MBA621'!K203","v":"2"}]
[null,null,"CO2",{"$f":"'21MBA621'!H204","v":{"v":44.333333333333336,"d":"44"}},{"$f":"'21MBA621'!I204","v":"-"},{"$f":"'21MBA621'!J204","v":{"v":82.6,"d":"83"}},{"$f":"'21MBA621'!K204","v":"3"}]
[null,null,"CO3",{"$f":"'21MBA621'!H205","v":{"v":51.25,"d":"51"}},{"$f":"'21MBA621'!I205","v":"-"},{"$f":"'21MBA621'!J205","v":{"v":84.675,"d":"85"}},{"$f":"'21MBA621'!K205","v":"3"}]
[null,null,"CO4",{"$f":"'21MBA621'!H206","v":39},{"$f":"'21MBA621'!I206","v":"-"},{"$f":"'21MBA621'!J206","v":81},{"$f":"'21MBA621'!K206","v":"3"}]
[null,null,"CO5",{"$f":"'21MBA621'!H207","v":{"v":47.5,"d":"48"}},{"$f":"'21MBA621'!I207","v":"-"},{"$f":"'21MBA621'!J207","v":{"v":83.55,"d":"84"}},{"$f":"'21MBA621'!K207","v":"3"}]
[]
[null,null,"PO1","PO2","PO3","PO4","PO5","PO6","PO7","PO8","PO9","PO10","PO11"]
[null,"C01",3,2,2,3,3,2,2,3,2,1,3]
[null,"C02",3,3,3,2,3,3,2,3,2,2,3]
[null,"C03",3,3,3,2,3,3,3,3,1,2,3]
[null,"C04",3,3,3,2,3,2,3,3,2,2,3]
[null,"C05",3,3,1,3,2,3,3,3,1,1,2]
[null,null,"LEVEL  ","3-Substantial","2-Moderate","1-Slight","\"-\" No Co-relation"]
[]
[]
["Final CO",null,"PO1","PO2","PO3","PO4","PO5","PO6","PO7","PO8","PO9","PO10","PO11"]
[" ATTAINMENT"]
["C01",{"$f":"F5","v":{"v":79.5,"d":"79.50"}},{"$f":"C12*$B$22/3","v":{"v":79.5,"d":"79.50"}},{"v":53,"d":"53.00"},{"v":53,"d":"53.00"},{"v":79.5,"d":"79.50"},{"v":79.5,"d":"79.50"},{"v":53,"d":"53.00"},{"v":53,"d":"53.00"},{"v":79.5,"d":"79.50"},{"v":53,"d":"53.00"},{"v":26.5,"d":"26.50"},{"v":79.5,"d":"79.50"}]
["C02",{"$f":"F6","v":{"v":82.6,"d":"82.60"}},{"$f":"C13*$B$23/3","v":{"v":82.6,"d":"82.60"}},{"v":82.6,"d":"82.60"},{"v":82.6,"d":"82.60"},{"v":55.06666666666666,"d":"55.07"},{"v":82.6,"d":"82.60"},{"v":82.6,"d":"82.60"},{"v":55.06666666666666,"d":"55.07"},{"v":82.6,"d":"82.60"},{"v":55.06666666666666,"d":"55.07"},{"v":55.06666666666666,"d":"55.07"},{"v":82.6,"d":"82.60"}]
["C03",{"$f":"F7","v":{"v":84.675,"d":"84.68"}},{"$f":"C14*$B$24/3","v":{"v":84.675,"d":"84.68"}},{"v":84.675,"d":"84.68"},{"v":84.675,"d":"84.68"},{"v":56.449999999999996,"d":"56.45"},{"v":84.675,"d":"84.68"},{"v":84.675,"d":"84.68"},{"v":84.675,"d":"84.68"},{"v":84.675,"d":"84.68"},{"v":28.224999999999998,"d":"28.23"},{"v":56.449999999999996,"d":"56.45"},{"v":84.675,"d":"84.68"}]
["C04",{"$f":"F8","v":{"v":81,"d":"81.00"}},{"$f":"C16*$B$25/3","v":{"v":81,"d":"81.00"}},{"$f":"D16*$B$25/3","v":{"v":81,"d":"81.00"}},{"v":27,"d":"27.00"},{"v":81,"d":"81.00"},{"v":54,"d":"54.00"},{"v":81,"d":"81.00"},{"v":81,"d":"81.00"},{"v":81,"d":"81.00"},{"v":27,"d":"27.00"},{"v":27,"d":"27.00"},{"v":54,"d":"54.00"}]
["C05",{"$f":"F9","v":83.55},{"$f":"C16*$B$26/3","v":83.55},{"$f":"D16*$B$26/3","v":83.55},{"v":27.849999999999998,"d":"27.85"},83.55,{"v":55.699999999999996,"d":"55.70"},83.55,83.55,83.55,{"v":27.849999999999998,"d":"27.85"},{"v":27.849999999999998,"d":"27.85"},{"v":55.699999999999996,"d":"55.70"}]
["Average",{"$f":"AVERAGE(B22:B25)","v":{"v":81.94375,"d":"81.94"}},{"v":81.94375,"d":"81.94"},{"v":75.31875,"d":"75.32"},{"v":61.818749999999994,"d":"61.82"},{"v":68.00416666666666,"d":"68.00"},{"v":75.19375,"d":"75.19"},{"v":75.31875,"d":"75.32"},{"v":68.43541666666667,"d":"68.44"},{"v":81.94375,"d":"81.94"},{"v":40.822916666666664,"d":"40.82"},{"v":41.25416666666666,"d":"41.25"},{"v":75.19375,"d":"75.19"}]

{"sheet":"21MBA321","index":8,"n_rows":207,"n_cols":13,"rows_kept":207,"merged":[[0,0,0,12],[1,0,1,12],[2,0,2,12],[3,0,3,12],[4,0,4,12],[5,0,5,1],[5,8,5,10],[6,0,6,3],[7,3,7,8],[8,3,8,8],[10,0,10,1],[10,2,10,8],[10,9,10,10],[11,0,11,1],[12,0,12,1],[13,0,13,1],[195,0,195,1],[196,0,196,1],[197,0,197,1],[198,0,198,1],[200,5,200,6],[200,7,200,8],[201,5,201,6],[202,5,202,6],[203,5,203,6],[204,5,204,6],[205,5,205,6],[206,5,206,6]]}
["RV Institute of Management"]
["Autonomous Institution Affiliated to BCU "]
["MBA Programme   II Semester"]
["Course Outcome Report"]
["Financial Management"]
["Name of the Course Teacher:",{"$nulls":7},"Sub. Code:",null,null,"21MBA321"]
["Prof. Dileep, Prof. Vidyadhar Hegde, Prof. Pooja T",{"$nulls":8},"Sec: ",null,"ABC"]
[{"$nulls":3},"Semester II"]
[{"$nulls":3},"Batch 2021-23"]
[]
[null,null,"Section A",{"$nulls":6},"Section B"]
[null,null,1,2,3,4,5,6,7,8,9,"External Exam ","Mid Term Exam "]
[null,null,"CO1","CO5","CO6","CO3","CO2","CO4","CO1","CO6","CO4","Marks","Marks"]
[null,null,5,5,5,5,5,5,5,10,10,50,50]
[null,null,{"$f":"C14*0.64","v":3.2},{"$f":"D14*0.64","v":3.2},3.2,3.2,3.2,3.2,3.2,6.4,6.4,{"$f":"L14*0.357142","v":{"v":17.8571,"d":"18"}}]
[{"$f":"'21MBA221'!A16","v":"P18FW21M0001"},{"$f":"'21MBA221'!B16","v":"VIPUL VILAS NAIK"},5,null,2,0,null,3,3,null,5,26,{"$f":"SUM(C16:K16)","v":18}]
[{"$f":"'21MBA221'!A17","v":"P18FW21M0002"},{"$f":"'21MBA221'!B17","v":"M PRANEETH KUMAR REDDY"},5,3,1,{"$nulls":3},4,6,2,16,{"$f":"SUM(C17:K17)","v":21}]
[{"$f":"'21MBA221'!A18","v":"P18FW21M0003"},{"$f":"'21MBA221'!B18","v":"NIKHIL S ANJANALLI"},null,5,2,null,3,null,6,8,10,37,34]
[{"$f":"'21MBA221'!A19","v":"P18FW21M0004"},{"$f":"'21MBA221'!B19","v":"KARTHIK P SHETTY"},null,3,2,0,null,10,null,5,5,16,25]
[{"$f":"'21MBA221'!A20","v":"P18FW21M0005"},{"$f":"'21MBA221'!B20","v":"AMITH C"},5,3,null,null,0,8,null,5,4,32,25]
[{"$f":"'21MBA221'!A21","v":"P18FW21M0006"},{"$f":"'21MBA221'!B21","v":"AISHWARYA G"},1,3.5,1.5,null,null,0,0,null,1,12,7]
[{"$f":"'21MBA221'!A22","v":"P18FW21M0007"},{"$f":"'21MBA221'!B22","v":"AKANKSH P"},5,4,4,null,null,10,null,9,5,21,37]
[{"$f":"'21MBA221'!A23","v":"P18FW21M0008"},{"$f":"'21MBA221'!B23","v":"SACHITH B K"},5,4,null,null,0,5,0,0,0,29,14]
[{"$f":"'21MBA221'!A24","v":"P18FW21M0009"},{"$f":"'21MBA221'!B24","v":"CHAITANYA KAMATAGI B"},5,4,3,null,null,5,10,null,10,43,37]
[{"$f":"'21MBA221'!A25","v":"P18FW21M0010"},{"$f":"'21MBA221'!B25","v":"AKASH RACHAPPA KHANAGAVI"},5,null,2,3,null,null,10,10,4,33,34]
[{"$f":"'21MBA221'!A26","v":"P18FW21M0011"},{"$f":"'21MBA221'!B26","v":"SOURAV SADANAND SWAR"},null,4,2,0,null,null,0,6,1,13,13]
[{"$f":"'21MBA221'!A27","v":"P18FW21M0012"},{"$f":"'21MBA221'!B27","v":"NISHANTH KRISHNA"},5,1,null,null,1,9,null,10,9,31,35]
[{"$f":"'21MBA221'!A28","v":"P18FW21M0013"},{"$f":"'21MBA221'!B28","v":"MEHUL V BHASKAR"},5,3,null,0.5,null,2,null,3,0,13,{"v":13.5,"d":"14"}]
[{"$f":"'21MBA221'!A29","v":"P18FW21M0014"},{"$f":"'21MBA221'!B29","v":"SHUBHAM RAJENDRA REVANKAR"},0,0,null,0,null,4,null,5,5,17,14]
[{"$f":"'21MBA221'!A30","v":"P18FW21M0015"},{"$f":"'21MBA221'!B30","v":"SHETTY TRUPTHI CHANDRAHAS"},5,3,3.5,null,null,1,8,null,3,23,{"v":23.5,"d":"24"}]
[{"$f":"'21MBA221'!A31","v":"P18FW21M0016"},{"$f":"'21MBA221'!B31","v":"SHEEBAL M S"},5,3,3,null,null,10,null,9,5,20,35]
[{"$f":"'21MBA221'!A32","v":"P18FW21M0017"},{"$f":"'21MBA221'!B32","v":"VISHNU KUMAR"},5,4,4,null,null,10,null,10,4,40,37]
[{"$f":"'21MBA221'!A33","v":"P18FW21M0018"},{"$f":"'21MBA221'!B33","v":"HARSHITHA SRINIVAS"},5,4,null,null,3,10,5,null,7,34,34]
[{"$f":"'21MBA221'!A34","v":"P18FW21M0019"},{"$f":"'21MBA221'!B34","v":"SAGI SAMPI"},5,4,null,4,null,7,10,null,8,43,38]
[{"$f":"'21MBA221'!A35","v":"P18FW21M0020"},{"$f":"'21MBA221'!B35","v":"PAULOMEE BARUAH"},2,2.5,4,null,null,6,6,null,0,31,{"v":20.5,"d":"21"}]
[{"$f":"'21MBA221'!A36","v":"P18FW21M0021"},{"$f":"'21MBA221'!B36","v":"NEETHA KAMATH"},2,2,null,4,null,10,10,null,9,24,37]
[{"$f":"'21MBA221'!A37","v":"P18FW21M0022"},{"$f":"'21MBA221'!B37","v":"ADITYA UDAY HEGDE"},5,4,1,null,null,10,null,6,5,34,31]
[{"$f":"'21MBA221'!A38","v":"P18FW21M0023"},{"$f":"'21MBA221'!B38","v":"SHREYAS G A"},5,4,null,3,null,10,10,null,8,36,40]
[{"$f":"'21MBA221'!A39","v":"P18FW21M0024"},{"$f":"'21MBA221'!B39","v":"SRUJANA S"},5,4,3,null,null,10,10,null,10,40,42]
[{"$f":"'21MBA221'!A40","v":"P18FW21M0025"},{"$f":"'21MBA221'!B40","v":"PRAJWAL S N"},5,4,3,null,null,10,null,7,4,35,33]
[{"$f":"'21MBA221'!A41","v":"P18FW21M0026"},{"$f":"'21MBA221'!B41","v":"SUCHITRA G"},5,3,3,null,null,10,null,3,4,26,28]
[{"$f":"'21MBA221'!A42","v":"P18FW21M0027"},{"$f":"'21MBA221'!B42","v":"SANKET SURESH SHIRSAT"},5,3,3,null,null,10,null,10,4,41,35]
[{"$f":"'21MBA221'!A43","v":"P18FW21M0028"},{"$f":"'21MBA221'!B43","v":"ANIKET SANJAY REVANKAR"},5,4,4,null,null,10,null,10,6,42,39]
[{"$f":"'21MBA221'!A44","v":"P18FW21M0029"},{"$f":"'21MBA221'!B44","v":"AKHILA H"},5,4,3,{"$nulls":3},0,0,null,21,12]
[{"$f":"'21MBA221'!A45","v":"P18FW21M0030"},{"$f":"'21MBA221'!B45","v":"M LUQMAN NAWAZ"},5,4,null,4,null,10,8,null,0,29,31]
[{"$f":"'21MBA221'!A46","v":"P18FW21M0031"},{"$f":"'21MBA221'!B46","v":"MADHURA A"},5,4,3,null,null,10,8,null,5,33,35]
[{"$f":"'21MBA221'!A47","v":"P18FW21M0032"},{"$f":"'21MBA221'!B47","v":"H V SHREEVATSA"},5,null,2,null,0,4,10,null,9,27,30]
[{"$f":"'21MBA221'!A48","v":"P18FW21M0033"},{"$f":"'21MBA221'!B48","v":"LILIMA DASH"},5,3,3,null,null,6,7,null,5,29,29]
[{"$f":"'21MBA221'!A49","v":"P18FW21M0034"},{"$f":"'21MBA221'!B49","v":"KUMAR ASHUTOSH"},5,null,null,0,0,9,null,6,null,23,20]
[{"$f":"'21MBA221'!A50","v":"P18FW21M0035"},{"$f":"'21MBA221'!B50","v":"RAHUL S SANGOLLI"},5,4,null,null,0,8,null,8,5,23,30]
[{"$f":"'21MBA221'!A51","v":"P18FW21M0036"},{"$f":"'21MBA221'!B51","v":"GIRISH N NASHI"},5,1,1,null,null,10,null,10,6,35,33]
[{"$f":"'21MBA221'!A52","v":"P18FW21M0037"},{"$f":"'21MBA221'!B52","v":"ANKITA GAJANAN NAIK"},5,null,null,0,0,10,null,9,8,39,32]
[{"$f":"'21MBA221'!A53","v":"P18FW21M0038"},{"$f":"'21MBA221'!B53","v":"GURUBASAVARAJ K M"},5,null,null,3,2,10,null,10,8,40,38]
[{"$f":"'21MBA221'!A54","v":"P18FW21M0039"},{"$f":"'21MBA221'!B54","v":"ANANYA P HEGDE"},5,null,2,3,null,5,0,null,2,29,17]
[{"$f":"'21MBA221'!A55","v":"P18FW21M0040"},{"$f":"'21MBA221'!B55","v":"NIVEDITHA K SWAMY"},5,null,1,null,3,null,10,10,13,44,42]
[{"$f":"'21MBA221'!A56","v":"P18FW21M0041"},{"$f":"'21MBA221'!B56","v":"LIKHITHA L"},5,3,3,null,null,10,6,null,null,30,27]
[{"$f":"'21MBA221'!A57","v":"P18FW21M0042"},{"$f":"'21MBA221'!B57","v":"RAHUL RAM BHAT"},5,null,null,2,3,10,null,10,8,41,38]
[{"$f":"'21MBA221'!A58","v":"P18FW21M0043"},{"$f":"'21MBA221'!B58","v":"AMIT KAMADOLLISHETTARU"},5,null,null,3,3,10,null,8,9,41,38]
[{"$f":"'21MBA221'!A59","v":"P18FW21M0044"},{"$f":"'21MBA221'!B59","v":"POOJARANI TALAWAR"},5,1,null,3,null,10,8,null,8,25,35]
[{"$f":"'21MBA221'!A60","v":"P18FW21M0045"},{"$f":"'21MBA221'!B60","v":"ABHITHA K"},3,2,null,2,null,null,8,6,7,31,28]
[{"$f":"'21MBA221'!A61","v":"P18FW21M0046"},{"$f":"'21MBA221'!B61","v":"S SHREYAS"},5,1,2,null,null,4,null,2,2,17,16]
[{"$f":"'21MBA221'!A62","v":"P18FW21M0047"},{"$f":"'21MBA221'!B62","v":"ABHISHEK SHENOY"},5,null,null,0,2,null,1,7,7,26,22]
[{"$f":"'21MBA221'!A63","v":"P18FW21M0048"},{"$f":"'21MBA221'!B63","v":"B S SUSHEN"},5,null,3,0,null,3,6,null,8,28,25]
[{"$f":"'21MBA221'!A64","v":"P18FW21M0049"},{"$f":"'21MBA221'!B64","v":"PRAJWALA H"},5,null,4,null,4,null,10,10,8,35,41]
[{"$f":"'21MBA221'!A65","v":"P18FW21M0050"},{"$f":"'21MBA221'!B65","v":"VAISHNAVI N"},5,null,4,null,2,0,10,10,10,36,41]
[{"$f":"'21MBA221'!A66","v":"P18FW21M0051"},{"$f":"'21MBA221'!B66","v":"DEEPAK GIRISH KALYANI"},5,null,3,3,null,10,null,10,7,41,38]
[{"$f":"'21MBA221'!A67","v":"P18FW21M0052"},{"$f":"'21MBA221'!B67","v":"ISAAC JESSE K"},null,null,2,0,0,null,1,0,0,12,3]
[{"$f":"'21MBA221'!A68","v":"P18FW21M0053"},{"$f":"'21MBA221'!B68","v":"SUPRIYA GOVIND BELSARE"},5,0,null,null,2,null,10,10,8,31,35]
[{"$f":"'21MBA221'!A69","v":"P18FW21M0054"},{"$f":"'21MBA221'!B69","v":"VINAYAK RAO GAIKWAD K"},3,4,null,null,0,10,null,10,2,20,29]
[{"$f":"'21MBA221'!A70","v":"P18FW21M0055"},{"$f":"'21MBA221'!B70","v":"SUTOPA DEB"},5,3,3,null,null,8,null,1,null,21,20]
[{"$f":"'21MBA221'!A71","v":"P18FW21M0056"},{"$f":"'21MBA221'!B71","v":"M S SUKRUT"},5,4,3,null,null,2,null,1,null,"AB",15]
[{"$f":"'21MBA221'!A72","v":"P18FW21M0057"},{"$f":"'21MBA221'!B72","v":"BHASKARA PRABHU"},5,null,null,0,0,6,null,10,4,42,25]
[{"$f":"'21MBA221'!A73","v":"P18FW21M0058"},{"$f":"'21MBA221'!B73","v":"PRAKASH SHIVAKUMAR"},5,null,null,2,0,10,10,null,8,34,35]
[{"$f":"'21MBA221'!A74","v":"P18FW21M0059"},{"$f":"'21MBA221'!B74","v":"AMOGHA Y G"},5,null,null,1,2,0,10,10,7,35,35]
[{"$f":"'21MBA221'!A75","v":"P18FW21M0060"},{"$f":"'21MBA221'!B75","v":"BHARATH K S"},null,null,1,0,0,null,3,8,9,29,21]
[{"$f":"'21MBA221'!A76","v":"P18FW21M0061"},{"$f":"'21MBA221'!B76","v":"AKANKSH K G"},5,2,null,null,2,4,5,null,4,24,22]
[{"$f":"'21MBA221'!A77","v":"P18FW21M0062"},{"$f":"'21MBA221'!B77","v":"BERNARD FERNANDES"},1,2,3,null,null,6,null,1,0,17,13]
[{"$f":"'21MBA221'!A78","v":"P18FW21M0063"},{"$f":"'21MBA221'!B78","v":"AISHWARYA P"},4,null,3,null,0,null,4,5,null,28,16]
[{"$f":"'21MBA221'!A79","v":"P18FW21M0064"},{"$f":"'21MBA221'!B79","v":"VIOLA PINTO"},1,4,3,{"$nulls":3},5,7,5,36,25]
[{"$f":"'21MBA221'!A80","v":"P18FW21M0065"},{"$f":"'21MBA221'!B80","v":"VARSHA"},5,null,1,2,null,3,null,8,8,38,27]
[{"$f":"'21MBA221'!A81","v":"P18FW21M0066"},{"$f":"'21MBA221'!B81","v":"CHIDRI BALAJI"},5,3,3,null,null,8,null,3,8,35,{"$f":"SUM(C81:K81)","v":30}]
[{"$f":"'21MBA221'!A82","v":"P18FW21M0067"},{"$f":"'21MBA221'!B82","v":"GAGANDEEP V N"},5,2,null,null,0,null,7,4,4,27,22]
[{"$f":"'21MBA221'!A83","v":"P18FW21M0068"},{"$f":"'21MBA221'!B83","v":"PRAJWALA"},5,null,null,1,3,null,7,6,8,34,30]
[{"$f":"'21MBA221'!A84","v":"P18FW21M0069"},{"$f":"'21MBA221'!B84","v":"POORNIMA L"},5,0,0,null,null,10,null,10,13,39,38]
[{"$f":"'21MBA221'!A85","v":"P18FW21M0070"},{"$f":"'21MBA221'!B85","v":"SHUBIKSHA S"},5,1,4,{"$nulls":3},10,8,9,33,37]
[{"$f":"'21MBA221'!A86","v":"P18FW21M0071"},{"$f":"'21MBA221'!B86","v":"ANUSHA"},5,null,null,3,0,null,5,8,5,35,26]
[{"$f":"'21MBA221'!A87","v":"P18FW21M0072"},{"$f":"'21MBA221'!B87","v":"P T KIRTI"},5,3,3,null,null,8,7,null,0,34,26]
[{"$f":"'21MBA221'!A88","v":"P18FW21M0073"},{"$f":"'21MBA221'!B88","v":"SAMEEKSHA M P"},5,0,0,null,null,10,8,4,8,33,35]
[{"$f":"'21MBA221'!A89","v":"P18FW21M0074"},{"$f":"'21MBA221'!B89","v":"KAVYAPRIYA J"},5,2,2,null,null,10,null,9,5,28,33]
[{"$f":"'21MBA221'!A90","v":"P18FW21M0075"},{"$f":"'21MBA221'!B90","v":"RAKSHITH R T"},5,2,2,null,null,10,null,4,7,41,30]
[{"$f":"'21MBA221'!A91","v":"P18FW21M0076"},{"$f":"'21MBA221'!B91","v":"SHUBHA R"},4,null,null,3,3,10,null,8,6,36,34]
[{"$f":"'21MBA221'!A92","v":"P18FW21M0077"},{"$f":"'21MBA221'!B92","v":"BASAVARAJ"},5,3,null,4,null,10,null,6,7,27,35]
[{"$f":"'21MBA221'!A93","v":"P18FW21M0078"},{"$f":"'21MBA221'!B93","v":"MANOJ RAKSHATH B S"},0,null,3,2,null,null,0,0,0,12,5]
[{"$f":"'21MBA221'!A94","v":"P18FW21M0079"},{"$f":"'21MBA221'!B94","v":"ADITI RANI"},4,null,3,0,null,10,null,9,3,22,29]
[{"$f":"'21MBA221'!A95","v":"P18FW21M0080"},{"$f":"'21MBA221'!B95","v":"DIVYA SHREE M"},5,null,null,3,2,null,6,9,10,30,35]
[{"$f":"'21MBA221'!A96","v":"P18FW21M0081"},{"$f":"'21MBA221'!B96","v":"VARUN S BHARADWAJ"},5,0,1,null,null,1,null,10,3,33,20]
[{"$f":"'21MBA221'!A97","v":"P18FW21M0082"},{"$f":"'21MBA221'!B97","v":"S KARTHIK"},5,null,2,null,0,1,null,4,3,30,15]
[{"$f":"'21MBA221'!A98","v":"P18FW21M0083"},{"$f":"'21MBA221'!B98","v":"NEELAMMA M K"},5,4,3,null,null,8,6,2,9,38,37]
[{"$f":"'21MBA221'!A99","v":"P18FW21M0084"},{"$f":"'21MBA221'!B99","v":"PRAMOD K L"},5,0,3,null,null,5,null,9,6,35,28]
[{"$f":"'21MBA221'!A100","v":"P18FW21M0085"},{"$f":"'21MBA221'!B100","v":"NAMRATHA N"},5,3,3,null,null,9,null,2,4,21,26]
[{"$f":"'21MBA221'!A101","v":"P18FW21M0086"},{"$f":"'21MBA221'!B101","v":"ANVITH KUMAR"},5,3,3,null,null,10,10,null,8,30,39]
[{"$f":"'21MBA221'!A102","v":"P18FW21M0087"},{"$f":"'21MBA221'!B102","v":"BHOOMIKA BHAT"},5,null,2,0,null,5,null,10,3,30,25]
[{"$f":"'21MBA221'!A103","v":"P18FW21M0088"},{"$f":"'21MBA221'!B103","v":"SOUMYA GANAPATI HEGDE"},1,null,null,1,1,1,null,9,3,41,16]
[{"$f":"'21MBA221'!A104","v":"P18FW21M0089"},{"$f":"'21MBA221'!B104","v":"SHREEKRISHNA"},null,2,0,1,null,null,4,5,2,30,14]
[{"$f":"'21MBA221'!A105","v":"P18FW21M0090"},{"$f":"'21MBA221'!B105","v":"OLETI SAI SREENITHYA"},5,4,3,null,null,8,null,3,1,26,24]
[{"$f":"'21MBA221'!A106","v":"P18FW21M0091"},{"$f":"'21MBA221'!B106","v":"RAMANUJAM H J"},1,0,2,null,null,8,2,6,1,17,20]
[{"$f":"'21MBA221'!A107","v":"P18FW21M0092"},{"$f":"'21MBA221'!B107","v":"CHAVI JAGADEESH"},5,0,null,null,0,1,null,3,5,12,14]
[{"$f":"'21MBA221'!A108","v":"P18FW21M0093"},{"$f":"'21MBA221'!B108","v":"DESAI JATIN ARUN"},4,2,2,null,null,4,4,null,1,16,17]
[{"$f":"'21MBA221'!A109","v":"P18FW21M0094"},{"$f":"'21MBA221'!B109","v":"MALLESH S"},5,1,3,null,null,10,0,null,null,20,19]
[{"$f":"'21MBA221'!A110","v":"P18FW21M0095"},{"$f":"'21MBA221'!B110","v":"SRINIDHI K"},5,0,2,null,null,9,null,7,5,32,28]
[{"$f":"'21MBA221'!A111","v":"P18FW21M0096"},{"$f":"'21MBA221'!B111","v":"B SHASHANK"},5,3,3,0,null,9,2,6,null,37,28]
[{"$f":"'21MBA221'!A112","v":"P18FW21M0097"},{"$f":"'21MBA221'!B112","v":"YOGASHREE C N"},0,3,null,2,null,null,9,10,4,32,28]
[{"$f":"'21MBA221'!A113","v":"P18FW21M0098"},{"$f":"'21MBA221'!B113","v":"CHARANA T U"},0,3,3,null,null,3,null,5,1,30,15]
[{"$f":"'21MBA221'!A114","v":"P18FW21M0099"},{"$f":"'21MBA221'!B114","v":"NAGARAJ GAJANAN HEGDE"},5,4,0,null,null,9,7,6,2,33,33]
[{"$f":"'21MBA221'!A115","v":"P18FW21M0100"},{"$f":"'21MBA221'!B115","v":"NIKITHA J SHANBHOG"},1,null,3,null,0,3,null,0,4,21,11]
[{"$f":"'21MBA221'!A116","v":"P18FW21M0101"},{"$f":"'21MBA221'!B116","v":"YASHASWINI P"},5,4,3,null,null,1,0,null,1,26,14]
[{"$f":"'21MBA221'!A117","v":"P18FW21M0102"},{"$f":"'21MBA221'!B117","v":"TANUSHREE R"},5,2,2,null,null,1,0,null,null,7,10]
[{"$f":"'21MBA221'!A118","v":"P18FW21M0103"},{"$f":"'21MBA221'!B118","v":"CHETHAN KUMAR V A"},5,0,1,null,null,3,0,2,4,25,15]
[{"$f":"'21MBA221'!A119","v":"P18FW21M0104"},{"$f":"'21MBA221'!B119","v":"NAYAN KUMAR"},5,3,null,null,1,10,7,null,null,30,26]
[{"$f":"'21MBA221'!A120","v":"P18FW21M0105"},{"$f":"'21MBA221'!B120","v":"DEEPAK GOPALAKRISHNAN"},5,1,1,null,null,0,null,0,4,9,11]
[{"$f":"'21MBA221'!A121","v":"P18FW21M0106"},{"$f":"'21MBA221'!B121","v":"POORNAPRAJNYA K MANGALVEDI"},2,2,0,null,null,1,null,0,2,19,7]
[{"$f":"'21MBA221'!A122","v":"P18FW21M0107"},{"$f":"'21MBA221'!B122","v":"JENISHA MENEZES"},2,null,2,null,2,null,2,2,2,29,12]
[{"$f":"'21MBA221'!A123","v":"P18FW21M0108"},{"$f":"'21MBA221'!B123","v":"SRAVANI SUNIL MHALSEKAR"},5,null,1,0,null,7,10,null,null,29,23]
[{"$f":"'21MBA221'!A124","v":"P18FW21M0109"},{"$f":"'21MBA221'!B124","v":"M RITISH"},1,0,null,null,2,3,4,null,6,17,16]
[{"$f":"'21MBA221'!A125","v":"P18FW21M0110"},{"$f":"'21MBA221'!B125","v":"DHANYA S SHARMA"},0,1,0,{"$nulls":3},3,5,3,24,12]
[{"$f":"'21MBA221'!A126","v":"P18FW21M0111"},{"$f":"'21MBA221'!B126","v":"PREETHAM D VARMA"},null,0,2,null,1,1,null,0,null,21,4]
[{"$f":"'21MBA221'!A127","v":"P18FW21M0112"},{"$f":"'21MBA221'!B127","v":"DHIRAJKUMAR BELAVADI"},0,4,2,{"$nulls":3},8,3,1,27,18]
[{"$f":"'21MBA221'!A128","v":"P18FW21M0113"},{"$f":"'21MBA221'!B128","v":"FERNANDES RICHA FLORINDA"},2,3,3,null,null,3,0,0,null,22,11]
[{"$f":"'21MBA221'!A129","v":"P18FW21M0114"},{"$f":"'21MBA221'!B129","v":"MEGHA U JOSHI"},2,null,2,null,0,null,10,10,9,38,33]
[{"$f":"'21MBA221'!A130","v":"P18FW21M0116"},{"$f":"'21MBA221'!B130","v":"DINAH NEETHA NORONHA"},null,4,4,null,1,null,6,7,6,25,28]
[{"$f":"'21MBA221'!A131","v":"P18FW21M0117"},{"$f":"'21MBA221'!B131","v":"HEGDE PAVANA GANAPATHI"},2,3,3,null,null,6,2,null,null,24,16]
[{"$f":"'21MBA221'!A132","v":"P18FW21M0118"},{"$f":"'21MBA221'!B132","v":"LOYSTON CRASTA"},1,0,0,{"$nulls":3},1,7,3,25,12]
[{"$f":"'21MBA221'!A133","v":"P18FW21M0119"},{"$f":"'21MBA221'!B133","v":"GANESH HEGDE"},null,1,1,0,null,null,6,10,2,35,20]
[{"$f":"'21MBA221'!A134","v":"P18FW21M0120"},{"$f":"'21MBA221'!B134","v":"ANUSHA PRAKASH"},0,null,3,null,1,null,5,0,3,24,12]
[{"$f":"'21MBA221'!A135","v":"P18FW21M0121"},{"$f":"'21MBA221'!B135","v":"ANJANA KSHIRASAGAR"},3,1,4,null,null,1,null,1,0,21,10]
[{"$f":"'21MBA221'!A136","v":"P18FW21M0122"},{"$f":"'21MBA221'!B136","v":"JAGADISH SHENOY R"},0,0,2,null,null,9,null,8,0,26,19]
[{"$f":"'21MBA221'!A137","v":"P18FW21M0123"},{"$f":"'21MBA221'!B137","v":"MADHAN KUMAR C S"},5,0,0,null,null,7,null,7.5,9,38,{"v":28.5,"d":"29"}]
[{"$f":"'21MBA221'!A138","v":"P18FW21M0124"},{"$f":"'21MBA221'!B138","v":"TEJAS H P"},5,0,null,0,null,0,null,7,1,12,13]
[{"$f":"'21MBA221'!A139","v":"P18FW21M0125"},{"$f":"'21MBA221'!B139","v":"DHANUSH K V"},5,1,null,null,0,null,0,3,0,22,9]
[{"$f":"'21MBA221'!A140","v":"P18FW21M0126"},{"$f":"'21MBA221'!B140","v":"SWAMI SAMIKSHA PUSHPARAJ"},1,1,null,1,null,0,2,2,0,26,7]
[{"$f":"'21MBA221'!A141","v":"P18FW21M0127"},{"$f":"'21MBA221'!B141","v":"AMITH BHAT"},4,3,3,null,null,10,9,null,2,31,31]
[{"$f":"'21MBA221'!A142","v":"P18FW21M0128"},{"$f":"'21MBA221'!B142","v":"NUTHANA U"},4,2,null,0,null,2,1,5,9,35,23]
[{"$f":"'21MBA221'!A143","v":"P18FW21M0129"},{"$f":"'21MBA221'!B143","v":"CHETAN SINGH M"},1,null,2,null,0.5,10,3,7,1,22,{"v":24.5,"d":"25"}]
[{"$f":"'21MBA221'!A144","v":"P18FW21M0130"},{"$f":"'21MBA221'!B144","v":"KAUSTUBH LACHAPPANAVAR"},5,null,null,0,0,8,8,null,2,31,23]
[{"$f":"'21MBA221'!A145","v":"P18FW21M0131"},{"$f":"'21MBA221'!B145","v":"KSHITIJ P L"},5,4,3,null,null,5,null,4,null,25,{"$f":"SUM(C145:K145)","v":21}]
[{"$f":"'21MBA221'!A146","v":"P18FW21M0132"},{"$f":"'21MBA221'!B146","v":"BHUVANES P"},5,null,2,1,null,1,null,5,null,35,14]
[{"$f":"'21MBA221'!A147","v":"P18FW21M0133"},{"$f":"'21MBA221'!B147","v":"NALASANI VARSHITHA"},5,4,4,null,null,0,7,10,3,30,33]
[{"$f":"'21MBA221'!A148","v":"P18FW21M0134"},{"$f":"'21MBA221'!B148","v":"KOKILA K"},5,4,4,null,null,10,null,6,8,34,37]
[{"$f":"'21MBA221'!A149","v":"P18FW21M0135"},{"$f":"'21MBA221'!B149","v":"KOTHA KEERTHANA"},5,4,null,3,null,10,null,9,5,28,36]
[{"$f":"'21MBA221'!A150","v":"P18FW21M0136"},{"$f":"'21MBA221'!B150","v":"MUCHELI SUBBARAJU"},null,3,3,1,null,3,null,4,3,25,17]
[{"$f":"'21MBA221'!A151","v":"P18FW21M0137"},{"$f":"'21MBA221'!B151","v":"NANDAGOPAL B R"},5,0,0,null,null,1,null,9,6,33,21]
[{"$f":"'21MBA221'!A152","v":"P18FW21M0138"},{"$f":"'21MBA221'!B152","v":"VISHAL SHIVARAJ"},5,0,0,null,null,10,5,0,2,33,22]
[{"$f":"'21MBA221'!A153","v":"P18FW21M0139"},{"$f":"'21MBA221'!B153","v":"SHASHI KUMAR R"},5,4,4,null,null,10,null,8,3,35,34]
[{"$f":"'21MBA221'!A154","v":"P18FW21M0140"},{"$f":"'21MBA221'!B154","v":"YASHWANTH R"},null,5,null,5,4,5,10,null,13,29,42]
[{"$f":"'21MBA221'!A155","v":"P18FW21M0141"},{"$f":"'21MBA221'!B155","v":"M M JABEZ"},5,3,3,{"$nulls":3},2,0,null,13,13]
[{"$f":"'21MBA221'!A156","v":"P18FW21M0142"},{"$f":"'21MBA221'!B156","v":"KALAVALA ABHISHTA"},5,4,2,null,null,10,6,null,9,29,36]
[{"$f":"'21MBA221'!A157","v":"P18FW21M0143"},{"$f":"'21MBA221'!B157","v":"SANKALP V"},null,0,2,null,0,6,null,0,null,10,8]
[{"$f":"'21MBA221'!A158","v":"P18FW21M0144"},{"$f":"'21MBA221'!B158","v":"NAVEEN C"},5,0,null,null,2,8,null,9,9,34,33]
[{"$f":"'21MBA221'!A159","v":"P18FW21M0145"},{"$f":"'21MBA221'!B159","v":"PAVAN KUMAR M"},5,3,0,null,null,9,null,3,7,22,27]
[{"$f":"'21MBA221'!A160","v":"P18FW21M0146"},{"$f":"'21MBA221'!B160","v":"KAPARTHI BHAVANA"},5,4,3,null,null,9,null,10,6,23,37]
[{"$f":"'21MBA221'!A161","v":"P18FW21M0147"},{"$f":"'21MBA221'!B161","v":"MANOJ N S"},0,0,1,null,1,null,6,4.5,null,23,{"v":12.5,"d":"13"}]
[{"$f":"'21MBA221'!A162","v":"P18FW21M0149"},{"$f":"'21MBA221'!B162","v":"HEMA S"},5,4,1,{"$nulls":3},10,4,5,29,29]
[{"$f":"'21MBA221'!A163","v":"P18FW21M0150"},{"$f":"'21MBA221'!B163","v":"MADHUSUDAN G"},5,0,0,null,null,9,10,null,6,25,30]
[{"$f":"'21MBA221'!A164","v":"P18FW21M0151"},{"$f":"'21MBA221'!B164","v":"ANNASAGARAM RAGHAVENDRA"},2,1,2,null,null,3,null,1,4,8,13]
[{"$f":"'21MBA221'!A165","v":"P18FW21M0152"},{"$f":"'21MBA221'!B165","v":"SYED MUSSAVEERULLA"},5,3,2,null,null,3,null,0,7,27,20]
[{"$f":"'21MBA221'!A166","v":"P18FW21M0153"},{"$f":"'21MBA221'!B166","v":"SYED SAMEER"},5,null,2,1,null,7,2,0,null,22,17]
[{"$f":"'21MBA221'!A167","v":"P18FW21M0154"},{"$f":"'21MBA221'!B167","v":"RAMANABOINA ANAND KUMAR"},5,3,4,{"$nulls":3},10,10,6,40,38]
[{"$f":"'21MBA221'!A168","v":"P18FW21M0155"},{"$f":"'21MBA221'!B168","v":"SHIVAM GANAPATI ANVEKAR"},0,0,null,0,null,null,3,1,3,27,7]
[{"$f":"'21MBA221'!A169","v":"P18FW21M0156"},{"$f":"'21MBA221'!B169","v":"SHUBHAM SINGH"},null,3,3,null,0,0,null,8,1,21,15]
[{"$f":"'21MBA221'!A170","v":"P18FW21M0157"},{"$f":"'21MBA221'!B170","v":"GURU VARUN G"},3,null,0,null,3,null,1,3,1,19,11]
[{"$f":"'21MBA221'!A171","v":"P18FW21M0158"},{"$f":"'21MBA221'!B171","v":"ABHIJEETH MASHETTY"},5,3,2,{"$nulls":3},9,10,4,26,33]
[{"$f":"'21MBA221'!A172","v":"P18FW21M0159"},{"$f":"'21MBA221'!B172","v":"PRANITH KUMAR S"},null,4,1,null,0,null,0,8,0,27,13]
[{"$f":"'21MBA221'!A173","v":"P18FW21M0160"},{"$f":"'21MBA221'!B173","v":"LIKITHA A"},5,3,1,null,null,0,8,8.5,3.5,26,29]
[{"$f":"'21MBA221'!A174","v":"P18FW21M0161"},{"$f":"'21MBA221'!B174","v":"NAVEEN SETTY N A"},3,3,2,null,null,1,5,8,9,42,31]
[{"$f":"'21MBA221'!A175","v":"P18FW21M0162"},{"$f":"'21MBA221'!B175","v":"REHAN FAISAL QADRI"},5,null,3,0,null,9,0,2,10,30,29]
[{"$f":"'21MBA221'!A176","v":"P18FW21M0163"},{"$f":"'21MBA221'!B176","v":"SMITHA M"},5,3,null,null,0,10,6,null,8,35,32]
[{"$f":"'21MBA221'!A177","v":"P18FW21M0164"},{"$f":"'21MBA221'!B177","v":"ANIRUDH K"},0,0,0,null,null,1,null,5,10,13,16]
[{"$f":"'21MBA221'!A178","v":"P18FW21M0165"},{"$f":"'21MBA221'!B178","v":"SALMAN FAISAL QADRI"},2,3,3,null,null,3,null,2,4,22,17]
[{"$f":"'21MBA221'!A179","v":"P18FW21M0166"},{"$f":"'21MBA221'!B179","v":"RAVISH RAMACHANDRA HEGDE"},5,2,2,null,null,10,null,5,5,20,29]
[{"$f":"'21MBA221'!A180","v":"P18FW21M0167"},{"$f":"'21MBA221'!B180","v":"POOJA VALLUR"},5,0,0,null,null,8,7,3,9,39,32]
[{"$f":"'21MBA221'!A181","v":"P18FW21M0169"},{"$f":"'21MBA221'!B181","v":"MAHANTH GOWDA K C"},5,3,0,null,null,8,null,7,7,40,30]
[{"$f":"'21MBA221'!A182","v":"P18FW21M0170"},{"$f":"'21MBA221'!B182","v":"BHUPALI SAURABH PRAKASH"},1,null,2,1,null,null,7,8,4,27,23]
[{"$f":"'21MBA221'!A183","v":"P18FW21M0171"},{"$f":"'21MBA221'!B183","v":"SYED RAIHAN"},3,3,3,null,null,3,null,2,null,26,14]
[{"$f":"'21MBA221'!A184","v":"P18FW21M0172"},{"$f":"'21MBA221'!B184","v":"SHRI HARI L"},5,3,3,null,null,2,null,2.5,0.5,23,16]
[{"$f":"'21MBA221'!A185","v":"P18FW21M0173"},{"$f":"'21MBA221'!B185","v":"SNEHA U"},5,4,null,3,null,null,6,6,null,15,24]
[{"$f":"'21MBA221'!A186","v":"P18FW21M0174"},{"$f":"'21MBA221'!B186","v":"SHAH VINIT SIDDHARTH"},5,1,2,null,null,5,null,4,8,22,25]
[{"$f":"'21MBA221'!A187","v":"P18FW21M0175"},{"$f":"'21MBA221'!B187","v":"NAYANA G C"},4,null,0,0,3,null,10,1,6,18,24]
[{"$f":"'21MBA221'!A188","v":"P18FW21M0176"},{"$f":"'21MBA221'!B188","v":"D SURIYA PRIYASREE"},null,3,3,3,null,null,6,10,null,25,25]
[{"$f":"'21MBA221'!A189","v":"P18FW21M0177"},{"$f":"'21MBA221'!B189","v":"SATHYA B NAYAKA"},0,null,2,null,1,null,3,0,null,20,6]
[{"$f":"'21MBA221'!A190","v":"P18FW21M0178"},{"$f":"'21MBA221'!B190","v":"NEHA H V"},null,3,3,2,null,0,0,null,null,17,8]
[{"$f":"'21MBA221'!A191","v":"P18FW21M0179"},{"$f":"'21MBA221'!B191","v":"SAAHIL SRIKANT KULLOLI"},5,null,0,0,null,null,7,9,6,29,27]
[{"$f":"'21MBA221'!A192","v":"P18FW21M0180"},{"$f":"'21MBA221'!B192","v":"SIMRANJIT KAUR"},5,2,2,null,null,2,null,10,8,22,29]
[{"$f":"'21MBA221'!A193","v":"P18FW21M0181"},{"$f":"'21MBA221'!B193","v":"NIRANJAN JANARDHAN HEGDE"},1,3,null,null,2,3,null,2,1,11,12]
[{"$f":"'21MBA221'!A194","v":"P18FW21M0182"},{"$f":"'21MBA221'!B194","v":"TEJAS N"},{"$nulls":9},"",0]
[{"$f":"'21MBA221'!A195","v":"P18FW21M0184"},{"$f":"'21MBA221'!B195","v":"AGAMYA A KINHAL"},0,null,1,0,null,0,null,2,null,13,3]
["No. of students attended",null,{"$f":"COUNTA(C16:C195)","v":163},132,131,59,55,134,102,142,153,{"$f":"COUNT(L16:L195)","v":178}]
["No. of Students attained CO",null,{"$f":"COUNTIF(C16:C195,\">\"&C15)","v":123},38,14,5,2,90,69,65,53,153]
[" CO Attainment percentage",null,{"$f":"ROUND(C197*100/C196,0)","v":75},29,11,8,4,67,68,46,35,{"$f":"ROUND(L197*100/L196,0)","v":86}]
["Level",null,{"$f":"IF(C198>=80,\"3\",IF(C198>=70,\"2\",IF(C198>=60,\"1\",\"-\")))","v":"2"},{"$f":"IF(D198>=80,\"3\",IF(D198>=70,\"2\",IF(D198>=60,\"1\",\"-\")))","v":"-"},"-","-","-","1","1","-","-","3"]
[null,null,"CO1","CO5","CO6","CO3","CO2","CO4","CO1","CO6","CO4"]
[{"$nulls":7},"Internals",null,"Final CO Attainment"]
[{"$nulls":5},"CO ",null,"Percent","Level","Percent","Level"]
[{"$nulls":5},"CO 1",null,{"$f":"AVERAGE(C198,I198,E198,H198)","v":55.25},{"$f":"IF(H203>=80,\"3\",IF(H203>=70,\"2\",IF(H203>=60,\"1\",IF(H203<=59,\"-\"))))","v":"-"},{"$f":"(H203*0.3)+($L$198*0.7)","v":76.77499999999999},{"$f":"IF(J203>=80,\"3\",IF(J203>=70,\"2\",IF(J203>=60,\"1\",IF(J203<59,\"-\"))))","v":"2"}]
[{"$nulls":5},"CO 2",null,{"$f":"AVERAGE(G198,H198,I198,J198)","v":{"v":46.25,"d":"46"}},{"$f":"IF(H204>=80,\"3\",IF(H204>=70,\"2\",IF(H204>=60,\"1\",IF(H204<=59,\"-\"))))","v":"-"},{"$f":"(H204*0.3)+($L$198*0.7)","v":74.07499999999999},{"$f":"IF(J204>=80,\"3\",IF(J204>=70,\"2\",IF(J204>=60,\"1\",IF(J204<59,\"-\"))))","v":"2"}]
[{"$nulls":5},"CO 3",null,{"$f":"AVERAGE(F198,I198,K198)","v":37},{"$f":"IF(H205>=80,\"3\",IF(H205>=70,\"2\",IF(H205>=60,\"1\",IF(H205<=59,\"-\"))))","v":"-"},71.3,{"$f":"IF(J205>=80,\"3\",IF(J205>=70,\"2\",IF(J205>=60,\"1\",IF(J205<59,\"-\"))))","v":"2"}]
[{"$nulls":5},"CO 4",null,{"$f":"AVERAGE(H198,K198,E198)","v":37.666666666666664},"-",71.5,{"$f":"IF(J206>=80,\"3\",IF(J206>=70,\"2\",IF(J206>=60,\"1\",IF(J206<59,\"-\"))))","v":"2"}]
[{"$nulls":5},"CO 5",null,{"$f":"AVERAGE(D198)","v":29},"-",68.89999999999999,"1"]

{"sheet":"21MBA321-Attainment","index":9,"n_rows":27,"n_cols":13,"rows_kept":27,"merged":[[19,0,19,1],[19,2,20,2],[19,3,20,3],[19,4,20,4],[19,5,20,5],[19,6,20,6],[19,7,20,7],[19,8,20,8],[19,9,20,9],[19,10,20,10],[19,11,20,11],[19,12,20,12],[20,0,20,1]]}
[{"$f":"'21MBA321'!A5:M5","v":"Financial Management"}]
[]
[{"$nulls":3},"Internals",null,"Final CO Attainment"]
[null,null,"CO ","Percentage","Level","Percentage","Level"]
[null,null,"CO1",{"$f":"'21MBA321'!H203","v":{"v":55.25,"d":"55"}},{"$f":"'21MBA321'!I203","v":"-"},{"$f":"'21MBA321'!J203","v":{"v":76.77499999999999,"d":"77"}},{"$f":"'21MBA321'!K203","v":"2"}]
[null,null,"CO2",{"$f":"'21MBA321'!H204","v":{"v":46.25,"d":"46"}},{"$f":"'21MBA321'!I204","v":"-"},{"$f":"'21MBA321'!J204","v":{"v":74.07499999999999,"d":"74"}},{"$f":"'21MBA321'!K204","v":"2"}]
[null,null,"CO3",{"$f":"'21MBA321'!H205","v":37},{"$f":"'21MBA321'!I205","v":"-"},{"$f":"'21MBA321'!J205","v":{"v":71.3,"d":"71"}},{"$f":"'21MBA321'!K205","v":"2"}]
[null,null,"CO4",{"$f":"'21MBA321'!H206","v":{"v":37.666666666666664,"d":"38"}},{"$f":"'21MBA321'!I206","v":"-"},{"$f":"'21MBA321'!J206","v":{"v":71.5,"d":"72"}},{"$f":"'21MBA321'!K206","v":"2"}]
[null,null,"CO5",{"$f":"'21MBA321'!H207","v":29},{"$f":"'21MBA321'!I207","v":"-"},{"$f":"'21MBA321'!J207","v":{"v":68.89999999999999,"d":"69"}},{"$f":"'21MBA321'!K207","v":"1"}]
[]
[null,null,"PO1","PO2","PO3","PO4","PO5","PO6","PO7","PO8","PO9","PO10","PO11"]
[null,"C01",3,2,1,null,1,1,2,2,2,null,1]
[null,"C02",3,1,null,1,2,2,1,3,2,1,2]
[null,"C03",3,2,1,2,1,2,1,3,1,1,1]
[null,"C04",3,1,null,1,null,2,1,2,2,1,2]
[null,"C05",3,1,null,1,1,null,1,2,1,null,1]
[null,null,"LEVEL  ","3-Substantial","2-Moderate","1-Slight","\"-\" No Co-relation"]
[]
[]
["Final CO",null,"PO1","PO2","PO3","PO4","PO5","PO6","PO7","PO8","PO9","PO10","PO11"]
[" ATTAINMENT"]
["C01",{"$f":"F5","v":{"v":76.77499999999999,"d":"76.78"}},{"$f":"C12*$B$22/3","v":{"v":76.77499999999999,"d":"76.78"}},{"v":51.18333333333333,"d":"51.18"},{"v":25.591666666666665,"d":"25.59"},{"v":0,"d":"0.00"},{"v":25.591666666666665,"d":"25.59"},{"v":25.591666666666665,"d":"25.59"},{"v":51.18333333333333,"d":"51.18"},{"v":51.18333333333333,"d":"51.18"},{"v":51.18333333333333,"d":"51.18"},{"v":0,"d":"0.00"},{"v":25.591666666666665,"d":"25.59"}]
["C02",{"$f":"F6","v":{"v":74.07499999999999,"d":"74.08"}},{"$f":"C13*$B$23/3","v":{"v":74.07499999999999,"d":"74.08"}},{"v":24.691666666666663,"d":"24.69"},{"v":0,"d":"0.00"},{"v":24.691666666666663,"d":"24.69"},{"v":49.383333333333326,"d":"49.38"},{"v":49.383333333333326,"d":"49.38"},{"v":24.691666666666663,"d":"24.69"},{"v":74.07499999999999,"d":"74.08"},{"v":49.383333333333326,"d":"49.38"},{"v":24.691666666666663,"d":"24.69"},{"v":49.383333333333326,"d":"49.38"}]
["C03",{"$f":"F7","v":{"v":71.3,"d":"71.30"}},{"$f":"C14*$B$24/3","v":{"v":71.3,"d":"71.30"}},{"v":47.53333333333333,"d":"47.53"},{"v":23.766666666666666,"d":"23.77"},{"v":47.53333333333333,"d":"47.53"},{"v":23.766666666666666,"d":"23.77"},{"v":47.53333333333333,"d":"47.53"},{"v":23.766666666666666,"d":"23.77"},{"v":71.3,"d":"71.30"},{"v":23.766666666666666,"d":"23.77"},{"v":23.766666666666666,"d":"23.77"},{"v":23.766666666666666,"d":"23.77"}]
["C04",{"$f":"F8","v":{"v":71.5,"d":"71.50"}},{"$f":"C15*$B$25/3","v":{"v":71.5,"d":"71.50"}},{"v":23.833333333333332,"d":"23.83"},{"v":0,"d":"0.00"},{"v":23.833333333333332,"d":"23.83"},{"v":0,"d":"0.00"},{"v":47.666666666666664,"d":"47.67"},{"v":23.833333333333332,"d":"23.83"},{"v":47.666666666666664,"d":"47.67"},{"v":47.666666666666664,"d":"47.67"},{"v":23.833333333333332,"d":"23.83"},{"v":47.666666666666664,"d":"47.67"}]
["C05",{"$f":"F9","v":{"v":68.89999999999999,"d":"68.90"}},{"$f":"C16*$B$26/3","v":{"v":68.89999999999999,"d":"68.90"}},{"v":22.966666666666665,"d":"22.97"},{"v":0,"d":"0.00"},{"v":22.966666666666665,"d":"22.97"},{"v":22.966666666666665,"d":"22.97"},{"v":0,"d":"0.00"},{"v":22.966666666666665,"d":"22.97"},{"v":45.93333333333333,"d":"45.93"},{"v":22.966666666666665,"d":"22.97"},{"v":0,"d":"0.00"},{"v":22.966666666666665,"d":"22.97"}]
["Average",null,{"$f":"AVERAGE(C22:C26)","v":{"v":72.50999999999999,"d":"72.51"}},{"v":34.04166666666667,"d":"34.04"},{"v":9.871666666666666,"d":"9.87"},{"v":23.805,"d":"23.81"},{"v":24.341666666666665,"d":"24.34"},{"v":34.035,"d":"34.04"},{"v":29.288333333333334,"d":"29.29"},{"v":58.03166666666666,"d":"58.03"},{"v":38.99333333333333,"d":"38.99"},{"v":14.458333333333332,"d":"14.46"},{"v":33.875,"d":"33.88"}]

{"sheet":"21MBA222","index":10,"n_rows":207,"n_cols":13,"rows_kept":207,"merged":[[0,0,0,12],[1,0,1,12],[2,0,2,12],[3,0,3,12],[4,0,4,12],[5,0,5,1],[5,8,5,10],[6,0,6,3],[7,3,7,8],[8,3,8,8],[9,2,9,10],[10,0,10,1],[10,2,10,6],[10,7,10,9],[11,0,11,1],[12,0,12,1],[13,0,13,1],[195,0,195,1],[196,0,196,1],[197,0,197,1],[198,0,198,1],[200,5,200,6],[200,7,200,8],[201,5,201,6],[202,5,202,6],[203,5,203,6],[204,5,204,6],[205,5,205,6],[206,5,206,6]]}
["RV Institute of Management"]
["Autonomous Institution Affiliated to BCU "]
["MBA Programme   II Semester"]
["Course Outcome Report"]
["Entrepreneurship and Start Up Management"]
["Name of the Course Teacher:",{"$nulls":7},"Sub. Code:",null,null,"21MBA222"]
["Prof. Anitha BM D'Silva,   Prof. Uma Sharma, Dr.Rashmi Shetty",{"$nulls":8},"Sec: ",null,"ABC"]
[{"$nulls":3},"Semester II"]
[{"$nulls":3},"Batch 2021-23"]
[]
[null,null,"Section A",{"$nulls":4},"Section B",null,null,"Sec-C"]
["Question number",null,1,2,3,4,5,6,7,8,9,"External Exam ","Mid Term Exam "]
["Course outcome",null,"CO3","CO5","CO1","CO3","CO2","CO2","CO3","CO4","CO3","Marks","Marks"]
["Maximum marks",null,5,5,5,5,5,10,10,10,15,50,50]
["Student Reg. No","Student Name",{"$f":"C14*0.64","v":3.2},{"$f":"D14*0.64","v":3.2},3.2,3.2,3.2,6.4,6.4,6.4,9.6,{"$f":"L14*0.357142","v":{"v":17.8571,"d":"18"}}]
[{"$f":"'21MBA221'!A16","v":"P18FW21M0001"},{"$f":"'21MBA221'!B16","v":"VIPUL VILAS NAIK"},null,null,4,5,4,null,5,6,9,35,{"$f":"SUM(C16:K16)","v":33}]
[{"$f":"'21MBA221'!A17","v":"P18FW21M0002"},{"$f":"'21MBA221'!B17","v":"M PRANEETH KUMAR REDDY"},null,null,0,5,5,3,4,null,5,30,{"$f":"SUM(C17:K17)","v":22}]
[{"$f":"'21MBA221'!A18","v":"P18FW21M0003"},{"$f":"'21MBA221'!B18","v":"NIKHIL S ANJANALLI"},5,null,4,2,null,null,9,7,8,36,35]
[{"$f":"'21MBA221'!A19","v":"P18FW21M0004"},{"$f":"'21MBA221'!B19","v":"KARTHIK P SHETTY"},4,5,null,null,5,8,null,9,4,32,35]
[{"$f":"'21MBA221'!A20","v":"P18FW21M0005"},{"$f":"'21MBA221'!B20","v":"AMITH C"},null,3,null,5,5,2,0,null,9,32,24]
[{"$f":"'21MBA221'!A21","v":"P18FW21M0006"},{"$f":"'21MBA221'!B21","v":"AISHWARYA G"},0,null,null,3,3.5,1,null,6,4.5,30,18]
[{"$f":"'21MBA221'!A22","v":"P18FW21M0007"},{"$f":"'21MBA221'!B22","v":"AKANKSH P"},null,3,3,5,null,7,null,2,11,38,31]
[{"$f":"'21MBA221'!A23","v":"P18FW21M0008"},{"$f":"'21MBA221'!B23","v":"SACHITH B K"},null,null,1,0,0,2,9,null,8,36,20]
[{"$f":"'21MBA221'!A24","v":"P18FW21M0009"},{"$f":"'21MBA221'!B24","v":"CHAITANYA KAMATAGI B"},4.5,null,4.5,null,4,8,8,null,14,40,43]
[{"$f":"'21MBA221'!A25","v":"P18FW21M0010"},{"$f":"'21MBA221'!B25","v":"AKASH RACHAPPA KHANAGAVI"},4,null,0,3,null,7,8.5,null,9,35,{"v":31.5,"d":"32"}]
[{"$f":"'21MBA221'!A26","v":"P18FW21M0011"},{"$f":"'21MBA221'!B26","v":"SOURAV SADANAND SWAR"},5,4,null,null,5,0,1,null,6,27,21]
[{"$f":"'21MBA221'!A27","v":"P18FW21M0012"},{"$f":"'21MBA221'!B27","v":"NISHANTH KRISHNA"},5,null,5,5,null,null,8,6,12,31,41]
[{"$f":"'21MBA221'!A28","v":"P18FW21M0013"},{"$f":"'21MBA221'!B28","v":"MEHUL V BHASKAR"},null,1,3,4,null,null,7,7,8,29,30]
[{"$f":"'21MBA221'!A29","v":"P18FW21M0014"},{"$f":"'21MBA221'!B29","v":"SHUBHAM RAJENDRA REVANKAR"},5,0,null,null,4,7,7,null,9,32,32]
[{"$f":"'21MBA221'!A30","v":"P18FW21M0015"},{"$f":"'21MBA221'!B30","v":"SHETTY TRUPTHI CHANDRAHAS"},4.5,4,4,null,null,0,6,null,11,39,{"v":29.5,"d":"30"}]
[{"$f":"'21MBA221'!A31","v":"P18FW21M0016"},{"$f":"'21MBA221'!B31","v":"SHEEBAL M S"},2,null,0,0,null,8,9,null,12,30,31]
[{"$f":"'21MBA221'!A32","v":"P18FW21M0017"},{"$f":"'21MBA221'!B32","v":"VISHNU KUMAR"},null,2,null,2,0,0,9,null,11,35,24]
[{"$f":"'21MBA221'!A33","v":"P18FW21M0018"},{"$f":"'21MBA221'!B33","v":"HARSHITHA SRINIVAS"},4,null,null,3,4,9.5,9,null,13.5,42,43]
[{"$f":"'21MBA221'!A34","v":"P18FW21M0019"},{"$f":"'21MBA221'!B34","v":"SAGI SAMPI"},null,4.5,4,4.5,null,8.5,null,9.5,12,42,43]
[{"$f":"'21MBA221'!A35","v":"P18FW21M0020"},{"$f":"'21MBA221'!B35","v":"PAULOMEE BARUAH"},4,4,null,4,null,2,null,1,12,39,27]
[{"$f":"'21MBA221'!A36","v":"P18FW21M0021"},{"$f":"'21MBA221'!B36","v":"NEETHA KAMATH"},4,null,4,4,null,5,null,6,9,34,32]
[{"$f":"'21MBA221'!A37","v":"P18FW21M0022"},{"$f":"'21MBA221'!B37","v":"ADITYA UDAY HEGDE"},4,null,null,4,4,3,9,null,9,36,33]
[{"$f":"'21MBA221'!A38","v":"P18FW21M0023"},{"$f":"'21MBA221'!B38","v":"SHREYAS G A"},3,null,4,null,3,8,null,6,11,39,35]
[{"$f":"'21MBA221'!A39","v":"P18FW21M0024"},{"$f":"'21MBA221'!B39","v":"SRUJANA S"},4,4.5,null,null,4,null,8,7,13,41,{"v":40.5,"d":"41"}]
[{"$f":"'21MBA221'!A40","v":"P18FW21M0025"},{"$f":"'21MBA221'!B40","v":"PRAJWAL S N"},3.5,null,null,4,4,null,8.5,7,11,36,38]
[{"$f":"'21MBA221'!A41","v":"P18FW21M0026"},{"$f":"'21MBA221'!B41","v":"SUCHITRA G"},4,null,null,1,3,3,null,3,8,32,22]
[{"$f":"'21MBA221'!A42","v":"P18FW21M0027"},{"$f":"'21MBA221'!B42","v":"SANKET SURESH SHIRSAT"},5,null,3,4,null,7,8,null,12,34,39]
[{"$f":"'21MBA221'!A43","v":"P18FW21M0028"},{"$f":"'21MBA221'!B43","v":"ANIKET SANJAY REVANKAR"},null,4,4,null,4,3,8,null,8,38,31]
[{"$f":"'21MBA221'!A44","v":"P18FW21M0029"},{"$f":"'21MBA221'!B44","v":"AKHILA H"},4,null,3,5,null,3,1,null,10,29,26]
[{"$f":"'21MBA221'!A45","v":"P18FW21M0030"},{"$f":"'21MBA221'!B45","v":"M LUQMAN NAWAZ"},4,null,4,null,4.5,8,8.5,null,14,41,43]
[{"$f":"'21MBA221'!A46","v":"P18FW21M0031"},{"$f":"'21MBA221'!B46","v":"MADHURA A"},4,null,null,4.5,4.5,9,8,null,13,39,43]
[{"$f":"'21MBA221'!A47","v":"P18FW21M0032"},{"$f":"'21MBA221'!B47","v":"H V SHREEVATSA"},4,4.5,4,null,null,8.5,null,9,6,32,36]
[{"$f":"'21MBA221'!A48","v":"P18FW21M0033"},{"$f":"'21MBA221'!B48","v":"LILIMA DASH"},4,null,null,3,4,6,8,null,10,28,35]
[{"$f":"'21MBA221'!A49","v":"P18FW21M0034"},{"$f":"'21MBA221'!B49","v":"KUMAR ASHUTOSH"},4,0,0,null,null,7.5,8,null,2,28,{"v":21.5,"d":"22"}]
[{"$f":"'21MBA221'!A50","v":"P18FW21M0035"},{"$f":"'21MBA221'!B50","v":"RAHUL S SANGOLLI"},4,null,4.5,4,null,5,6,null,7,29,{"v":30.5,"d":"31"}]
[{"$f":"'21MBA221'!A51","v":"P18FW21M0036"},{"$f":"'21MBA221'!B51","v":"GIRISH N NASHI"},4,0,null,null,4,8,8,null,10,32,34]
[{"$f":"'21MBA221'!A52","v":"P18FW21M0037"},{"$f":"'21MBA221'!B52","v":"ANKITA GAJANAN NAIK"},4,0,null,4,null,7,0,null,11,27,26]
[{"$f":"'21MBA221'!A53","v":"P18FW21M0038"},{"$f":"'21MBA221'!B53","v":"GURUBASAVARAJ K M"},4.5,null,null,3.5,4.5,8,8.5,null,12,37,41]
[{"$f":"'21MBA221'!A54","v":"P18FW21M0039"},{"$f":"'21MBA221'!B54","v":"ANANYA P HEGDE"},null,null,3,0,0,5,7,null,8,28,23]
[{"$f":"'21MBA221'!A55","v":"P18FW21M0040"},{"$f":"'21MBA221'!B55","v":"NIVEDITHA K SWAMY"},null,null,0,2,5,7,null,6,11,38,31]
[{"$f":"'21MBA221'!A56","v":"P18FW21M0041"},{"$f":"'21MBA221'!B56","v":"LIKHITHA L"},4,null,null,4,4.5,6,3,null,13,31,{"v":34.5,"d":"35"}]
[{"$f":"'21MBA221'!A57","v":"P18FW21M0042"},{"$f":"'21MBA221'!B57","v":"RAHUL RAM BHAT"},3,null,0,null,2,8,9,null,14,35,36]
[{"$f":"'21MBA221'!A58","v":"P18FW21M0043"},{"$f":"'21MBA221'!B58","v":"AMIT KAMADOLLISHETTARU"},3.5,4.5,null,4,null,7,8.5,null,12,32,{"v":39.5,"d":"40"}]
[{"$f":"'21MBA221'!A59","v":"P18FW21M0044"},{"$f":"'21MBA221'!B59","v":"POOJARANI TALAWAR"},3,null,null,4,4.5,8,9,null,6,30,{"v":34.5,"d":"35"}]
[{"$f":"'21MBA221'!A60","v":"P18FW21M0045"},{"$f":"'21MBA221'!B60","v":"ABHITHA K"},4.5,null,4.5,null,4,6,0,null,10,26,29]
[{"$f":"'21MBA221'!A61","v":"P18FW21M0046"},{"$f":"'21MBA221'!B61","v":"S SHREYAS"},5,null,5,3,null,5,null,6,7,20,31]
[{"$f":"'21MBA221'!A62","v":"P18FW21M0047"},{"$f":"'21MBA221'!B62","v":"ABHISHEK SHENOY"},4,null,4,null,5,8,null,8,7,27,36]
[{"$f":"'21MBA221'!A63","v":"P18FW21M0048"},{"$f":"'21MBA221'!B63","v":"B S SUSHEN"},4,null,null,2,5,7,null,1,13,37,32]
[{"$f":"'21MBA221'!A64","v":"P18FW21M0049"},{"$f":"'21MBA221'!B64","v":"PRAJWALA H"},4,3,null,5,null,7,null,7,12,34,38]
[{"$f":"'21MBA221'!A65","v":"P18FW21M0050"},{"$f":"'21MBA221'!B65","v":"VAISHNAVI N"},null,5,null,3,5,null,7,7,11,37,38]
[{"$f":"'21MBA221'!A66","v":"P18FW21M0051"},{"$f":"'21MBA221'!B66","v":"DEEPAK GIRISH KALYANI"},4.5,5,4.5,null,null,8,null,8,13,39,43]
[{"$f":"'21MBA221'!A67","v":"P18FW21M0052"},{"$f":"'21MBA221'!B67","v":"ISAAC JESSE K"},4,null,null,4,5,0,0,null,12,23,25]
[{"$f":"'21MBA221'!A68","v":"P18FW21M0053"},{"$f":"'21MBA221'!B68","v":"SUPRIYA GOVIND BELSARE"},4,null,4,null,4,6,null,0,11,30,29]
[{"$f":"'21MBA221'!A69","v":"P18FW21M0054"},{"$f":"'21MBA221'!B69","v":"VINAYAK RAO GAIKWAD K"},3,null,null,4,4,0,0,null,11,26,22]
[{"$f":"'21MBA221'!A70","v":"P18FW21M0055"},{"$f":"'21MBA221'!B70","v":"SUTOPA DEB"},4,0,0,null,null,3,8,null,10,35,25]
[{"$f":"'21MBA221'!A71","v":"P18FW21M0056"},{"$f":"'21MBA221'!B71","v":"M S SUKRUT"},5,5,0,null,null,4,null,0,10,"AB",24]
[{"$f":"'21MBA221'!A72","v":"P18FW21M0057"},{"$f":"'21MBA221'!B72","v":"BHASKARA PRABHU"},0,4,null,4,null,8,7,null,7.5,39,{"v":30.5,"d":"31"}]
[{"$f":"'21MBA221'!A73","v":"P18FW21M0058"},{"$f":"'21MBA221'!B73","v":"PRAKASH SHIVAKUMAR"},0,4,null,4,null,5,5,null,12,32,30]
[{"$f":"'21MBA221'!A74","v":"P18FW21M0059"},{"$f":"'21MBA221'!B74","v":"AMOGHA Y G"},5,1,0,null,null,0,null,3,11,29,20]
[{"$f":"'21MBA221'!A75","v":"P18FW21M0060"},{"$f":"'21MBA221'!B75","v":"BHARATH K S"},5,null,null,1,5,null,2,6,11,33,30]
[{"$f":"'21MBA221'!A76","v":"P18FW21M0061"},{"$f":"'21MBA221'!B76","v":"AKANKSH K G"},0,2,null,2.5,null,8,8,null,15,34,{"v":35.5,"d":"36"}]
[{"$f":"'21MBA221'!A77","v":"P18FW21M0062"},{"$f":"'21MBA221'!B77","v":"BERNARD FERNANDES"},null,0,0,null,1,5,7,null,9,29,22]
[{"$f":"'21MBA221'!A78","v":"P18FW21M0063"},{"$f":"'21MBA221'!B78","v":"AISHWARYA P"},3,null,4,null,0,null,6,4,7,29,24]
[{"$f":"'21MBA221'!A79","v":"P18FW21M0064"},{"$f":"'21MBA221'!B79","v":"VIOLA PINTO"},3.5,2,null,4,null,7,8.5,null,13,37,38]
[{"$f":"'21MBA221'!A80","v":"P18FW21M0065"},{"$f":"'21MBA221'!B80","v":"VARSHA"},0,0,null,4,null,5,6,null,11,34,26]
[{"$f":"'21MBA221'!A81","v":"P18FW21M0066"},{"$f":"'21MBA221'!B81","v":"CHIDRI BALAJI"},3,null,4,null,4,null,4,5,10,35,{"$f":"SUM(C81:K81)","v":30}]
[{"$f":"'21MBA221'!A82","v":"P18FW21M0067"},{"$f":"'21MBA221'!B82","v":"GAGANDEEP V N"},0,2,null,1,null,7,8,null,10,35,28]
[{"$f":"'21MBA221'!A83","v":"P18FW21M0068"},{"$f":"'21MBA221'!B83","v":"PRAJWALA"},4,null,null,5,4,null,7.5,8,12,39,{"v":40.5,"d":"41"}]
[{"$f":"'21MBA221'!A84","v":"P18FW21M0069"},{"$f":"'21MBA221'!B84","v":"POORNIMA L"},2,4,null,3.5,null,8,8,null,12,37,{"v":37.5,"d":"38"}]
[{"$f":"'21MBA221'!A85","v":"P18FW21M0070"},{"$f":"'21MBA221'!B85","v":"SHUBIKSHA S"},5,4,null,null,5,6,null,1,11,34,32]
[{"$f":"'21MBA221'!A86","v":"P18FW21M0071"},{"$f":"'21MBA221'!B86","v":"ANUSHA"},4,3.5,null,4,null,7,4,null,11,35,{"v":33.5,"d":"34"}]
[{"$f":"'21MBA221'!A87","v":"P18FW21M0072"},{"$f":"'21MBA221'!B87","v":"P T KIRTI"},5,null,4,null,5,0,8,null,7,36,29]
[{"$f":"'21MBA221'!A88","v":"P18FW21M0073"},{"$f":"'21MBA221'!B88","v":"SAMEEKSHA M P"},4,null,null,4,4,7,null,7,10,39,36]
[{"$f":"'21MBA221'!A89","v":"P18FW21M0074"},{"$f":"'21MBA221'!B89","v":"KAVYAPRIYA J"},4,2.5,null,3,null,8,8,null,13,36,{"v":38.5,"d":"39"}]
[{"$f":"'21MBA221'!A90","v":"P18FW21M0075"},{"$f":"'21MBA221'!B90","v":"RAKSHITH R T"},4,null,4,null,3,7,7,null,11,35,36]
[{"$f":"'21MBA221'!A91","v":"P18FW21M0076"},{"$f":"'21MBA221'!B91","v":"SHUBHA R"},4,null,4,4,null,7,null,7,9.5,35,{"v":35.5,"d":"36"}]
[{"$f":"'21MBA221'!A92","v":"P18FW21M0077"},{"$f":"'21MBA221'!B92","v":"BASAVARAJ"},4,4,4,null,null,8,8,null,11,34,39]
[{"$f":"'21MBA221'!A93","v":"P18FW21M0078"},{"$f":"'21MBA221'!B93","v":"MANOJ RAKSHATH B S"},5,0,2,null,null,9,5,null,12,30,33]
[{"$f":"'21MBA221'!A94","v":"P18FW21M0079"},{"$f":"'21MBA221'!B94","v":"ADITI RANI"},3,3,null,null,3,7,5,null,9.5,34,{"v":30.5,"d":"31"}]
[{"$f":"'21MBA221'!A95","v":"P18FW21M0080"},{"$f":"'21MBA221'!B95","v":"DIVYA SHREE M"},5,null,null,3,5,null,8,5,9,40,35]
[{"$f":"'21MBA221'!A96","v":"P18FW21M0081"},{"$f":"'21MBA221'!B96","v":"VARUN S BHARADWAJ"},5,null,4,0,null,7,null,2,10,38,28]
[{"$f":"'21MBA221'!A97","v":"P18FW21M0082"},{"$f":"'21MBA221'!B97","v":"S KARTHIK"},5,4,null,5,null,null,8,0,12,28,34]
[{"$f":"'21MBA221'!A98","v":"P18FW21M0083"},{"$f":"'21MBA221'!B98","v":"NEELAMMA M K"},4,null,null,3,4,8,5,null,11,35,35]
[{"$f":"'21MBA221'!A99","v":"P18FW21M0084"},{"$f":"'21MBA221'!B99","v":"PRAMOD K L"},5,5,3,null,null,8,null,5,6,34,32]
[{"$f":"'21MBA221'!A100","v":"P18FW21M0085"},{"$f":"'21MBA221'!B100","v":"NAMRATHA N"},4,null,null,3,0,7,8,null,11,36,33]
[{"$f":"'21MBA221'!A101","v":"P18FW21M0086"},{"$f":"'21MBA221'!B101","v":"ANVITH KUMAR"},4,null,4,4.5,null,8,8,null,11,36,{"v":39.5,"d":"40"}]
[{"$f":"'21MBA221'!A102","v":"P18FW21M0087"},{"$f":"'21MBA221'!B102","v":"BHOOMIKA BHAT"},5,null,0,3,5,0,null,8,6,31,27]
[{"$f":"'21MBA221'!A103","v":"P18FW21M0088"},{"$f":"'21MBA221'!B103","v":"SOUMYA GANAPATI HEGDE"},1,0,null,null,5,8,8,null,10,31,32]
[{"$f":"'21MBA221'!A104","v":"P18FW21M0089"},{"$f":"'21MBA221'!B104","v":"SHREEKRISHNA"},null,4,2,1,null,8,9,null,12,36,36]
[{"$f":"'21MBA221'!A105","v":"P18FW21M0090"},{"$f":"'21MBA221'!B105","v":"OLETI SAI SREENITHYA"},null,5,null,3,3,4,1,null,11,35,27]
[{"$f":"'21MBA221'!A106","v":"P18FW21M0091"},{"$f":"'21MBA221'!B106","v":"RAMANUJAM H J"},4,4,null,4,null,8,null,7,6,37,33]
[{"$f":"'21MBA221'!A107","v":"P18FW21M0092"},{"$f":"'21MBA221'!B107","v":"CHAVI JAGADEESH"},3,2,null,null,3,5,4,null,5,28,22]
[{"$f":"'21MBA221'!A108","v":"P18FW21M0093"},{"$f":"'21MBA221'!B108","v":"DESAI JATIN ARUN"},4,4,4,null,null,7,7,null,2,27,28]
[{"$f":"'21MBA221'!A109","v":"P18FW21M0094"},{"$f":"'21MBA221'!B109","v":"MALLESH S"},3,null,4,5,null,4,6,null,11,36,33]
[{"$f":"'21MBA221'!A110","v":"P18FW21M0095"},{"$f":"'21MBA221'!B110","v":"SRINIDHI K"},4,null,4,null,4,7,null,8,11,38,38]
[{"$f":"'21MBA221'!A111","v":"P18FW21M0096"},{"$f":"'21MBA221'!B111","v":"B SHASHANK"},5,null,4,null,4,4,0,null,11,39,28]
[{"$f":"'21MBA221'!A112","v":"P18FW21M0097"},{"$f":"'21MBA221'!B112","v":"YOGASHREE C N"},4,5,0,3,0,8,null,8,9,37,37]
[{"$f":"'21MBA221'!A113","v":"P18FW21M0098"},{"$f":"'21MBA221'!B113","v":"CHARANA T U"},4,5,null,null,4,5,0,null,11,36,29]
[{"$f":"'21MBA221'!A114","v":"P18FW21M0099"},{"$f":"'21MBA221'!B114","v":"NAGARAJ GAJANAN HEGDE"},null,null,4,4,3,null,0,7,11,32,29]
[{"$f":"'21MBA221'!A115","v":"P18FW21M0100"},{"$f":"'21MBA221'!B115","v":"NIKITHA J SHANBHOG"},5,3,0,null,null,7,null,9,6,38,30]
[{"$f":"'21MBA221'!A116","v":"P18FW21M0101"},{"$f":"'21MBA221'!B116","v":"YASHASWINI P"},4,null,null,5,4,4,null,7,11,33,35]
[{"$f":"'21MBA221'!A117","v":"P18FW21M0102"},{"$f":"'21MBA221'!B117","v":"TANUSHREE R"},3,null,3,5,null,6,null,2,8,27,27]
[{"$f":"'21MBA221'!A118","v":"P18FW21M0103"},{"$f":"'21MBA221'!B118","v":"CHETHAN KUMAR V A"},3.5,0,0,null,4,7,7,null,8,34,{"v":29.5,"d":"30"}]
[{"$f":"'21MBA221'!A119","v":"P18FW21M0104"},{"$f":"'21MBA221'!B119","v":"NAYAN KUMAR"},4,0,null,4,null,7,0,null,11,35,26]
[{"$f":"'21MBA221'!A120","v":"P18FW21M0105"},{"$f":"'21MBA221'!B120","v":"DEEPAK GOPALAKRISHNAN"},null,2,4,3,null,5,null,0,5,25,19]
[{"$f":"'21MBA221'!A121","v":"P18FW21M0106"},{"$f":"'21MBA221'!B121","v":"POORNAPRAJNYA K MANGALVEDI"},5,null,null,5,3,6,null,8,10,35,37]
[{"$f":"'21MBA221'!A122","v":"P18FW21M0107"},{"$f":"'21MBA221'!B122","v":"JENISHA MENEZES"},4,null,null,4,3,7,null,1,9,33,28]
[{"$f":"'21MBA221'!A123","v":"P18FW21M0108"},{"$f":"'21MBA221'!B123","v":"SRAVANI SUNIL MHALSEKAR"},null,null,4,4,4,5,6,null,11,36,34]
[{"$f":"'21MBA221'!A124","v":"P18FW21M0109"},{"$f":"'21MBA221'!B124","v":"M RITISH"},1,2,null,null,4,null,0,1,5,35,13]
[{"$f":"'21MBA221'!A125","v":"P18FW21M0110"},{"$f":"'21MBA221'!B125","v":"DHANYA S SHARMA"},0,0,null,null,1,0,0,null,10,32,11]
[{"$f":"'21MBA221'!A126","v":"P18FW21M0111"},{"$f":"'21MBA221'!B126","v":"PREETHAM D VARMA"},3,null,null,3,4,7,null,4,5,29,26]
[{"$f":"'21MBA221'!A127","v":"P18FW21M0112"},{"$f":"'21MBA221'!B127","v":"DHIRAJKUMAR BELAVADI"},3.5,null,null,4,4,4,null,4,10,31,{"v":29.5,"d":"30"}]
[{"$f":"'21MBA221'!A128","v":"P18FW21M0113"},{"$f":"'21MBA221'!B128","v":"FERNANDES RICHA FLORINDA"},3,null,null,4,0,8,0,null,11,32,26]
[{"$f":"'21MBA221'!A129","v":"P18FW21M0114"},{"$f":"'21MBA221'!B129","v":"MEGHA U JOSHI"},4,4,null,null,3,1,6,null,6,34,24]
[{"$f":"'21MBA221'!A130","v":"P18FW21M0116"},{"$f":"'21MBA221'!B130","v":"DINAH NEETHA NORONHA"},4,null,null,4,4,8,0,null,9,35,29]
[{"$f":"'21MBA221'!A131","v":"P18FW21M0117"},{"$f":"'21MBA221'!B131","v":"HEGDE PAVANA GANAPATHI"},3,3,1,null,null,1,7,null,9,31,24]
[{"$f":"'21MBA221'!A132","v":"P18FW21M0118"},{"$f":"'21MBA221'!B132","v":"LOYSTON CRASTA"},null,4,4,4,null,7,1,null,10,29,30]
[{"$f":"'21MBA221'!A133","v":"P18FW21M0119"},{"$f":"'21MBA221'!B133","v":"GANESH HEGDE"},0,null,4,0,5,3,0,null,9,31,21]
[{"$f":"'21MBA221'!A134","v":"P18FW21M0120"},{"$f":"'21MBA221'!B134","v":"ANUSHA PRAKASH"},4,null,3,null,4,7,0,null,9,31,27]
[{"$f":"'21MBA221'!A135","v":"P18FW21M0121"},{"$f":"'21MBA221'!B135","v":"ANJANA KSHIRASAGAR"},null,4,4,null,4,null,6,0,9,34,27]
[{"$f":"'21MBA221'!A136","v":"P18FW21M0122"},{"$f":"'21MBA221'!B136","v":"JAGADISH SHENOY R"},0,3,null,null,1,2,1,null,9,34,16]
[{"$f":"'21MBA221'!A137","v":"P18FW21M0123"},{"$f":"'21MBA221'!B137","v":"MADHAN KUMAR C S"},0,2,0,{"$nulls":3},9,3,12,34,26]
[{"$f":"'21MBA221'!A138","v":"P18FW21M0124"},{"$f":"'21MBA221'!B138","v":"TEJAS H P"},3,null,4,null,0,5,8,null,3,27,23]
[{"$f":"'21MBA221'!A139","v":"P18FW21M0125"},{"$f":"'21MBA221'!B139","v":"DHANUSH K V"},2,null,3,3,null,3,0,null,1,31,12]
[{"$f":"'21MBA221'!A140","v":"P18FW21M0126"},{"$f":"'21MBA221'!B140","v":"SWAMI SAMIKSHA PUSHPARAJ"},2,2,null,0,null,6,null,8,12,36,30]
[{"$f":"'21MBA221'!A141","v":"P18FW21M0127"},{"$f":"'21MBA221'!B141","v":"AMITH BHAT"},2,null,4,null,4,7,2,null,9,34,28]
[{"$f":"'21MBA221'!A142","v":"P18FW21M0128"},{"$f":"'21MBA221'!B142","v":"NUTHANA U"},null,4,null,3,4,0,0,null,12,34,23]
[{"$f":"'21MBA221'!A143","v":"P18FW21M0129"},{"$f":"'21MBA221'!B143","v":"CHETAN SINGH M"},0,3,null,null,2,8,null,5.5,12,25,{"v":30.5,"d":"31"}]
[{"$f":"'21MBA221'!A144","v":"P18FW21M0130"},{"$f":"'21MBA221'!B144","v":"KAUSTUBH LACHAPPANAVAR"},4,null,null,4.5,3.5,8.5,7.5,null,12,31,40]
[{"$f":"'21MBA221'!A145","v":"P18FW21M0131"},{"$f":"'21MBA221'!B145","v":"KSHITIJ P L"},4,0,null,4,null,7,2.5,null,10.5,26,{"$f":"SUM(C145:K145)","v":28}]
[{"$f":"'21MBA221'!A146","v":"P18FW21M0132"},{"$f":"'21MBA221'!B146","v":"BHUVANES P"},3.5,null,null,0,4,7,6.5,null,8.5,22,{"v":29.5,"d":"30"}]
[{"$f":"'21MBA221'!A147","v":"P18FW21M0133"},{"$f":"'21MBA221'!B147","v":"NALASANI VARSHITHA"},5,4,3,null,null,8,null,9,10,34,39]
[{"$f":"'21MBA221'!A148","v":"P18FW21M0134"},{"$f":"'21MBA221'!B148","v":"KOKILA K"},4,0,null,null,3.5,8,3,null,12,35,{"v":30.5,"d":"31"}]
[{"$f":"'21MBA221'!A149","v":"P18FW21M0135"},{"$f":"'21MBA221'!B149","v":"KOTHA KEERTHANA"},2,5,2,5,null,3,null,7,10,35,34]
[{"$f":"'21MBA221'!A150","v":"P18FW21M0136"},{"$f":"'21MBA221'!B150","v":"MUCHELI SUBBARAJU"},2.5,null,null,3.5,2.5,null,3,3,11,32,{"v":25.5,"d":"26"}]
[{"$f":"'21MBA221'!A151","v":"P18FW21M0137"},{"$f":"'21MBA221'!B151","v":"NANDAGOPAL B R"},4,null,null,4,4,5,5,null,10,34,32]
[{"$f":"'21MBA221'!A152","v":"P18FW21M0138"},{"$f":"'21MBA221'!B152","v":"VISHAL SHIVARAJ"},null,null,4,3,0,5.5,5,null,10,33,{"v":27.5,"d":"28"}]
[{"$f":"'21MBA221'!A153","v":"P18FW21M0139"},{"$f":"'21MBA221'!B153","v":"SHASHI KUMAR R"},4,null,null,5,4,8,8,null,11,33,40]
[{"$f":"'21MBA221'!A154","v":"P18FW21M0140"},{"$f":"'21MBA221'!B154","v":"YASHWANTH R"},null,4,4.5,4,null,null,6.5,9,12,34,40]
[{"$f":"'21MBA221'!A155","v":"P18FW21M0141"},{"$f":"'21MBA221'!B155","v":"M M JABEZ"},4,null,4,null,4,7,2,null,10,29,31]
[{"$f":"'21MBA221'!A156","v":"P18FW21M0142"},{"$f":"'21MBA221'!B156","v":"KALAVALA ABHISHTA"},4,4,null,null,4,8.5,2,null,9.5,33,32]
[{"$f":"'21MBA221'!A157","v":"P18FW21M0143"},{"$f":"'21MBA221'!B157","v":"SANKALP V"},3,5,4,null,null,7,null,6,7,30,32]
[{"$f":"'21MBA221'!A158","v":"P18FW21M0144"},{"$f":"'21MBA221'!B158","v":"NAVEEN C"},null,null,0,2.5,3,null,8.5,8.5,12,31,{"v":34.5,"d":"35"}]
[{"$f":"'21MBA221'!A159","v":"P18FW21M0145"},{"$f":"'21MBA221'!B159","v":"PAVAN KUMAR M"},null,null,0,0,0,8,null,8,11,28,27]
[{"$f":"'21MBA221'!A160","v":"P18FW21M0146"},{"$f":"'21MBA221'!B160","v":"KAPARTHI BHAVANA"},4,5,null,null,4.5,8.5,8.5,null,9.5,35,40]
[{"$f":"'21MBA221'!A161","v":"P18FW21M0147"},{"$f":"'21MBA221'!B161","v":"MANOJ N S"},4,1,null,1,null,5,null,8,10,34,29]
[{"$f":"'21MBA221'!A162","v":"P18FW21M0149"},{"$f":"'21MBA221'!B162","v":"HEMA S"},null,4,5,4,null,7,8,null,9,32,37]
[{"$f":"'21MBA221'!A163","v":"P18FW21M0150"},{"$f":"'21MBA221'!B163","v":"MADHUSUDAN G"},4,null,null,4,4,5,null,0,10,31,27]
[{"$f":"'21MBA221'!A164","v":"P18FW21M0151"},{"$f":"'21MBA221'!B164","v":"ANNASAGARAM RAGHAVENDRA"},4,4,null,null,4,null,5,4,6,24,27]
[{"$f":"'21MBA221'!A165","v":"P18FW21M0152"},{"$f":"'21MBA221'!B165","v":"SYED MUSSAVEERULLA"},4.5,null,3.5,3.5,null,null,8,8,12,24,{"v":39.5,"d":"40"}]
[{"$f":"'21MBA221'!A166","v":"P18FW21M0153"},{"$f":"'21MBA221'!B166","v":"SYED SAMEER"},4,1,null,null,4,null,8.5,8,10,26,{"v":35.5,"d":"36"}]
[{"$f":"'21MBA221'!A167","v":"P18FW21M0154"},{"$f":"'21MBA221'!B167","v":"RAMANABOINA ANAND KUMAR"},null,4.5,2,3,null,8.5,8.5,null,13,36,{"v":39.5,"d":"40"}]
[{"$f":"'21MBA221'!A168","v":"P18FW21M0155"},{"$f":"'21MBA221'!B168","v":"SHIVAM GANAPATI ANVEKAR"},2,0,null,null,3,5,null,3,11,30,24]
[{"$f":"'21MBA221'!A169","v":"P18FW21M0156"},{"$f":"'21MBA221'!B169","v":"SHUBHAM SINGH"},4,0,null,3,4,5,null,6,9,32,31]
[{"$f":"'21MBA221'!A170","v":"P18FW21M0157"},{"$f":"'21MBA221'!B170","v":"GURU VARUN G"},null,4,null,4,2,7,null,7,9,26,33]
[{"$f":"'21MBA221'!A171","v":"P18FW21M0158"},{"$f":"'21MBA221'!B171","v":"ABHIJEETH MASHETTY"},2,null,null,3,3,0,null,6,11,29,25]
[{"$f":"'21MBA221'!A172","v":"P18FW21M0159"},{"$f":"'21MBA221'!B172","v":"PRANITH KUMAR S"},0,null,1,2,null,8,1,null,11,35,23]
[{"$f":"'21MBA221'!A173","v":"P18FW21M0160"},{"$f":"'21MBA221'!B173","v":"LIKITHA A"},4,3,null,3,null,8,null,1,10,32,29]
[{"$f":"'21MBA221'!A174","v":"P18FW21M0161"},{"$f":"'21MBA221'!B174","v":"NAVEEN SETTY N A"},null,5,4,4,null,null,8,8,11,36,40]
[{"$f":"'21MBA221'!A175","v":"P18FW21M0162"},{"$f":"'21MBA221'!B175","v":"REHAN FAISAL QADRI"},5,4,null,5,null,5,null,0,11,26,30]
[{"$f":"'21MBA221'!A176","v":"P18FW21M0163"},{"$f":"'21MBA221'!B176","v":"SMITHA M"},5,5,4,null,null,7,null,5,7,31,33]
[{"$f":"'21MBA221'!A177","v":"P18FW21M0164"},{"$f":"'21MBA221'!B177","v":"ANIRUDH K"},5,5,null,null,0,8,8.5,null,7,22,{"v":33.5,"d":"34"}]
[{"$f":"'21MBA221'!A178","v":"P18FW21M0165"},{"$f":"'21MBA221'!B178","v":"SALMAN FAISAL QADRI"},null,3,4,null,4,6,7,null,3,32,27]
[{"$f":"'21MBA221'!A179","v":"P18FW21M0166"},{"$f":"'21MBA221'!B179","v":"RAVISH RAMACHANDRA HEGDE"},2.5,null,4,2.5,null,7.5,null,8.5,9.5,32,{"v":34.5,"d":"35"}]
[{"$f":"'21MBA221'!A180","v":"P18FW21M0167"},{"$f":"'21MBA221'!B180","v":"POOJA VALLUR"},3.5,4,null,4,null,7.5,2.5,null,11,34,{"v":32.5,"d":"33"}]
[{"$f":"'21MBA221'!A181","v":"P18FW21M0169"},{"$f":"'21MBA221'!B181","v":"MAHANTH GOWDA K C"},3,null,0,null,3,7,null,8.5,12,32,{"v":33.5,"d":"34"}]
[{"$f":"'21MBA221'!A182","v":"P18FW21M0170"},{"$f":"'21MBA221'!B182","v":"BHUPALI SAURABH PRAKASH"},5,2,3,4,null,0,8,null,11,29,33]
[{"$f":"'21MBA221'!A183","v":"P18FW21M0171"},{"$f":"'21MBA221'!B183","v":"SYED RAIHAN"},2,null,0,3,null,7,1,null,10,27,23]
[{"$f":"'21MBA221'!A184","v":"P18FW21M0172"},{"$f":"'21MBA221'!B184","v":"SHRI HARI L"},null,5,3,3,null,null,9,9,12,33,41]
[{"$f":"'21MBA221'!A185","v":"P18FW21M0173"},{"$f":"'21MBA221'!B185","v":"SNEHA U"},3,0,0,null,null,8,null,7,5,30,23]
[{"$f":"'21MBA221'!A186","v":"P18FW21M0174"},{"$f":"'21MBA221'!B186","v":"SHAH VINIT SIDDHARTH"},4,null,null,4,5,7,null,8,12,32,40]
[{"$f":"'21MBA221'!A187","v":"P18FW21M0175"},{"$f":"'21MBA221'!B187","v":"NAYANA G C"},null,3.5,null,3,3,9,9,null,7,32,{"v":34.5,"d":"35"}]
[{"$f":"'21MBA221'!A188","v":"P18FW21M0176"},{"$f":"'21MBA221'!B188","v":"D SURIYA PRIYASREE"},0,3.5,null,null,3.5,8,0,null,7.5,35,{"v":22.5,"d":"23"}]
[{"$f":"'21MBA221'!A189","v":"P18FW21M0177"},{"$f":"'21MBA221'!B189","v":"SATHYA B NAYAKA"},4,0,null,2,null,null,9,3,11,34,29]
[{"$f":"'21MBA221'!A190","v":"P18FW21M0178"},{"$f":"'21MBA221'!B190","v":"NEHA H V"},4,null,3,4,null,0,5,null,10,25,26]
[{"$f":"'21MBA221'!A191","v":"P18FW21M0179"},{"$f":"'21MBA221'!B191","v":"SAAHIL SRIKANT KULLOLI"},null,4,null,2,5,0,null,10,12,30,33]
[{"$f":"'21MBA221'!A192","v":"P18FW21M0180"},{"$f":"'21MBA221'!B192","v":"SIMRANJIT KAUR"},4,3,0,null,null,7,7,null,9,34,30]
[{"$f":"'21MBA221'!A193","v":"P18FW21M0181"},{"$f":"'21MBA221'!B193","v":"NIRANJAN JANARDHAN HEGDE"},null,5,0,3.5,null,6,0,1,9,30,{"v":24.5,"d":"25"}]
[{"$f":"'21MBA221'!A194","v":"P18FW21M0182"},{"$f":"'21MBA221'!B194","v":"TEJAS N"},0,0,0,null,null,0,0,null,0,"",0]
[{"$f":"'21MBA221'!A195","v":"P18FW21M0184"},{"$f":"'21MBA221'!B195","v":"AGAMYA A KINHAL"},0,null,null,1,4,2,0,null,12,26,19]
["No. of students attended",null,{"$f":"COUNTA(C16:C195)","v":146},95,90,114,103,154,125,82,180,{"$f":"COUNT(L16:L195)","v":178}]
["No. of Students attained CO",null,{"$f":"COUNTIF(C16:C195,\">\"&C15)","v":101},50,47,65,70,87,67,39,110,178]
[" CO Attainment percentage",null,{"$f":"ROUND(C197*100/C196,0)","v":69},53,52,57,68,56,54,48,61,{"$f":"ROUND(L197*100/L196,0)","v":100}]
["Level",null,{"$f":"IF(C198>=80,\"3\",IF(C198>=70,\"2\",IF(C198>=60,\"1\",\"-\")))","v":"1"},{"$f":"IF(D198>=80,\"3\",IF(D198>=70,\"2\",IF(D198>=60,\"1\",\"-\")))","v":"-"},"-","-","1","-","-","-","1","3"]
[null,null,"CO3","CO5","CO1","CO3","CO2","CO2","CO3","CO4","CO3"]
[{"$nulls":7},"Internals",null,"Final CO Attainment"]
[{"$nulls":5},"CO ",null,"Percent","Level","Percent","Level"]
[{"$nulls":5},"CO 1",null,{"$f":"AVERAGE(E198,I198,D198:G198)","v":56},{"$f":"IF(H203>=80,\"3\",IF(H203>=70,\"2\",IF(H203>=60,\"1\",IF(H203<=59,\"-\"))))","v":"-"},{"$f":"(H203*0.3)+($L$198*0.7)","v":86.8},{"$f":"IF(J203>=80,\"3\",IF(J203>=70,\"2\",IF(J203>=60,\"1\",IF(J203<59,\"-\"))))","v":"3"}]
[{"$nulls":5},"CO 2",null,{"$f":"AVERAGE(G198,H198)","v":62},{"$f":"IF(H204>=80,\"3\",IF(H204>=70,\"2\",IF(H204>=60,\"1\",IF(H204<=59,\"-\"))))","v":"1"},{"$f":"(H204*0.3)+($L$198*0.7)","v":88.6},{"$f":"IF(J204>=80,\"3\",IF(J204>=70,\"2\",IF(J204>=60,\"1\",IF(J204<59,\"-\"))))","v":"3"}]
[{"$nulls":5},"CO 3",null,{"$f":"AVERAGE(C198,F198,I198,K198)","v":60.25},{"$f":"IF(H205>=80,\"3\",IF(H205>=70,\"2\",IF(H205>=60,\"1\",IF(H205<=59,\"-\"))))","v":"1"},88.075,{"$f":"IF(J205>=80,\"3\",IF(J205>=70,\"2\",IF(J205>=60,\"1\",IF(J205<59,\"-\"))))","v":"3"}]
[{"$nulls":5},"CO 4",null,{"$f":"AVERAGE(J198)","v":48},"-",84.4,{"$f":"IF(J206>=80,\"3\",IF(J206>=70,\"2\",IF(J206>=60,\"1\",IF(J206<59,\"-\"))))","v":"3"}]
[{"$nulls":5},"CO 5",null,{"$f":"AVERAGE(D198)","v":53},"-",85.9,{"$f":"IF(J207>=80,\"3\",IF(J207>=70,\"2\",IF(J207>=60,\"1\",IF(J207<59,\"-\"))))","v":"3"}]

{"sheet":"21MBA222-Attainment","index":11,"n_rows":28,"n_cols":13,"rows_kept":28,"merged":[[20,0,20,1],[20,2,21,2],[20,3,21,3],[20,4,21,4],[20,5,21,5],[20,6,21,6],[20,7,21,7],[20,8,21,8],[20,9,21,9],[20,10,21,10],[20,11,21,11],[20,12,21,12],[21,0,21,1]]}
[{"$f":"'21MBA222'!A5:M5","v":"Entrepreneurship and Start Up Management"}]
[]
[{"$nulls":3},"Internals",null,"Final CO Attainment"]
[null,null,"CO ","Percentage","Level","Percentage","Level"]
[null,null,"CO1",{"$f":"'21MBA222'!H203","v":56},{"$f":"'21MBA222'!I203","v":"-"},{"$f":"'21MBA222'!J203","v":{"v":86.8,"d":"87"}},{"$f":"'21MBA222'!K203","v":"3"}]
[null,null,"CO2",{"$f":"'21MBA222'!H204","v":62},{"$f":"'21MBA222'!I204","v":"1"},{"$f":"'21MBA222'!J204","v":{"v":88.6,"d":"89"}},{"$f":"'21MBA222'!K204","v":"3"}]
[null,null,"CO3",{"$f":"'21MBA222'!H205","v":{"v":60.25,"d":"60"}},{"$f":"'21MBA222'!I205","v":"1"},{"$f":"'21MBA222'!J205","v":{"v":88.075,"d":"88"}},{"$f":"'21MBA222'!K205","v":"3"}]
[null,null,"CO4",{"$f":"'21MBA222'!H206","v":48},{"$f":"'21MBA222'!I206","v":"-"},{"$f":"'21MBA222'!J206","v":{"v":84.4,"d":"84"}},{"$f":"'21MBA222'!K206","v":"3"}]
[null,null,"CO5",{"$f":"'21MBA222'!H207","v":53},{"$f":"'21MBA222'!I207","v":"-"},{"$f":"'21MBA222'!J207","v":{"v":85.9,"d":"86"}},{"$f":"'21MBA222'!K207","v":"3"}]
[]
[]
[null,null,"PO1","PO2","PO3","PO4","PO5","PO6","PO7","PO8","PO9","PO10","PO11"]
[null,"C01",2,1,1,1,1,3,1,3,2]
[null,"C02",2,3,1,1,1,3,1,3,2]
[null,"C03",2,3,3,1,3,3,3,3,3]
[null,"C04",3,3,3,1,1,3,1,3,2]
[null,"C05",3,1,3,1,1,3,1,3,3]
[null,null,"LEVEL  ","3-Substantial","2-Moderate","1-Slight","\"-\" No Co-relation"]
[]
[]
["Final CO",null,"PO1","PO2","PO3","PO4","PO5","PO6","PO7","PO8","PO9","PO10","PO11"]
[" ATTAINMENT"]
["C01",{"$f":"F5","v":{"v":86.8,"d":"86.80"}},{"$f":"C13*$B$23/3","v":{"v":57.86666666666667,"d":"57.87"}},{"v":28.933333333333334,"d":"28.93"},{"v":28.933333333333334,"d":"28.93"},{"v":28.933333333333334,"d":"28.93"},{"v":28.933333333333334,"d":"28.93"},{"v":86.8,"d":"86.80"},{"v":28.933333333333334,"d":"28.93"},{"v":86.8,"d":"86.80"},{"v":57.86666666666667,"d":"57.87"},{"v":0,"d":"0.00"},{"v":0,"d":"0.00"}]
["C02",{"$f":"F6","v":{"v":88.6,"d":"88.60"}},{"$f":"C14*$B$24/3","v":{"v":59.06666666666666,"d":"59.07"}},{"v":88.59999999999998,"d":"88.60"},{"v":29.53333333333333,"d":"29.53"},{"v":29.53333333333333,"d":"29.53"},{"v":29.53333333333333,"d":"29.53"},{"v":88.59999999999998,"d":"88.60"},{"v":29.53333333333333,"d":"29.53"},{"v":88.59999999999998,"d":"88.60"},{"v":59.06666666666666,"d":"59.07"},{"v":0,"d":"0.00"},{"v":0,"d":"0.00"}]
["C03",{"$f":"F7","v":{"v":88.075,"d":"88.08"}},{"$f":"C15*$B$25/3","v":{"v":58.71666666666667,"d":"58.72"}},{"v":88.075,"d":"88.08"},{"v":88.075,"d":"88.08"},{"v":29.358333333333334,"d":"29.36"},{"v":88.075,"d":"88.08"},{"v":88.075,"d":"88.08"},{"v":88.075,"d":"88.08"},{"v":88.075,"d":"88.08"},{"v":88.075,"d":"88.08"},{"v":0,"d":"0.00"},{"v":0,"d":"0.00"}]
["C04",{"$f":"F8","v":{"v":84.4,"d":"84.40"}},{"v":88.075,"d":"88.08"},{"$f":"D17*$B$26/3","v":{"v":28.133333333333336,"d":"28.13"}},{"v":84.4,"d":"84.40"},{"v":28.133333333333336,"d":"28.13"},{"v":28.133333333333336,"d":"28.13"},{"v":84.4,"d":"84.40"},{"v":28.133333333333336,"d":"28.13"},{"v":84.4,"d":"84.40"},{"v":84.4,"d":"84.40"},{"v":0,"d":"0.00"},{"v":0,"d":"0.00"}]
["C05",{"$f":"F9","v":{"v":85.9,"d":"85.90"}},{"$f":"C17*$B$27/3","v":{"v":85.90000000000002,"d":"85.90"}},{"$f":"D17*$B$27/3","v":{"v":28.633333333333336,"d":"28.63"}},{"v":85.90000000000002,"d":"85.90"},{"v":28.633333333333336,"d":"28.63"},{"v":28.633333333333336,"d":"28.63"},{"v":85.90000000000002,"d":"85.90"},{"v":28.633333333333336,"d":"28.63"},{"v":85.90000000000002,"d":"85.90"},{"v":85.90000000000002,"d":"85.90"},{"v":0,"d":"0.00"},{"v":0,"d":"0.00"}]
["Average",null,{"$f":"AVERAGE(C23:C27)","v":{"v":69.92500000000001,"d":"69.93"}},{"$f":"AVERAGE(D23:D27)","v":{"v":52.475,"d":"52.48"}},{"v":63.36833333333334,"d":"63.37"},{"v":28.918333333333333,"d":"28.92"},{"v":40.66166666666667,"d":"40.66"},{"v":86.75500000000001,"d":"86.76"},{"v":40.66166666666667,"d":"40.66"},{"v":86.75500000000001,"d":"86.76"},{"v":75.06166666666667,"d":"75.06"},{"v":0,"d":"0.00"},{"v":0,"d":"0.00"}]

{"sheet":"21MBA121","index":12,"n_rows":207,"n_cols":13,"rows_kept":207,"merged":[[0,0,0,12],[1,0,1,12],[2,0,2,12],[3,0,3,12],[4,0,4,12],[5,0,5,1],[5,8,5,10],[6,0,6,3],[7,3,7,8],[8,3,8,8],[10,0,10,1],[10,2,10,8],[10,9,10,10],[11,0,11,1],[12,0,12,1],[13,0,13,1],[195,0,195,1],[196,0,196,1],[197,0,197,1],[198,0,198,1],[200,5,200,6],[200,7,200,8],[201,5,201,6],[202,5,202,6],[203,5,203,6],[204,5,204,6],[205,5,205,6],[206,5,206,6]]}
["RV Institute of Management"]
["Autonomous Institution Affiliated to BCU "]
["MBA Programme   II Semester"]
["Course Outcome Report"]
["Digital Marketing"]
["Name of the Course Teacher:",{"$nulls":7},"Sub. Code:",null,null,"21MBA121"]
["Dr. Padmalini Singh, Prof. Pooja T,  Dr.Swathi Gupta",{"$nulls":8},"Sec: ",null,"ABC"]
[{"$nulls":3},"Semester II"]
[{"$nulls":3},"Batch 2021-23"]
[]
[null,null,"Section A",{"$nulls":6},"Section B"]
["Question number",null,1,2,3,4,5,6,7,8,9,"External Exam ","Mid Term Exam "]
["Course outcome",null,"CO1","CO2","CO5","CO4","CO4","CO1","CO2","CO3","CO4","Marks","Marks"]
["Maximum marks",null,5,5,5,5,5,5,5,10,10,50,50]
["Student Reg. No","Student Name",{"$f":"C14*0.64","v":3.2},{"$f":"D14*0.64","v":3.2},3.2,3.2,3.2,3.2,3.2,6.4,6.4,{"$f":"L14*0.357142","v":{"v":17.8571,"d":"18"}}]
[{"$f":"'21MBA221'!A16","v":"P18FW21M0001"},{"$f":"'21MBA221'!B16","v":"VIPUL VILAS NAIK"},3.5,null,1,null,3,6,null,6,9,32,{"$f":"SUM(C16:K16)","v":{"v":28.5,"d":"29"}}]
[{"$f":"'21MBA221'!A17","v":"P18FW21M0002"},{"$f":"'21MBA221'!B17","v":"M PRANEETH KUMAR REDDY"},2,2.5,null,3,null,6,null,7,7,28,{"$f":"SUM(C17:K17)","v":{"v":27.5,"d":"28"}}]
[{"$f":"'21MBA221'!A18","v":"P18FW21M0003"},{"$f":"'21MBA221'!B18","v":"NIKHIL S ANJANALLI"},4,3,null,4,null,7,1,null,8,33,27]
[{"$f":"'21MBA221'!A19","v":"P18FW21M0004"},{"$f":"'21MBA221'!B19","v":"KARTHIK P SHETTY"},4,3.5,null,4,null,7,0,null,4,34,{"v":22.5,"d":"23"}]
[{"$f":"'21MBA221'!A20","v":"P18FW21M0005"},{"$f":"'21MBA221'!B20","v":"AMITH C"},null,3,null,4,3,7,null,8,6.5,33,{"v":31.5,"d":"32"}]
[{"$f":"'21MBA221'!A21","v":"P18FW21M0006"},{"$f":"'21MBA221'!B21","v":"AISHWARYA G"},4,null,3,3,null,6,5,null,8,31,29]
[{"$f":"'21MBA221'!A22","v":"P18FW21M0007"},{"$f":"'21MBA221'!B22","v":"AKANKSH P"},3,null,null,4,4,7.5,null,6.5,10.5,39,{"v":35.5,"d":"36"}]
[{"$f":"'21MBA221'!A23","v":"P18FW21M0008"},{"$f":"'21MBA221'!B23","v":"SACHITH B K"},2.5,3,null,3,null,5.5,null,8,7,35,29]
[{"$f":"'21MBA221'!A24","v":"P18FW21M0009"},{"$f":"'21MBA221'!B24","v":"CHAITANYA KAMATAGI B"},3,3,null,3,null,6,null,8,12,37,35]
[{"$f":"'21MBA221'!A25","v":"P18FW21M0010"},{"$f":"'21MBA221'!B25","v":"AKASH RACHAPPA KHANAGAVI"},4,null,1,null,2,7,null,7,8,32,29]
[{"$f":"'21MBA221'!A26","v":"P18FW21M0011"},{"$f":"'21MBA221'!B26","v":"SOURAV SADANAND SWAR"},3.5,4,null,4,null,7,null,1,8.5,29,28]
[{"$f":"'21MBA221'!A27","v":"P18FW21M0012"},{"$f":"'21MBA221'!B27","v":"NISHANTH KRISHNA"},null,4,null,3,4,8,null,8,8.5,36,{"v":35.5,"d":"36"}]
[{"$f":"'21MBA221'!A28","v":"P18FW21M0013"},{"$f":"'21MBA221'!B28","v":"MEHUL V BHASKAR"},3,null,2.5,3,null,6,1,null,8,32,{"v":23.5,"d":"24"}]
[{"$f":"'21MBA221'!A29","v":"P18FW21M0014"},{"$f":"'21MBA221'!B29","v":"SHUBHAM RAJENDRA REVANKAR"},3,3,4,null,null,6,null,7,9,33,32]
[{"$f":"'21MBA221'!A30","v":"P18FW21M0015"},{"$f":"'21MBA221'!B30","v":"SHETTY TRUPTHI CHANDRAHAS"},3,3,3,null,null,6,null,6,11,39,32]
[{"$f":"'21MBA221'!A31","v":"P18FW21M0016"},{"$f":"'21MBA221'!B31","v":"SHEEBAL M S"},4,4,null,4,null,7,null,8,9,37,36]
[{"$f":"'21MBA221'!A32","v":"P18FW21M0017"},{"$f":"'21MBA221'!B32","v":"VISHNU KUMAR"},null,4,3,3,null,9,null,9,10,38,38]
[{"$f":"'21MBA221'!A33","v":"P18FW21M0018"},{"$f":"'21MBA221'!B33","v":"HARSHITHA SRINIVAS"},3,3,4,null,null,6,null,6,9,31,31]
[{"$f":"'21MBA221'!A34","v":"P18FW21M0019"},{"$f":"'21MBA221'!B34","v":"SAGI SAMPI"},null,3,null,3,2,7,null,8,9,39,32]
[{"$f":"'21MBA221'!A35","v":"P18FW21M0020"},{"$f":"'21MBA221'!B35","v":"PAULOMEE BARUAH"},null,3,null,4,3,6,null,4,7,37,27]
[{"$f":"'21MBA221'!A36","v":"P18FW21M0021"},{"$f":"'21MBA221'!B36","v":"NEETHA KAMATH"},4,4,null,3,null,5,null,7,9,33,32]
[{"$f":"'21MBA221'!A37","v":"P18FW21M0022"},{"$f":"'21MBA221'!B37","v":"ADITYA UDAY HEGDE"},4,3,null,3,null,8,null,6,11,28,35]
[{"$f":"'21MBA221'!A38","v":"P18FW21M0023"},{"$f":"'21MBA221'!B38","v":"SHREYAS G A"},3,3,null,3,null,null,4,6,7,33,26]
[{"$f":"'21MBA221'!A39","v":"P18FW21M0024"},{"$f":"'21MBA221'!B39","v":"SRUJANA S"},3,2,null,3,null,6,null,6,7,38,27]
[{"$f":"'21MBA221'!A40","v":"P18FW21M0025"},{"$f":"'21MBA221'!B40","v":"PRAJWAL S N"},2,3,null,3,null,6,null,7,7,38,28]
[{"$f":"'21MBA221'!A41","v":"P18FW21M0026"},{"$f":"'21MBA221'!B41","v":"SUCHITRA G"},3,3,3,null,null,5,0,null,8,32,22]
[{"$f":"'21MBA221'!A42","v":"P18FW21M0027"},{"$f":"'21MBA221'!B42","v":"SANKET SURESH SHIRSAT"},4,3,null,3,null,6,null,7,9,34,32]
[{"$f":"'21MBA221'!A43","v":"P18FW21M0028"},{"$f":"'21MBA221'!B43","v":"ANIKET SANJAY REVANKAR"},2,2,null,3,null,6,null,3,9,34,25]
[{"$f":"'21MBA221'!A44","v":"P18FW21M0029"},{"$f":"'21MBA221'!B44","v":"AKHILA H"},null,4,2,null,2,8,null,8,12,27,36]
[{"$f":"'21MBA221'!A45","v":"P18FW21M0030"},{"$f":"'21MBA221'!B45","v":"M LUQMAN NAWAZ"},4,4,null,3,null,7,null,5,11,37,34]
[{"$f":"'21MBA221'!A46","v":"P18FW21M0031"},{"$f":"'21MBA221'!B46","v":"MADHURA A"},null,3,null,3,4,7,null,7,11,41,35]
[{"$f":"'21MBA221'!A47","v":"P18FW21M0032"},{"$f":"'21MBA221'!B47","v":"H V SHREEVATSA"},2,3,2,null,null,7,6,null,11,33,31]
[{"$f":"'21MBA221'!A48","v":"P18FW21M0033"},{"$f":"'21MBA221'!B48","v":"LILIMA DASH"},null,3,null,3,3,5,null,5,8,33,27]
[{"$f":"'21MBA221'!A49","v":"P18FW21M0034"},{"$f":"'21MBA221'!B49","v":"KUMAR ASHUTOSH"},3,3,null,3,null,6,null,0,5,27,20]
[{"$f":"'21MBA221'!A50","v":"P18FW21M0035"},{"$f":"'21MBA221'!B50","v":"RAHUL S SANGOLLI"},3,3,null,3,null,6,null,7,6,27,28]
[{"$f":"'21MBA221'!A51","v":"P18FW21M0036"},{"$f":"'21MBA221'!B51","v":"GIRISH N NASHI"},3,4,null,4,null,6,4,null,9,31,30]
[{"$f":"'21MBA221'!A52","v":"P18FW21M0037"},{"$f":"'21MBA221'!B52","v":"ANKITA GAJANAN NAIK"},0,4,null,3,null,7,null,0,10,25,24]
[{"$f":"'21MBA221'!A53","v":"P18FW21M0038"},{"$f":"'21MBA221'!B53","v":"GURUBASAVARAJ K M"},null,3,2,3,null,5,3,null,11,37,27]
[{"$f":"'21MBA221'!A54","v":"P18FW21M0039"},{"$f":"'21MBA221'!B54","v":"ANANYA P HEGDE"},3,4,null,3,null,7,1,null,6,32,24]
[{"$f":"'21MBA221'!A55","v":"P18FW21M0040"},{"$f":"'21MBA221'!B55","v":"NIVEDITHA K SWAMY"},null,null,4,4,4,8,0,null,11,37,31]
[{"$f":"'21MBA221'!A56","v":"P18FW21M0041"},{"$f":"'21MBA221'!B56","v":"LIKHITHA L"},4,3,null,3,null,7,2,null,7,33,26]
[{"$f":"'21MBA221'!A57","v":"P18FW21M0042"},{"$f":"'21MBA221'!B57","v":"RAHUL RAM BHAT"},3,3,null,4,null,6,null,6,12,38,34]
[{"$f":"'21MBA221'!A58","v":"P18FW21M0043"},{"$f":"'21MBA221'!B58","v":"AMIT KAMADOLLISHETTARU"},3,4,null,3,null,7,null,6,11,30,34]
[{"$f":"'21MBA221'!A59","v":"P18FW21M0044"},{"$f":"'21MBA221'!B59","v":"POOJARANI TALAWAR"},3,null,3,4,null,7,2,null,11,30,30]
[{"$f":"'21MBA221'!A60","v":"P18FW21M0045"},{"$f":"'21MBA221'!B60","v":"ABHITHA K"},null,3,2,3,null,6,1,null,9,25,24]
[{"$f":"'21MBA221'!A61","v":"P18FW21M0046"},{"$f":"'21MBA221'!B61","v":"S SHREYAS"},2,2,3,null,null,6,null,1,6,27,20]
[{"$f":"'21MBA221'!A62","v":"P18FW21M0047"},{"$f":"'21MBA221'!B62","v":"ABHISHEK SHENOY"},3,3,null,3,null,7,null,0,9,35,25]
[{"$f":"'21MBA221'!A63","v":"P18FW21M0048"},{"$f":"'21MBA221'!B63","v":"B S SUSHEN"},3,null,3,3,null,7,null,8,11,40,35]
[{"$f":"'21MBA221'!A64","v":"P18FW21M0049"},{"$f":"'21MBA221'!B64","v":"PRAJWALA H"},4,3,null,null,2,8,null,7,11,37,35]
[{"$f":"'21MBA221'!A65","v":"P18FW21M0050"},{"$f":"'21MBA221'!B65","v":"VAISHNAVI N"},null,4,null,3,3,6,8,null,11,42,35]
[{"$f":"'21MBA221'!A66","v":"P18FW21M0051"},{"$f":"'21MBA221'!B66","v":"DEEPAK GIRISH KALYANI"},4,3,null,3,null,8,null,7,12,40,37]
[{"$f":"'21MBA221'!A67","v":"P18FW21M0052"},{"$f":"'21MBA221'!B67","v":"ISAAC JESSE K"},null,3,3,1,null,6,null,0,9,22,22]
[{"$f":"'21MBA221'!A68","v":"P18FW21M0053"},{"$f":"'21MBA221'!B68","v":"SUPRIYA GOVIND BELSARE"},4,4,null,null,3,null,3,7,8,32,29]
[{"$f":"'21MBA221'!A69","v":"P18FW21M0054"},{"$f":"'21MBA221'!B69","v":"VINAYAK RAO GAIKWAD K"},null,3,3,null,2,1,null,0,13,27,22]
[{"$f":"'21MBA221'!A70","v":"P18FW21M0055"},{"$f":"'21MBA221'!B70","v":"SUTOPA DEB"},3,3,null,2,null,6,null,4,9,31,27]
[{"$f":"'21MBA221'!A71","v":"P18FW21M0056"},{"$f":"'21MBA221'!B71","v":"M S SUKRUT"},3,3,null,4,null,8,0,null,10,"AB",28]
[{"$f":"'21MBA221'!A72","v":"P18FW21M0057"},{"$f":"'21MBA221'!B72","v":"BHASKARA PRABHU"},3,3,null,3,null,6,null,6,10,33,31]
[{"$f":"'21MBA221'!A73","v":"P18FW21M0058"},{"$f":"'21MBA221'!B73","v":"PRAKASH SHIVAKUMAR"},3,3,null,3,null,6,null,5,6,35,26]
[{"$f":"'21MBA221'!A74","v":"P18FW21M0059"},{"$f":"'21MBA221'!B74","v":"AMOGHA Y G"},1,2,null,4,null,5,null,6,6,29,24]
[{"$f":"'21MBA221'!A75","v":"P18FW21M0060"},{"$f":"'21MBA221'!B75","v":"BHARATH K S"},null,4,3,null,1,6,null,7,9,33,30]
[{"$f":"'21MBA221'!A76","v":"P18FW21M0061"},{"$f":"'21MBA221'!B76","v":"AKANKSH K G"},null,3,0,3,null,8,5,null,13,36,32]
[{"$f":"'21MBA221'!A77","v":"P18FW21M0062"},{"$f":"'21MBA221'!B77","v":"BERNARD FERNANDES"},3,3,2,null,null,5,0,null,7,22,20]
[{"$f":"'21MBA221'!A78","v":"P18FW21M0063"},{"$f":"'21MBA221'!B78","v":"AISHWARYA P"},null,3,4,3,null,6,1,null,8,29,25]
[{"$f":"'21MBA221'!A79","v":"P18FW21M0064"},{"$f":"'21MBA221'!B79","v":"VIOLA PINTO"},null,3,3,3,null,7,5,null,9,34,30]
[{"$f":"'21MBA221'!A80","v":"P18FW21M0065"},{"$f":"'21MBA221'!B80","v":"VARSHA"},3,null,null,3,2,5,null,7,7,33,27]
[{"$f":"'21MBA221'!A81","v":"P18FW21M0066"},{"$f":"'21MBA221'!B81","v":"CHIDRI BALAJI"},4,4,null,3,null,6,7,null,10,37,{"$f":"SUM(C81:K81)","v":34}]
[{"$f":"'21MBA221'!A82","v":"P18FW21M0067"},{"$f":"'21MBA221'!B82","v":"GAGANDEEP V N"},0,3,null,3,null,4,null,0,10,33,20]
[{"$f":"'21MBA221'!A83","v":"P18FW21M0068"},{"$f":"'21MBA221'!B83","v":"PRAJWALA"},4,4,null,4,null,8,7,null,11,43,38]
[{"$f":"'21MBA221'!A84","v":"P18FW21M0069"},{"$f":"'21MBA221'!B84","v":"POORNIMA L"},3,4,4,{"$nulls":3},5,8,12,37,36]
[{"$f":"'21MBA221'!A85","v":"P18FW21M0070"},{"$f":"'21MBA221'!B85","v":"SHUBIKSHA S"},4,4,null,4,null,7,null,6,12,37,37]
[{"$f":"'21MBA221'!A86","v":"P18FW21M0071"},{"$f":"'21MBA221'!B86","v":"ANUSHA"},3,3,null,3,null,7,3,null,10,31,29]
[{"$f":"'21MBA221'!A87","v":"P18FW21M0072"},{"$f":"'21MBA221'!B87","v":"P T KIRTI"},3,4,null,4,null,8,null,8,10,29,37]
[{"$f":"'21MBA221'!A88","v":"P18FW21M0073"},{"$f":"'21MBA221'!B88","v":"SAMEEKSHA M P"},4,null,null,4,5,6,7,null,10,37,36]
[{"$f":"'21MBA221'!A89","v":"P18FW21M0074"},{"$f":"'21MBA221'!B89","v":"KAVYAPRIYA J"},null,3,3,3,null,6,null,6,10,33,31]
[{"$f":"'21MBA221'!A90","v":"P18FW21M0075"},{"$f":"'21MBA221'!B90","v":"RAKSHITH R T"},4,3,null,3,null,6,null,7,9,28,32]
[{"$f":"'21MBA221'!A91","v":"P18FW21M0076"},{"$f":"'21MBA221'!B91","v":"SHUBHA R"},4,3,null,3,null,7,null,6,12,38,35]
[{"$f":"'21MBA221'!A92","v":"P18FW21M0077"},{"$f":"'21MBA221'!B92","v":"BASAVARAJ"},3,4,null,3,null,null,4,8,13,39,35]
[{"$f":"'21MBA221'!A93","v":"P18FW21M0078"},{"$f":"'21MBA221'!B93","v":"MANOJ RAKSHATH B S"},3,3,3.5,null,null,8,null,8,5,26,{"v":30.5,"d":"31"}]
[{"$f":"'21MBA221'!A94","v":"P18FW21M0079"},{"$f":"'21MBA221'!B94","v":"ADITI RANI"},4,3,null,3,null,8,null,7,8,34,33]
[{"$f":"'21MBA221'!A95","v":"P18FW21M0080"},{"$f":"'21MBA221'!B95","v":"DIVYA SHREE M"},null,4,3,3.5,null,9,null,8.5,10,41,38]
[{"$f":"'21MBA221'!A96","v":"P18FW21M0081"},{"$f":"'21MBA221'!B96","v":"VARUN S BHARADWAJ"},4,3,null,4,null,8,null,2,9,38,30]
[{"$f":"'21MBA221'!A97","v":"P18FW21M0082"},{"$f":"'21MBA221'!B97","v":"S KARTHIK"},null,4,3,4,null,7,null,7.5,9,31,{"v":34.5,"d":"35"}]
[{"$f":"'21MBA221'!A98","v":"P18FW21M0083"},{"$f":"'21MBA221'!B98","v":"NEELAMMA M K"},4,3,null,4,null,7,null,2,10,39,30]
[{"$f":"'21MBA221'!A99","v":"P18FW21M0084"},{"$f":"'21MBA221'!B99","v":"PRAMOD K L"},3,3,null,4,null,8,null,7,9,38,34]
[{"$f":"'21MBA221'!A100","v":"P18FW21M0085"},{"$f":"'21MBA221'!B100","v":"NAMRATHA N"},4,4,null,3,null,7,5,null,11,35,34]
[{"$f":"'21MBA221'!A101","v":"P18FW21M0086"},{"$f":"'21MBA221'!B101","v":"ANVITH KUMAR"},3,3,null,3,null,6,5,null,10,30,30]
[{"$f":"'21MBA221'!A102","v":"P18FW21M0087"},{"$f":"'21MBA221'!B102","v":"BHOOMIKA BHAT"},null,3,null,4,2,null,6,7,6,33,28]
[{"$f":"'21MBA221'!A103","v":"P18FW21M0088"},{"$f":"'21MBA221'!B103","v":"SOUMYA GANAPATI HEGDE"},null,3.5,2,4,null,7,null,9,8,32,{"v":33.5,"d":"34"}]
[{"$f":"'21MBA221'!A104","v":"P18FW21M0089"},{"$f":"'21MBA221'!B104","v":"SHREEKRISHNA"},3,3,null,2,null,7,null,7,9,34,31]
[{"$f":"'21MBA221'!A105","v":"P18FW21M0090"},{"$f":"'21MBA221'!B105","v":"OLETI SAI SREENITHYA"},4,4,null,4,null,7,5,null,9,35,33]
[{"$f":"'21MBA221'!A106","v":"P18FW21M0091"},{"$f":"'21MBA221'!B106","v":"RAMANUJAM H J"},4,4,null,3,null,7,0,null,10,31,28]
[{"$f":"'21MBA221'!A107","v":"P18FW21M0092"},{"$f":"'21MBA221'!B107","v":"CHAVI JAGADEESH"},4,null,null,2,2,6,null,2,11,29,27]
[{"$f":"'21MBA221'!A108","v":"P18FW21M0093"},{"$f":"'21MBA221'!B108","v":"DESAI JATIN ARUN"},2,2,null,null,2,4,null,4,7,25,21]
[{"$f":"'21MBA221'!A109","v":"P18FW21M0094"},{"$f":"'21MBA221'!B109","v":"MALLESH S"},4,null,2,3,null,null,5,6,8,34,28]
[{"$f":"'21MBA221'!A110","v":"P18FW21M0095"},{"$f":"'21MBA221'!B110","v":"SRINIDHI K"},4,3,null,4,null,7,7,null,8,39,33]
[{"$f":"'21MBA221'!A111","v":"P18FW21M0096"},{"$f":"'21MBA221'!B111","v":"B SHASHANK"},null,3,4,4,null,7,null,4,10,38,32]
[{"$f":"'21MBA221'!A112","v":"P18FW21M0097"},{"$f":"'21MBA221'!B112","v":"YOGASHREE C N"},4,null,4,4,null,8,null,8,9,37,37]
[{"$f":"'21MBA221'!A113","v":"P18FW21M0098"},{"$f":"'21MBA221'!B113","v":"CHARANA T U"},3,3,3,null,null,8,null,6,11,30,34]
[{"$f":"'21MBA221'!A114","v":"P18FW21M0099"},{"$f":"'21MBA221'!B114","v":"NAGARAJ GAJANAN HEGDE"},null,3,null,4,2,6,null,7,12,31,34]
[{"$f":"'21MBA221'!A115","v":"P18FW21M0100"},{"$f":"'21MBA221'!B115","v":"NIKITHA J SHANBHOG"},4,4,4,null,null,7,null,7,9,34,35]
[{"$f":"'21MBA221'!A116","v":"P18FW21M0101"},{"$f":"'21MBA221'!B116","v":"YASHASWINI P"},4,3,null,4,null,7,null,7,10,33,35]
[{"$f":"'21MBA221'!A117","v":"P18FW21M0102"},{"$f":"'21MBA221'!B117","v":"TANUSHREE R"},4,3,null,3,null,7,1,null,11,25,29]
[{"$f":"'21MBA221'!A118","v":"P18FW21M0103"},{"$f":"'21MBA221'!B118","v":"CHETHAN KUMAR V A"},null,2,2,3,null,null,4,6,10,35,27]
[{"$f":"'21MBA221'!A119","v":"P18FW21M0104"},{"$f":"'21MBA221'!B119","v":"NAYAN KUMAR"},3,null,3,3,null,6,null,5,8,34,28]
[{"$f":"'21MBA221'!A120","v":"P18FW21M0105"},{"$f":"'21MBA221'!B120","v":"DEEPAK GOPALAKRISHNAN"},4,3,null,3,null,6,null,2,null,23,18]
[{"$f":"'21MBA221'!A121","v":"P18FW21M0106"},{"$f":"'21MBA221'!B121","v":"POORNAPRAJNYA K MANGALVEDI"},4,3,null,3,null,8,5,null,10,33,33]
[{"$f":"'21MBA221'!A122","v":"P18FW21M0107"},{"$f":"'21MBA221'!B122","v":"JENISHA MENEZES"},null,3,null,4,3,5,null,5,9,33,29]
[{"$f":"'21MBA221'!A123","v":"P18FW21M0108"},{"$f":"'21MBA221'!B123","v":"SRAVANI SUNIL MHALSEKAR"},null,3,4,3,null,2,null,4,9,37,25]
[{"$f":"'21MBA221'!A124","v":"P18FW21M0109"},{"$f":"'21MBA221'!B124","v":"M RITISH"},3,4,null,0,null,5,null,5,3,34,20]
[{"$f":"'21MBA221'!A125","v":"P18FW21M0110"},{"$f":"'21MBA221'!B125","v":"DHANYA S SHARMA"},1,2,null,3,null,6,0,null,10,25,22]
[{"$f":"'21MBA221'!A126","v":"P18FW21M0111"},{"$f":"'21MBA221'!B126","v":"PREETHAM D VARMA"},4,3,null,3,null,6,2,null,9,30,27]
[{"$f":"'21MBA221'!A127","v":"P18FW21M0112"},{"$f":"'21MBA221'!B127","v":"DHIRAJKUMAR BELAVADI"},null,3,null,3,4,6,null,3,10,30,29]
[{"$f":"'21MBA221'!A128","v":"P18FW21M0113"},{"$f":"'21MBA221'!B128","v":"FERNANDES RICHA FLORINDA"},4,null,3,4,null,6,2,null,11,33,30]
[{"$f":"'21MBA221'!A129","v":"P18FW21M0114"},{"$f":"'21MBA221'!B129","v":"MEGHA U JOSHI"},4,3,null,4,null,4,0,0,11,35,26]
[{"$f":"'21MBA221'!A130","v":"P18FW21M0116"},{"$f":"'21MBA221'!B130","v":"DINAH NEETHA NORONHA"},4,3,3,null,null,7,null,6,9,32,32]
[{"$f":"'21MBA221'!A131","v":"P18FW21M0117"},{"$f":"'21MBA221'!B131","v":"HEGDE PAVANA GANAPATHI"},4,3,null,4,null,6,null,5,12,29,34]
[{"$f":"'21MBA221'!A132","v":"P18FW21M0118"},{"$f":"'21MBA221'!B132","v":"LOYSTON CRASTA"},null,4,2,3,null,2,2,null,10,26,23]
[{"$f":"'21MBA221'!A133","v":"P18FW21M0119"},{"$f":"'21MBA221'!B133","v":"GANESH HEGDE"},null,3,null,3,2,8,null,8,5,31,29]
[{"$f":"'21MBA221'!A134","v":"P18FW21M0120"},{"$f":"'21MBA221'!B134","v":"ANUSHA PRAKASH"},4,4,4,null,null,8,7,null,10,33,37]
[{"$f":"'21MBA221'!A135","v":"P18FW21M0121"},{"$f":"'21MBA221'!B135","v":"ANJANA KSHIRASAGAR"},4,3,null,null,3,6,null,1,10,36,27]
[{"$f":"'21MBA221'!A136","v":"P18FW21M0122"},{"$f":"'21MBA221'!B136","v":"JAGADISH SHENOY R"},3,3,2,null,null,7,null,6,9,33,30]
[{"$f":"'21MBA221'!A137","v":"P18FW21M0123"},{"$f":"'21MBA221'!B137","v":"MADHAN KUMAR C S"},null,3,null,3,4,8,null,6,8,30,32]
[{"$f":"'21MBA221'!A138","v":"P18FW21M0124"},{"$f":"'21MBA221'!B138","v":"TEJAS H P"},null,null,0,3,3,5,5,null,4,24,20]
[{"$f":"'21MBA221'!A139","v":"P18FW21M0125"},{"$f":"'21MBA221'!B139","v":"DHANUSH K V"},3,3,null,null,2,7,6,null,8,31,29]
[{"$f":"'21MBA221'!A140","v":"P18FW21M0126"},{"$f":"'21MBA221'!B140","v":"SWAMI SAMIKSHA PUSHPARAJ"},3,4.5,null,2.5,null,8,7,null,9,32,34]
[{"$f":"'21MBA221'!A141","v":"P18FW21M0127"},{"$f":"'21MBA221'!B141","v":"AMITH BHAT"},4,4,null,3,null,7,0,7,10,39,35]
[{"$f":"'21MBA221'!A142","v":"P18FW21M0128"},{"$f":"'21MBA221'!B142","v":"NUTHANA U"},4,3,null,3,null,5,6,null,10,39,31]
[{"$f":"'21MBA221'!A143","v":"P18FW21M0129"},{"$f":"'21MBA221'!B143","v":"CHETAN SINGH M"},null,2,2,2,null,null,3,2,10,27,21]
[{"$f":"'21MBA221'!A144","v":"P18FW21M0130"},{"$f":"'21MBA221'!B144","v":"KAUSTUBH LACHAPPANAVAR"},null,2,3,3,null,7,null,6,10,29,31]
[{"$f":"'21MBA221'!A145","v":"P18FW21M0131"},{"$f":"'21MBA221'!B145","v":"KSHITIJ P L"},2,2,3,3,null,5,null,5,8,29,{"$f":"SUM(C145:K145)","v":28}]
[{"$f":"'21MBA221'!A146","v":"P18FW21M0132"},{"$f":"'21MBA221'!B146","v":"BHUVANES P"},2,3,null,2,null,4,null,5,6,22,22]
[{"$f":"'21MBA221'!A147","v":"P18FW21M0133"},{"$f":"'21MBA221'!B147","v":"NALASANI VARSHITHA"},null,4,4,4,null,null,7,8,11,38,38]
[{"$f":"'21MBA221'!A148","v":"P18FW21M0134"},{"$f":"'21MBA221'!B148","v":"KOKILA K"},null,3,null,4,3,5,null,5,13,39,33]
[{"$f":"'21MBA221'!A149","v":"P18FW21M0135"},{"$f":"'21MBA221'!B149","v":"KOTHA KEERTHANA"},4,4,null,3,null,7,8,null,11,40,37]
[{"$f":"'21MBA221'!A150","v":"P18FW21M0136"},{"$f":"'21MBA221'!B150","v":"MUCHELI SUBBARAJU"},4,4,4,null,null,6,null,3,11,36,32]
[{"$f":"'21MBA221'!A151","v":"P18FW21M0137"},{"$f":"'21MBA221'!B151","v":"NANDAGOPAL B R"},4,4,null,4,null,8,7,null,11,39,38]
[{"$f":"'21MBA221'!A152","v":"P18FW21M0138"},{"$f":"'21MBA221'!B152","v":"VISHAL SHIVARAJ"},4,4,null,3,null,6,6,null,11,37,34]
[{"$f":"'21MBA221'!A153","v":"P18FW21M0139"},{"$f":"'21MBA221'!B153","v":"SHASHI KUMAR R"},4,3,null,3,null,7,null,5,11,39,33]
[{"$f":"'21MBA221'!A154","v":"P18FW21M0140"},{"$f":"'21MBA221'!B154","v":"YASHWANTH R"},3,3,null,null,1,6,null,9,9,40,31]
[{"$f":"'21MBA221'!A155","v":"P18FW21M0141"},{"$f":"'21MBA221'!B155","v":"M M JABEZ"},3,3,null,null,4,7,null,7,7,36,31]
[{"$f":"'21MBA221'!A156","v":"P18FW21M0142"},{"$f":"'21MBA221'!B156","v":"KALAVALA ABHISHTA"},3,3,null,4,null,5,null,7,10,35,32]
[{"$f":"'21MBA221'!A157","v":"P18FW21M0143"},{"$f":"'21MBA221'!B157","v":"SANKALP V"},3,4,3,null,null,7,0,null,8,33,25]
[{"$f":"'21MBA221'!A158","v":"P18FW21M0144"},{"$f":"'21MBA221'!B158","v":"NAVEEN C"},null,null,4,3,3,6,5,null,11,40,32]
[{"$f":"'21MBA221'!A159","v":"P18FW21M0145"},{"$f":"'21MBA221'!B159","v":"PAVAN KUMAR M"},4,null,null,3,3,5,0,null,10,32,25]
[{"$f":"'21MBA221'!A160","v":"P18FW21M0146"},{"$f":"'21MBA221'!B160","v":"KAPARTHI BHAVANA"},4,4,null,3,null,6,null,7,12,39,36]
[{"$f":"'21MBA221'!A161","v":"P18FW21M0147"},{"$f":"'21MBA221'!B161","v":"MANOJ N S"},4,3,null,4,null,7,8,null,9,40,35]
[{"$f":"'21MBA221'!A162","v":"P18FW21M0149"},{"$f":"'21MBA221'!B162","v":"HEMA S"},null,3,null,3,3,null,6,7,9,36,31]
[{"$f":"'21MBA221'!A163","v":"P18FW21M0150"},{"$f":"'21MBA221'!B163","v":"MADHUSUDAN G"},null,4,1,4,null,7,4,null,10,34,30]
[{"$f":"'21MBA221'!A164","v":"P18FW21M0151"},{"$f":"'21MBA221'!B164","v":"ANNASAGARAM RAGHAVENDRA"},3,4,null,3,null,5,4,null,10,28,29]
[{"$f":"'21MBA221'!A165","v":"P18FW21M0152"},{"$f":"'21MBA221'!B165","v":"SYED MUSSAVEERULLA"},null,4,3,3,null,6,null,6,10,36,32]
[{"$f":"'21MBA221'!A166","v":"P18FW21M0153"},{"$f":"'21MBA221'!B166","v":"SYED SAMEER"},3,3,null,4,null,7,null,2,10,37,29]
[{"$f":"'21MBA221'!A167","v":"P18FW21M0154"},{"$f":"'21MBA221'!B167","v":"RAMANABOINA ANAND KUMAR"},3,null,4,3,null,8,null,8,13,41,39]
[{"$f":"'21MBA221'!A168","v":"P18FW21M0155"},{"$f":"'21MBA221'!B168","v":"SHIVAM GANAPATI ANVEKAR"},null,3,3,3,null,7,6,null,8,34,30]
[{"$f":"'21MBA221'!A169","v":"P18FW21M0156"},{"$f":"'21MBA221'!B169","v":"SHUBHAM SINGH"},4,3.5,null,4,null,7,null,6,7,32,{"v":31.5,"d":"32"}]
[{"$f":"'21MBA221'!A170","v":"P18FW21M0157"},{"$f":"'21MBA221'!B170","v":"GURU VARUN G"},3,3,null,null,4,1.5,7,null,8.5,26,27]
[{"$f":"'21MBA221'!A171","v":"P18FW21M0158"},{"$f":"'21MBA221'!B171","v":"ABHIJEETH MASHETTY"},null,2,2,3,null,6,null,7,7,36,27]
[{"$f":"'21MBA221'!A172","v":"P18FW21M0159"},{"$f":"'21MBA221'!B172","v":"PRANITH KUMAR S"},3,2,3,null,null,8,7,null,10,38,33]
[{"$f":"'21MBA221'!A173","v":"P18FW21M0160"},{"$f":"'21MBA221'!B173","v":"LIKITHA A"},3,3,3,null,null,7,4,null,10,35,30]
[{"$f":"'21MBA221'!A174","v":"P18FW21M0161"},{"$f":"'21MBA221'!B174","v":"NAVEEN SETTY N A"},4,4,null,4,null,7,7,null,12,38,38]
[{"$f":"'21MBA221'!A175","v":"P18FW21M0162"},{"$f":"'21MBA221'!B175","v":"REHAN FAISAL QADRI"},null,3,null,3,3,8,null,7,5,34,29]
[{"$f":"'21MBA221'!A176","v":"P18FW21M0163"},{"$f":"'21MBA221'!B176","v":"SMITHA M"},4,4,null,4,null,7,null,6,10,37,35]
[{"$f":"'21MBA221'!A177","v":"P18FW21M0164"},{"$f":"'21MBA221'!B177","v":"ANIRUDH K"},3,2,1,null,null,2,null,0,12,22,20]
[{"$f":"'21MBA221'!A178","v":"P18FW21M0165"},{"$f":"'21MBA221'!B178","v":"SALMAN FAISAL QADRI"},4,null,null,3,4,6,null,5,10,36,32]
[{"$f":"'21MBA221'!A179","v":"P18FW21M0166"},{"$f":"'21MBA221'!B179","v":"RAVISH RAMACHANDRA HEGDE"},4,3,1,null,null,6,6,null,8,30,28]
[{"$f":"'21MBA221'!A180","v":"P18FW21M0167"},{"$f":"'21MBA221'!B180","v":"POOJA VALLUR"},4,4,null,3,null,8,5,null,10,36,34]
[{"$f":"'21MBA221'!A181","v":"P18FW21M0169"},{"$f":"'21MBA221'!B181","v":"MAHANTH GOWDA K C"},4,null,4,3,null,6,null,6,11,39,34]
[{"$f":"'21MBA221'!A182","v":"P18FW21M0170"},{"$f":"'21MBA221'!B182","v":"BHUPALI SAURABH PRAKASH"},2,null,2,3,null,6,6,null,8,37,27]
[{"$f":"'21MBA221'!A183","v":"P18FW21M0171"},{"$f":"'21MBA221'!B183","v":"SYED RAIHAN"},3.5,null,3,2,null,7,null,5,8,35,{"v":28.5,"d":"29"}]
[{"$f":"'21MBA221'!A184","v":"P18FW21M0172"},{"$f":"'21MBA221'!B184","v":"SHRI HARI L"},3,2.5,null,3,null,7,null,7,7,28,{"v":29.5,"d":"30"}]
[{"$f":"'21MBA221'!A185","v":"P18FW21M0173"},{"$f":"'21MBA221'!B185","v":"SNEHA U"},4,3,null,3,null,6,null,0,10,29,26]
[{"$f":"'21MBA221'!A186","v":"P18FW21M0174"},{"$f":"'21MBA221'!B186","v":"SHAH VINIT SIDDHARTH"},null,4,4,3,null,6,6,null,10,37,33]
[{"$f":"'21MBA221'!A187","v":"P18FW21M0175"},{"$f":"'21MBA221'!B187","v":"NAYANA G C"},4,3.5,null,null,1,6,6,null,7,35,{"v":27.5,"d":"28"}]
[{"$f":"'21MBA221'!A188","v":"P18FW21M0176"},{"$f":"'21MBA221'!B188","v":"D SURIYA PRIYASREE"},null,3,null,3,1,6,null,0,9,35,22]
[{"$f":"'21MBA221'!A189","v":"P18FW21M0177"},{"$f":"'21MBA221'!B189","v":"SATHYA B NAYAKA"},null,2,2,3,null,6,null,5,8,29,26]
[{"$f":"'21MBA221'!A190","v":"P18FW21M0178"},{"$f":"'21MBA221'!B190","v":"NEHA H V"},3,3,2,null,null,5,null,6,4,30,23]
[{"$f":"'21MBA221'!A191","v":"P18FW21M0179"},{"$f":"'21MBA221'!B191","v":"SAAHIL SRIKANT KULLOLI"},2,3,null,3,null,6,4,null,8,30,26]
[{"$f":"'21MBA221'!A192","v":"P18FW21M0180"},{"$f":"'21MBA221'!B192","v":"SIMRANJIT KAUR"},null,4,3,4,null,8,null,8,8,38,35]
[{"$f":"'21MBA221'!A193","v":"P18FW21M0181"},{"$f":"'21MBA221'!B193","v":"NIRANJAN JANARDHAN HEGDE"},null,3,4,3,null,7,null,5,11,33,33]
[{"$f":"'21MBA221'!A194","v":"P18FW21M0182"},{"$f":"'21MBA221'!B194","v":"TEJAS N"},{"$nulls":9},"",0]
[{"$f":"'21MBA221'!A195","v":"P18FW21M0184"},{"$f":"'21MBA221'!B195","v":"AGAMYA A KINHAL"},4,3,null,4,null,5,0,null,9,29,25]
["No. of students attended",null,{"$f":"COUNTA(C16:C195)","v":130},156,68,144,40,169,72,119,178,{"$f":"COUNT(L16:L195)","v":178}]
["No. of Students attained CO",null,{"$f":"COUNTIF(C16:C195,\">\"&C15)","v":64},50,18,46,10,164,45,52,163,178]
[" CO Attainment percentage",null,{"$f":"ROUND(C197*100/C196,0)","v":49},32,26,32,25,97,63,44,92,{"$f":"ROUND(L197*100/L196,0)","v":100}]
["Level",null,{"$f":"IF(C198>=80,\"3\",IF(C198>=70,\"2\",IF(C198>=60,\"1\",\"-\")))","v":"-"},{"$f":"IF(D198>=80,\"3\",IF(D198>=70,\"2\",IF(D198>=60,\"1\",\"-\")))","v":"-"},"-","-","-","3","1","-","3","3"]
[null,null,"CO1","CO2","CO5","CO4","CO4","CO1","CO2","CO3","CO4"]
[{"$nulls":7},"Internals",null,"Final CO Attainment"]
[{"$nulls":5},"CO ",null,"Percent","Level","Percent","Level"]
[{"$nulls":5},"CO 1",null,{"$f":"AVERAGE(C198,H198)","v":73},{"$f":"IF(H203>=80,\"3\",IF(H203>=70,\"2\",IF(H203>=60,\"1\",IF(H203<59,\"-\"))))","v":"2"},{"$f":"(H203*0.3)+($L$198*0.7)","v":91.9},{"$f":"IF(J203>=80,\"3\",IF(J203>=70,\"2\",IF(J203>=60,\"1\",IF(J203<59,\"-\"))))","v":"3"}]
[{"$nulls":5},"CO 2",null,{"$f":"AVERAGE(D198,I198)","v":47.5},{"$f":"IF(H204>=80,\"3\",IF(H204>=70,\"2\",IF(H204>=60,\"1\",IF(H204<59,\"-\"))))","v":"-"},{"$f":"(H204*0.3)+($L$198*0.7)","v":84.25},{"$f":"IF(J204>=80,\"3\",IF(J204>=70,\"2\",IF(J204>=60,\"1\",IF(J204<59,\"-\"))))","v":"3"}]
[{"$nulls":5},"CO 3",null,{"$f":"AVERAGE(J198)","v":44},"-",83.2,{"$f":"IF(J205>=80,\"3\",IF(J205>=70,\"2\",IF(J205>=60,\"1\",IF(J205<59,\"-\"))))","v":"3"}]
[{"$nulls":5},"CO 4",null,{"$f":"AVERAGE(F198,K198,G198)","v":49.666666666666664},"-",84.9,{"$f":"IF(J206>=80,\"3\",IF(J206>=70,\"2\",IF(J206>=60,\"1\",IF(J206<59,\"-\"))))","v":"3"}]
[{"$nulls":5},"CO 5",null,{"$f":"AVERAGE(E198)","v":26},"-",77.8,{"$f":"IF(J207>=80,\"3\",IF(J207>=70,\"2\",IF(J207>=60,\"1\",IF(J207<59,\"-\"))))","v":"2"}]

{"sheet":"21MBA121-Attainment","index":13,"n_rows":29,"n_cols":13,"rows_kept":29,"merged":[[21,0,21,1],[21,2,22,2],[21,3,22,3],[21,4,22,4],[21,5,22,5],[21,6,22,6],[21,7,22,7],[21,8,22,8],[21,9,22,9],[21,10,22,10],[21,11,22,11],[21,12,22,12],[22,0,22,1]]}
[{"$f":"'21MBA121'!A5:M5","v":"Digital Marketing"}]
[]
[{"$nulls":3},"Internals",null,"Final CO Attainment"]
[null,null,"CO ","Percentage","Level","Percentage","Level"]
[null,null,"CO1",{"$f":"'21MBA121'!H203","v":73},{"$f":"'21MBA121'!I203","v":"2"},{"$f":"'21MBA121'!J203","v":{"v":91.9,"d":"92"}},{"$f":"'21MBA121'!K203","v":"3"}]
[null,null,"CO2",{"$f":"'21MBA121'!H204","v":{"v":47.5,"d":"48"}},{"$f":"'21MBA121'!I204","v":"-"},{"$f":"'21MBA121'!J204","v":{"v":84.25,"d":"84"}},{"$f":"'21MBA121'!K204","v":"3"}]
[null,null,"CO3",{"$f":"'21MBA121'!H205","v":44},{"$f":"'21MBA121'!I205","v":"-"},{"$f":"'21MBA121'!J205","v":{"v":83.2,"d":"83"}},{"$f":"'21MBA121'!K205","v":"3"}]
[null,null,"CO4",{"$f":"'21MBA121'!H206","v":{"v":49.666666666666664,"d":"50"}},{"$f":"'21MBA121'!I206","v":"-"},{"$f":"'21MBA121'!J206","v":{"v":84.9,"d":"85"}},{"$f":"'21MBA121'!K206","v":"3"}]
[null,null,"CO5",{"$f":"'21MBA121'!H207","v":26},{"$f":"'21MBA121'!I207","v":"-"},{"$f":"'21MBA121'!J207","v":{"v":77.8,"d":"78"}},{"$f":"'21MBA121'!K207","v":"2"}]
[]
[]
[]
[null,null,"PO1","PO2","PO3","PO4","PO5","PO6","PO7","PO8","PO9","PO10","PO11"]
[null,"C01",3,1,null,2,1,1,2,3]
[null,"C02",3,2,null,2,1,2,3,3,1]
[null,"C03",3,2,null,2,1,null,3,3,1]
[null,"C04",3,2,null,2,1,null,3,3]
[null,"C05",2,1,null,1,null,1,1,3,2]
[null,null,"LEVEL  ","3-Substantial","2-Moderate","1-Slight","\"-\" No Co-relation"]
[]
[]
["Final CO",null,"PO1","PO2","PO3","PO4","PO5","PO6","PO7","PO8","PO9","PO10","PO11"]
[" ATTAINMENT"]
["C01",{"$f":"F5","v":{"v":91.9,"d":"91.90"}},{"$f":"C14*$B$24/3","v":{"v":91.90000000000002,"d":"91.90"}},{"$f":"D14*$B$24/3","v":{"v":30.633333333333336,"d":"30.63"}},{"$f":"E14*$B$24/3","v":{"v":0,"d":"0.00"}},{"v":61.26666666666667,"d":"61.27"},{"v":30.633333333333336,"d":"30.63"},{"v":30.633333333333336,"d":"30.63"},{"v":61.26666666666667,"d":"61.27"},{"v":91.90000000000002,"d":"91.90"},{"v":0,"d":"0.00"},{"v":0,"d":"0.00"},{"v":0,"d":"0.00"}]
["C02",{"$f":"F6","v":84.25},{"$f":"C15*$B$25/3","v":84.25},{"v":56.166666666666664,"d":"56.17"},{"v":0,"d":"0.00"},{"v":56.166666666666664,"d":"56.17"},{"v":28.083333333333332,"d":"28.08"},{"v":56.166666666666664,"d":"56.17"},84.25,84.25,{"v":28.083333333333332,"d":"28.08"},{"v":0,"d":"0.00"},{"v":0,"d":"0.00"}]
["C03",{"v":83.2,"d":"83.20"},{"$f":"C16*$B$26/3","v":{"v":83.2,"d":"83.20"}},{"v":55.46666666666667,"d":"55.47"},{"v":0,"d":"0.00"},{"v":55.46666666666667,"d":"55.47"},{"v":27.733333333333334,"d":"27.73"},{"v":0,"d":"0.00"},{"v":83.2,"d":"83.20"},{"v":83.2,"d":"83.20"},{"v":27.733333333333334,"d":"27.73"},{"v":0,"d":"0.00"},{"v":0,"d":"0.00"}]
["C04",{"v":84.9,"d":"84.90"},{"$f":"C17*$B$27/3","v":{"v":84.9,"d":"84.90"}},{"v":56.6,"d":"56.60"},{"v":0,"d":"0.00"},{"v":56.6,"d":"56.60"},{"v":28.3,"d":"28.30"},{"v":0,"d":"0.00"},{"v":84.9,"d":"84.90"},{"v":84.9,"d":"84.90"},{"v":0,"d":"0.00"},{"v":0,"d":"0.00"},{"v":0,"d":"0.00"}]
["C05",{"v":77.8,"d":"77.80"},{"$f":"C18*$B$28/3","v":{"v":51.86666666666667,"d":"51.87"}},{"v":25.933333333333334,"d":"25.93"},{"v":0,"d":"0.00"},{"v":25.933333333333334,"d":"25.93"},{"v":0,"d":"0.00"},{"v":25.933333333333334,"d":"25.93"},{"v":25.933333333333334,"d":"25.93"},{"v":77.8,"d":"77.80"},{"v":51.86666666666667,"d":"51.87"},{"v":0,"d":"0.00"},{"v":0,"d":"0.00"}]
["Average",null,{"$f":"AVERAGE(C24:C28)","v":{"v":79.22333333333333,"d":"79.22"}},{"v":44.959999999999994,"d":"44.96"},{"v":0,"d":"0.00"},{"v":51.086666666666666,"d":"51.09"},22.95,{"v":22.546666666666667,"d":"22.55"},67.91,84.41,{"v":21.53666666666667,"d":"21.54"},{"v":0,"d":"0.00"},{"v":0,"d":"0.00"}]

{"sheet":"Final Attainment Level","index":14,"n_rows":13,"n_cols":13,"rows_kept":13,"merged":[[0,0,0,12],[1,0,1,12],[2,0,2,12],[3,0,3,12],[4,0,4,12]]}
["R V Institute of Management"]
["CA 17, 26 Main, 36th Cross, 4th T Block, Jayanagar, "]
["Bengaluru, Karnataka  560 041"]
["Final CO-PO Attainment -Batch-2021-23  2nd Semester"]
["Average"]
["Subject Code","SUBJECT","PO1","PO2","PO3","PO4","PO5","PO6","PO7","PO8","PO9","PO10","PO11"]
[{"$f":"'21MBA221'!L6","v":"21MBA221"},{"$f":"'21MBA221- Attainment'!A1","v":"Macro Economics"},{"$f":"'21MBA221- Attainment'!C29","v":{"v":74.43499999999999,"d":"74"}},{"$f":"'21MBA221- Attainment'!D29","v":{"v":85.63499999999999,"d":"86"}},{"$f":"'21MBA221- Attainment'!E29","v":{"v":11.85,"d":"12"}},{"$f":"'21MBA221- Attainment'!F29","v":{"v":45.065,"d":"45"}},{"$f":"'21MBA221- Attainment'!G29","v":0},{"$f":"'21MBA221- Attainment'!H29","v":{"v":71.4125,"d":"71"}},{"$f":"'21MBA221- Attainment'!I29","v":{"v":11.159999999999998,"d":"11"}},{"$f":"'21MBA221- Attainment'!J29","v":{"v":23.444999999999997,"d":"23"}},{"$f":"'21MBA221- Attainment'!K29","v":{"v":34.47,"d":"34"}},{"$f":"'21MBA221- Attainment'!L29","v":{"v":11.504999999999999,"d":"12"}},{"$f":"'21MBA221- Attainment'!M29","v":{"v":39.4,"d":"39"}}]
[{"$f":"'21MBA421'!L6","v":"21MBA421"},{"$f":"'21MBA421-Attainment'!A1","v":"Application of Operations Research in Business"},{"$f":"'21MBA421-Attainment'!C23","v":{"v":19.95,"d":"20"}},{"$f":"'21MBA421-Attainment'!D23","v":{"v":81.875,"d":"82"}},{"$f":"'21MBA421-Attainment'!E23","v":{"v":20.458333333333332,"d":"20"}},{"$f":"'21MBA421-Attainment'!F23","v":0},{"$f":"'21MBA421-Attainment'!G23","v":{"v":7.0249999999999995,"d":"7"}},{"$f":"'21MBA421-Attainment'!H23","v":{"v":34.333333333333336,"d":"34"}},{"$f":"'21MBA421-Attainment'!I23","v":{"v":81.875,"d":"82"}},{"$f":"'21MBA421-Attainment'!J23","v":{"v":34.425,"d":"34"}},{"$f":"'21MBA421-Attainment'!K23","v":{"v":81.875,"d":"82"}},{"$f":"'21MBA421-Attainment'!L23","v":{"v":20.374999999999996,"d":"20"}},{"$f":"'21MBA421-Attainment'!M23","v":{"v":6.833333333333333,"d":"7"}}]
[{"$f":"'21MBA521'!L6","v":"21MBA521"},{"$f":"'21MBA521-Attainment'!A1","v":"Introduction to Business Analytics"},{"$f":"'21MBA521-Attainment'!C28","v":0},{"$f":"'21MBA521-Attainment'!D28","v":{"v":58.526666666666664,"d":"59"}},{"$f":"'21MBA521-Attainment'!E28","v":{"v":11.618333333333334,"d":"12"}},{"$f":"'21MBA521-Attainment'!F28","v":{"v":11.618333333333334,"d":"12"}},{"$f":"'21MBA521-Attainment'!G28","v":{"v":5.501666666666667,"d":"6"}},{"$f":"'21MBA521-Attainment'!H28","v":{"v":40.591666666666676,"d":"41"}},{"$f":"'21MBA521-Attainment'!I28","v":{"v":58.526666666666664,"d":"59"}},{"$f":"'21MBA521-Attainment'!J28","v":{"v":52.7,"d":"53"}},{"$f":"'21MBA521-Attainment'!K28","v":{"v":52.7,"d":"53"}},{"$f":"'21MBA521-Attainment'!L28","v":{"v":6.116666666666666,"d":"6"}},{"$f":"'21MBA521-Attainment'!M28","v":{"v":5.501666666666667,"d":"6"}}]
[{"$f":"'21MBA621'!L6","v":"21MBA621"},{"$f":"'21MBA621-Attainment'!A1","v":"Human Resource Management"},{"$f":"'21MBA621-Attainment'!B27","v":{"v":81.94375,"d":"82"}},{"$f":"'21MBA621-Attainment'!C27","v":{"v":81.94375,"d":"82"}},{"$f":"'21MBA621-Attainment'!D27","v":{"v":75.31875,"d":"75"}},{"$f":"'21MBA621-Attainment'!E27","v":{"v":61.818749999999994,"d":"62"}},{"$f":"'21MBA621-Attainment'!F27","v":{"v":68.00416666666666,"d":"68"}},{"$f":"'21MBA621-Attainment'!G27","v":{"v":75.19375,"d":"75"}},{"$f":"'21MBA621-Attainment'!H27","v":{"v":75.31875,"d":"75"}},{"$f":"'21MBA621-Attainment'!I27","v":{"v":68.43541666666667,"d":"68"}},{"$f":"'21MBA621-Attainment'!J27","v":{"v":81.94375,"d":"82"}},{"$f":"'21MBA621-Attainment'!K27","v":{"v":40.822916666666664,"d":"41"}},{"$f":"'21MBA621-Attainment'!L27","v":{"v":41.25416666666666,"d":"41"}}]
[{"$f":"'21MBA321'!L6","v":"21MBA321"},{"$f":"'21MBA321-Attainment'!A1","v":"Financial Management"},{"$f":"'21MBA321-Attainment'!C27","v":{"v":72.50999999999999,"d":"73"}},{"$f":"'21MBA321-Attainment'!D27","v":{"v":34.04166666666667,"d":"34"}},{"$f":"'21MBA321-Attainment'!E27","v":{"v":9.871666666666666,"d":"10"}},{"$f":"'21MBA321-Attainment'!F27","v":{"v":23.805,"d":"24"}},{"$f":"'21MBA321-Attainment'!G27","v":{"v":24.341666666666665,"d":"24"}},{"$f":"'21MBA321-Attainment'!H27","v":{"v":34.035,"d":"34"}},{"$f":"'21MBA321-Attainment'!I27","v":{"v":29.288333333333334,"d":"29"}},{"$f":"'21MBA321-Attainment'!J27","v":{"v":58.03166666666666,"d":"58"}},{"$f":"'21MBA321-Attainment'!K27","v":{"v":38.99333333333333,"d":"39"}},{"$f":"'21MBA321-Attainment'!L27","v":{"v":14.458333333333332,"d":"14"}},{"$f":"'21MBA321-Attainment'!M27","v":{"v":33.875,"d":"34"}}]
[{"$f":"'21MBA222'!L6","v":"21MBA222"},{"$f":"'21MBA222-Attainment'!A1","v":"Entrepreneurship and Start Up Management"},{"$f":"'21MBA222-Attainment'!C28","v":{"v":69.92500000000001,"d":"70"}},{"$f":"'21MBA222-Attainment'!D28","v":{"v":52.475,"d":"52"}},{"$f":"'21MBA222-Attainment'!E28","v":{"v":63.36833333333334,"d":"63"}},{"$f":"'21MBA222-Attainment'!F28","v":{"v":28.918333333333333,"d":"29"}},{"$f":"'21MBA222-Attainment'!G28","v":{"v":40.66166666666667,"d":"41"}},{"$f":"'21MBA222-Attainment'!H28","v":{"v":86.75500000000001,"d":"87"}},{"$f":"'21MBA222-Attainment'!I28","v":{"v":40.66166666666667,"d":"41"}},{"$f":"'21MBA222-Attainment'!J28","v":{"v":86.75500000000001,"d":"87"}},{"$f":"'21MBA222-Attainment'!K28","v":{"v":75.06166666666667,"d":"75"}},{"$f":"'21MBA222-Attainment'!L28","v":0},{"$f":"'21MBA222-Attainment'!M28","v":0}]
[{"$f":"'21MBA121'!L6","v":"21MBA121"},{"$f":"'21MBA121-Attainment'!A1","v":"Digital Marketing"},{"$f":"'21MBA121-Attainment'!C29","v":{"v":79.22333333333333,"d":"79"}},{"$f":"'21MBA121-Attainment'!D29","v":{"v":44.959999999999994,"d":"45"}},{"$f":"'21MBA121-Attainment'!E29","v":0},{"$f":"'21MBA121-Attainment'!F29","v":{"v":51.086666666666666,"d":"51"}},{"$f":"'21MBA121-Attainment'!G29","v":{"v":22.95,"d":"23"}},{"$f":"'21MBA121-Attainment'!H29","v":{"v":22.546666666666667,"d":"23"}},{"$f":"'21MBA121-Attainment'!I29","v":{"v":67.91,"d":"68"}},{"$f":"'21MBA121-Attainment'!J29","v":{"v":84.41,"d":"84"}},{"$f":"'21MBA121-Attainment'!K29","v":{"v":21.53666666666667,"d":"22"}},{"$f":"'21MBA121-Attainment'!L29","v":0},{"$f":"'21MBA121-Attainment'!M29","v":0}]

{"sheet":"CO Attainment for all Subjects","index":15,"n_rows":59,"n_cols":6,"rows_kept":59,"merged":[[0,0,0,5],[1,0,1,5],[2,0,2,5],[3,0,3,5],[5,0,11,0],[13,0,18,0],[20,0,26,0],[28,0,34,0],[36,0,42,0],[44,0,50,0],[52,0,58,0]]}
["RV Institute of Management"]
["Autonomous Institution Affiliated to BCU "]
["MBA Programme   I Semester"]
["CO -PO Attainment Level 2021-23 Batch 2nd Semester"]
[]
[{"$f":"'21MBA221- Attainment'!A1","v":"Macro Economics"},null,{"$f":"'21MBA221- Attainment'!D3","v":"Internals"},null,{"$f":"'21MBA221- Attainment'!F3","v":"Final CO Attainment"}]
[null,{"$f":"'21MBA221- Attainment'!C4","v":"CO "},{"$f":"'21MBA221- Attainment'!D4","v":"Percentage"},{"$f":"'21MBA221- Attainment'!E4","v":"Level"},{"$f":"'21MBA221- Attainment'!F4","v":"Percentage"},{"$f":"'21MBA221- Attainment'!G4","v":"Level"}]
[null,{"$f":"'21MBA221- Attainment'!C5","v":"CO1"},{"$f":"'21MBA221- Attainment'!D5","v":{"v":65.25,"d":"65"}},{"$f":"'21MBA221- Attainment'!E5","v":"1"},{"$f":"'21MBA221- Attainment'!F5","v":{"v":88.875,"d":"89"}},{"$f":"'21MBA221- Attainment'!G5","v":"3"}]
[null,{"$f":"'21MBA221- Attainment'!C6","v":"CO2"},{"$f":"'21MBA221- Attainment'!D6","v":61},{"$f":"'21MBA221- Attainment'!E6","v":"1"},{"$f":"'21MBA221- Attainment'!F6","v":{"v":87.6,"d":"88"}},{"$f":"'21MBA221- Attainment'!G6","v":"3"}]
[null,{"$f":"'21MBA221- Attainment'!C7","v":"CO3"},{"$f":"'21MBA221- Attainment'!D7","v":48},{"$f":"'21MBA221- Attainment'!E7","v":1},{"$f":"'21MBA221- Attainment'!F7","v":{"v":83.69999999999999,"d":"84"}},{"$f":"'21MBA221- Attainment'!G7","v":"3"}]
[null,{"$f":"'21MBA221- Attainment'!C8","v":"CO4"},{"$f":"'21MBA221- Attainment'!D8","v":59},{"$f":"'21MBA221- Attainment'!E8","v":"-"},{"$f":"'21MBA221- Attainment'!F8","v":87},{"$f":"'21MBA221- Attainment'!G8","v":"3"}]
[null,{"$f":"'21MBA221- Attainment'!C9","v":"CO5"},{"$f":"'21MBA221- Attainment'!D9","v":39},{"$f":"'21MBA221- Attainment'!E9","v":"-"},{"$f":"'21MBA221- Attainment'!F9","v":81},{"$f":"'21MBA221- Attainment'!G9","v":"3"}]
[]
[{"$f":"'21MBA421-Attainment'!A1","v":"Application of Operations Research in Business"},null,{"$f":"'21MBA421-Attainment'!D3","v":"Internals"},null,{"$f":"'21MBA421-Attainment'!F3","v":"Final CO Attainment"}]
[null,{"$f":"'21MBA421-Attainment'!C4","v":"CO "},{"$f":"'21MBA421-Attainment'!D4","v":"Percentage"},{"$f":"'21MBA421-Attainment'!E4","v":"Level"},{"$f":"'21MBA421-Attainment'!F4","v":"Percentage"},{"$f":"'21MBA421-Attainment'!G4","v":"Level"}]
[null,{"$f":"'21MBA421-Attainment'!C5","v":"CO1"},{"$f":"'21MBA421-Attainment'!D5","v":69},{"$f":"'21MBA421-Attainment'!E5","v":"1"},{"$f":"'21MBA421-Attainment'!F5","v":83},{"$f":"'21MBA421-Attainment'!G5","v":"3"}]
[null,{"$f":"'21MBA421-Attainment'!C6","v":"CO2"},{"$f":"'21MBA421-Attainment'!D6","v":{"v":73.33333333333333,"d":"73"}},{"$f":"'21MBA421-Attainment'!E6","v":"2"},{"$f":"'21MBA421-Attainment'!F6","v":{"v":84.3,"d":"84"}},{"$f":"'21MBA421-Attainment'!G6","v":"3"}]
[null,{"$f":"'21MBA421-Attainment'!C7","v":"CO3"},{"$f":"'21MBA421-Attainment'!D7","v":53},{"$f":"'21MBA421-Attainment'!E7","v":"-"},{"$f":"'21MBA421-Attainment'!F7","v":{"v":78.19999999999999,"d":"78"}},{"$f":"'21MBA421-Attainment'!G7","v":"2"}]
[null,{"$f":"'21MBA421-Attainment'!C8","v":"CO4"},{"$f":"'21MBA421-Attainment'!D8","v":{"v":65.66666666666667,"d":"66"}},{"$f":"'21MBA421-Attainment'!E8","v":"1"},{"$f":"'21MBA421-Attainment'!F8","v":82},{"$f":"'21MBA421-Attainment'!G8","v":"3"}]
[]
[{"$f":"'21MBA521-Attainment'!A1","v":"Introduction to Business Analytics"},null,{"$f":"'21MBA521-Attainment'!D3","v":"Internals"},null,{"$f":"'21MBA521-Attainment'!F3","v":"Final CO Attainment"}]
[null,{"$f":"'21MBA521-Attainment'!C4","v":"CO "},{"$f":"'21MBA521-Attainment'!D4","v":"Percentage"},{"$f":"'21MBA521-Attainment'!E4","v":"Level"},{"$f":"'21MBA521-Attainment'!F4","v":"Percentage"},{"$f":"'21MBA521-Attainment'!G4","v":"Level"}]
[null,{"$f":"'21MBA521-Attainment'!C5","v":"CO1"},{"$f":"'21MBA521-Attainment'!D5","v":{"v":72.5,"d":"73"}},{"$f":"'21MBA521-Attainment'!E5","v":"2"},{"$f":"'21MBA521-Attainment'!F5","v":{"v":91.75,"d":"92"}},{"$f":"'21MBA521-Attainment'!G5","v":"3"}]
[null,{"$f":"'21MBA521-Attainment'!C6","v":"CO2"},{"$f":"'21MBA521-Attainment'!D6","v":{"v":41.75,"d":"42"}},{"$f":"'21MBA521-Attainment'!E6","v":"-"},{"$f":"'21MBA521-Attainment'!F6","v":{"v":82.525,"d":"83"}},{"$f":"'21MBA521-Attainment'!G6","v":"3"}]
[null,{"$f":"'21MBA521-Attainment'!C7","v":"CO3"},{"$f":"'21MBA521-Attainment'!D7","v":58},{"$f":"'21MBA521-Attainment'!E7","v":"-"},{"$f":"'21MBA521-Attainment'!F7","v":{"v":87.4,"d":"87"}},{"$f":"'21MBA521-Attainment'!G7","v":"3"}]
[null,{"$f":"'21MBA521-Attainment'!C8","v":"CO4"},{"$f":"'21MBA521-Attainment'!D8","v":{"v":55.25,"d":"55"}},{"$f":"'21MBA521-Attainment'!E8","v":"-"},{"$f":"'21MBA521-Attainment'!F8","v":{"v":86.575,"d":"87"}},{"$f":"'21MBA521-Attainment'!G8","v":"3"}]
[null,{"$f":"'21MBA521-Attainment'!C9","v":"CO5"},{"$f":"'21MBA521-Attainment'!D9","v":69},{"$f":"'21MBA521-Attainment'!E9","v":"1"},{"$f":"'21MBA521-Attainment'!F9","v":{"v":90.7,"d":"91"}},{"$f":"'21MBA521-Attainment'!G9","v":"3"}]
[]
[{"$f":"'21MBA621-Attainment'!A1","v":"Human Resource Management"},null,{"$f":"'21MBA621-Attainment'!D3","v":"Internals"},null,{"$f":"'21MBA621-Attainment'!F3","v":"Final CO Attainment"}]
[null,{"$f":"'21MBA621-Attainment'!C4","v":"CO "},{"$f":"'21MBA621-Attainment'!D4","v":"Percentage"},{"$f":"'21MBA621-Attainment'!E4","v":"Level"},{"$f":"'21MBA621-Attainment'!F4","v":"Percentage"},{"$f":"'21MBA621-Attainment'!G4","v":"Level"}]
[null,{"$f":"'21MBA621-Attainment'!C5","v":"CO1"},{"$f":"'21MBA621-Attainment'!D5","v":34},{"$f":"'21MBA621-Attainment'!E5","v":"-"},{"$f":"'21MBA621-Attainment'!F5","v":{"v":79.5,"d":"80"}},{"$f":"'21MBA621-Attainment'!G5","v":"2"}]
[null,{"$f":"'21MBA621-Attainment'!C6","v":"CO2"},{"$f":"'21MBA621-Attainment'!D6","v":{"v":44.333333333333336,"d":"44"}},{"$f":"'21MBA621-Attainment'!E6","v":"-"},{"$f":"'21MBA621-Attainment'!F6","v":{"v":82.6,"d":"83"}},{"$f":"'21MBA621-Attainment'!G6","v":"3"}]
[null,{"$f":"'21MBA621-Attainment'!C7","v":"CO3"},{"$f":"'21MBA621-Attainment'!D7","v":{"v":51.25,"d":"51"}},{"$f":"'21MBA621-Attainment'!E7","v":"-"},{"$f":"'21MBA621-Attainment'!F7","v":{"v":84.675,"d":"85"}},{"$f":"'21MBA621-Attainment'!G7","v":"3"}]
[null,{"$f":"'21MBA621-Attainment'!C8","v":"CO4"},{"$f":"'21MBA621-Attainment'!D8","v":39},{"$f":"'21MBA621-Attainment'!E8","v":"-"},{"$f":"'21MBA621-Attainment'!F8","v":81},{"$f":"'21MBA621-Attainment'!G8","v":"3"}]
[null,{"$f":"'21MBA621-Attainment'!C9","v":"CO5"},{"$f":"'21MBA621-Attainment'!D9","v":{"v":47.5,"d":"48"}},{"$f":"'21MBA621-Attainment'!E9","v":"-"},{"$f":"'21MBA621-Attainment'!F9","v":{"v":83.55,"d":"84"}},{"$f":"'21MBA621-Attainment'!G9","v":"3"}]
[]
[{"$f":"'21MBA222-Attainment'!A1","v":"Entrepreneurship and Start Up Management"},null,{"$f":"'21MBA222-Attainment'!D3","v":"Internals"},null,{"$f":"'21MBA222-Attainment'!F3","v":"Final CO Attainment"}]
[null,{"$f":"'21MBA222-Attainment'!C4","v":"CO "},{"$f":"'21MBA222-Attainment'!D4","v":"Percentage"},{"$f":"'21MBA222-Attainment'!E4","v":"Level"},{"$f":"'21MBA222-Attainment'!F4","v":"Percentage"},{"$f":"'21MBA222-Attainment'!G4","v":"Level"}]
[null,{"$f":"'21MBA222-Attainment'!C5","v":"CO1"},{"$f":"'21MBA222-Attainment'!D5","v":56},{"$f":"'21MBA222-Attainment'!E5","v":"-"},{"$f":"'21MBA222-Attainment'!F5","v":{"v":86.8,"d":"87"}},{"$f":"'21MBA222-Attainment'!G5","v":"3"}]
[null,{"$f":"'21MBA222-Attainment'!C6","v":"CO2"},{"$f":"'21MBA222-Attainment'!D6","v":62},{"$f":"'21MBA222-Attainment'!E6","v":"1"},{"$f":"'21MBA222-Attainment'!F6","v":{"v":88.6,"d":"89"}},{"$f":"'21MBA222-Attainment'!G6","v":"3"}]
[null,{"$f":"'21MBA222-Attainment'!C7","v":"CO3"},{"$f":"'21MBA222-Attainment'!D7","v":{"v":60.25,"d":"60"}},{"$f":"'21MBA222-Attainment'!E7","v":"1"},{"$f":"'21MBA222-Attainment'!F7","v":{"v":88.075,"d":"88"}},{"$f":"'21MBA222-Attainment'!G7","v":"3"}]
[null,{"$f":"'21MBA222-Attainment'!C8","v":"CO4"},{"$f":"'21MBA222-Attainment'!D8","v":48},{"$f":"'21MBA222-Attainment'!E8","v":"-"},{"$f":"'21MBA222-Attainment'!F8","v":{"v":84.4,"d":"84"}},{"$f":"'21MBA222-Attainment'!G8","v":"3"}]
[null,{"$f":"'21MBA222-Attainment'!C9","v":"CO5"},{"$f":"'21MBA222-Attainment'!D9","v":53},{"$f":"'21MBA222-Attainment'!E9","v":"-"},{"$f":"'21MBA222-Attainment'!F9","v":{"v":85.9,"d":"86"}},{"$f":"'21MBA222-Attainment'!G9","v":"3"}]
[]
[{"$f":"'21MBA321-Attainment'!A1","v":"Financial Management"},null,{"$f":"'21MBA321-Attainment'!D3","v":"Internals"},null,{"$f":"'21MBA321-Attainment'!F3","v":"Final CO Attainment"}]
[null,{"$f":"'21MBA321-Attainment'!C4","v":"CO "},{"$f":"'21MBA321-Attainment'!D4","v":"Percentage"},{"$f":"'21MBA321-Attainment'!E4","v":"Level"},{"$f":"'21MBA321-Attainment'!F4","v":"Percentage"},{"$f":"'21MBA321-Attainment'!G4","v":"Level"}]
[null,{"$f":"'21MBA321-Attainment'!C5","v":"CO1"},{"$f":"'21MBA321-Attainment'!D5","v":{"v":55.25,"d":"55"}},{"$f":"'21MBA321-Attainment'!E5","v":"-"},{"$f":"'21MBA321-Attainment'!F5","v":{"v":76.77499999999999,"d":"77"}},{"$f":"'21MBA321-Attainment'!G5","v":"2"}]
[null,{"$f":"'21MBA321-Attainment'!C6","v":"CO2"},{"$f":"'21MBA321-Attainment'!D6","v":{"v":46.25,"d":"46"}},{"$f":"'21MBA321-Attainment'!E6","v":"-"},{"$f":"'21MBA321-Attainment'!F6","v":{"v":74.07499999999999,"d":"74"}},{"$f":"'21MBA321-Attainment'!G6","v":"2"}]
[null,{"$f":"'21MBA321-Attainment'!C7","v":"CO3"},{"$f":"'21MBA321-Attainment'!D7","v":37},{"$f":"'21MBA321-Attainment'!E7","v":"-"},{"$f":"'21MBA321-Attainment'!F7","v":{"v":71.3,"d":"71"}},{"$f":"'21MBA321-Attainment'!G7","v":"2"}]
[null,{"$f":"'21MBA321-Attainment'!C8","v":"CO4"},{"$f":"'21MBA321-Attainment'!D8","v":{"v":37.666666666666664,"d":"38"}},{"$f":"'21MBA321-Attainment'!E8","v":"-"},{"$f":"'21MBA321-Attainment'!F8","v":{"v":71.5,"d":"72"}},{"$f":"'21MBA321-Attainment'!G8","v":"2"}]
[null,{"$f":"'21MBA321-Attainment'!C9","v":"CO5"},{"$f":"'21MBA321-Attainment'!D9","v":29},{"$f":"'21MBA321-Attainment'!E9","v":"-"},{"$f":"'21MBA321-Attainment'!F9","v":{"v":68.89999999999999,"d":"69"}},{"$f":"'21MBA321-Attainment'!G9","v":"1"}]
[]
[{"$f":"'21MBA121-Attainment'!A1:G1","v":"Digital Marketing"},null,{"$f":"'21MBA121-Attainment'!D3","v":"Internals"},null,{"$f":"'21MBA121-Attainment'!F3","v":"Final CO Attainment"}]
[null,{"$f":"'21MBA121-Attainment'!C4","v":"CO "},{"$f":"'21MBA121-Attainment'!D4","v":"Percentage"},{"$f":"'21MBA121-Attainment'!E4","v":"Level"},{"$f":"'21MBA121-Attainment'!F4","v":"Percentage"},{"$f":"'21MBA121-Attainment'!G4","v":"Level"}]
[null,{"$f":"'21MBA121-Attainment'!C5","v":"CO1"},{"$f":"'21MBA121-Attainment'!D5","v":73},{"$f":"'21MBA121-Attainment'!E5","v":"2"},{"$f":"'21MBA121-Attainment'!F5","v":{"v":91.9,"d":"92"}},{"$f":"'21MBA121-Attainment'!G5","v":"3"}]
[null,{"$f":"'21MBA121-Attainment'!C6","v":"CO2"},{"$f":"'21MBA121-Attainment'!D6","v":{"v":47.5,"d":"48"}},{"$f":"'21MBA121-Attainment'!E6","v":"-"},{"$f":"'21MBA121-Attainment'!F6","v":{"v":84.25,"d":"84"}},{"$f":"'21MBA121-Attainment'!G6","v":"3"}]
[null,{"$f":"'21MBA121-Attainment'!C7","v":"CO3"},{"$f":"'21MBA121-Attainment'!D7","v":44},{"$f":"'21MBA121-Attainment'!E7","v":"-"},{"$f":"'21MBA121-Attainment'!F7","v":{"v":83.2,"d":"83"}},{"$f":"'21MBA121-Attainment'!G7","v":"3"}]
[null,{"$f":"'21MBA121-Attainment'!C8","v":"CO4"},{"$f":"'21MBA121-Attainment'!D8","v":{"v":49.666666666666664,"d":"50"}},{"$f":"'21MBA121-Attainment'!E8","v":"-"},{"$f":"'21MBA121-Attainment'!F8","v":{"v":84.9,"d":"85"}},{"$f":"'21MBA121-Attainment'!G8","v":"3"}]
[null,{"$f":"'21MBA121-Attainment'!C9","v":"CO5"},{"$f":"'21MBA121-Attainment'!D9","v":26},{"$f":"'21MBA121-Attainment'!E9","v":"-"},{"$f":"'21MBA121-Attainment'!F9","v":{"v":77.8,"d":"78"}},{"$f":"'21MBA121-Attainment'!G9","v":"2"}]